{"text_format":"1","workbook":"xlsx","n_sheets":31,"sheets":["Strona tytułowa","Podsumowanie","I. Organizacja","II.Plan i spraw.","III. Realizacja ZZ","III. Realizacja ZZ 1","III. Realizacja ZZ 2","III. Realizacja ZZ 3","III. Realizacja ZZ 4","III. Realizacja ZZ 5","III. Realizacja ZZ 6","III. Realizacja ZZ 7","III. Realizacja ZZ 8","III. Realizacja ZZ 9","III. Realizacja ZZ 10","III. Realizacja CD","III. Realizacja CD 1","III. Realizacja CD 2","III. Realizacja CD 3","III. Realizacja CD 4","III. Realizacja CD 5","III. Realizacja CD 6","III. Realizacja CD 7","III. Realizacja CD 8","III. Realizacja CD 9","III. Realizacja CD 10","Informacja 1","Informacja 2","Wskaźniki benchmarkingowe","Analiza budżetu czasu","listy"],"not_rendered":{"charts":1,"images":1,"macros":1,"external_links":1,"defined_names":27,"comments":24,"pivot_tables":0},"unopened":[],"bounds":{"document_bytes":16777216,"sheet_cells":100000,"rows_first":2000,"rows_last":500,"rows_between":2000,"halvings":0,"cell_chars":16384,"cell_head_chars":4096},"cells_cut":0,"cells_raw":0,"read":"whole","date_system":"1900"}

{"sheet":"Strona tytułowa","index":0,"n_rows":21,"n_cols":19,"rows_kept":21,"cut":false,"hidden":false,"merged":[[20,1,29,16],[12,18,13,24],[14,18,15,24],[1,18,1,24],[2,18,2,24],[3,18,4,24],[5,18,6,24],[7,18,11,24],[15,3,15,4],[18,1,18,16],[1,1,2,16],[3,1,12,16],[15,7,15,15],[16,7,16,15],[19,1,19,16]]}
[]
[null,"ver.2.0.2018",null,null,null,null,null,null,null,null,null,null,null,null,null,null,null,null,"Formularz samooceny opracowano na podstawie:"]
[null,null,null,null,null,null,null,null,null,null,null,null,null,null,null,null,null,null,"ustawy z dnia 27 sierpnia 2009 r. \no finansach publicznych "]
[null,"Samoocena funkcji audytu wewnętrznego\nQuality @w",null,null,null,null,null,null,null,null,null,null,null,null,null,null,null,null,"rozporządzenia Ministra Finansów z dnia 4 września 2015 r. \nw sprawie audytu wewnętrznego oraz informacji o pracy i wynikach tego audytu "]
[]
[null,null,null,null,null,null,null,null,null,null,null,null,null,null,null,null,null,null," Standardów audytu wewnętrznego \ndla jednostek sektora finansów publicznych"]
[]
[null,null,null,null,null,null,null,null,null,null,null,null,null,null,null,null,null,null,"Dodatkowo, w trakcie prac nad formularzem wykorzystano materiały opracowane przez pracowników \nDepartamentu Polityki Wydatkowej Ministerstwa Finansów:"]
[]
[]
[]
[]
[null,null,null,null,null,null,null,null,null,null,null,null,null,null,null,null,null,null,"Komentarze i wyjaśnienia do rozporządzenia Ministra Finansów \nz dnia 4 września 2015 r. w sprawie audytu wewnętrznego \noraz informacji o pracy i wynikach tego audytu "]
[]
[null,null,null,null,null,null,null,null,null,null,null,null,null,null,null,null,null,null,"Zestawienie przepisów rozporządzenia Ministra Finansów ze standardami oraz Poradnikami do Międzynarodowych Standardów Audytu Wewnętrznego "]
[null,null,null,"przeprowadzona za rok:",null,null,"w:"]
[null,null,null,null,null,null,null,"nazwa jednostki"]
[]
[]
[null,"Formularz jest bezpłatny i został przygotowany przez pracowników Departamentu Polityki Wydatkowej, w ramach realizacji zadań koordynacyjnych Ministra Finansów w zakresie audytu wewnętrznego."]
[null,"Formularz został udostępniony na potrzeby jednostek sektora finansów publicznych, w których audyt wewnętrzny prowadzi audytor wewnętrzny zatrudniony w jednostce."]

{"sheet":"Podsumowanie","index":1,"n_rows":41,"n_cols":21,"rows_kept":41,"cut":false,"hidden":false,"merged":[[28,14,30,14],[55,7,55,8],[66,7,66,8],[31,11,31,12],[28,3,30,3],[28,4,30,10],[28,11,30,12],[56,3,56,4],[58,7,58,8],[53,3,53,4],[66,3,66,4],[50,11,50,12],[50,3,50,4],[50,7,50,8],[52,3,52,6],[64,7,64,8],[28,15,30,15],[67,3,67,4],[63,3,63,4],[64,3,64,4],[63,7,63,8],[52,11,52,15],[53,11,53,12],[54,11,54,12],[58,11,58,12],[59,11,59,12],[56,7,56,8],[57,7,57,8],[53,7,53,8],[54,7,54,8],[48,3,48,4],[54,3,54,4],[65,7,65,8],[59,7,59,8],[55,3,55,4],[62,3,62,6],[58,3,58,4],[59,3,59,4],[60,3,60,4],[36,11,36,12],[44,11,44,12],[45,11,45,12],[47,11,47,12],[44,7,44,8],[39,4,41,12],[44,3,44,4],[47,3,47,4],[46,11,46,15],[11,3,11,12],[9,13,10,14],[65,3,65,4],[60,11,60,12],[61,11,61,12],[45,7,45,8],[49,3,49,4],[48,11,48,12],[49,11,49,12],[46,7,46,8],[47,7,47,8],[48,7,48,8],[49,7,49,8],[45,3,45,4],[46,3,46,4],[57,3,57,4],[18,15,20,15],[23,15,25,15],[12,11,12,12],[1,1,1,12],[13,4,15,10],[13,3,15,3],[18,3,20,3],[18,4,20,10],[8,13,8,14],[8,3,8,12],[13,11,15,12],[16,11,16,12],[18,11,20,12],[9,3,10,12],[12,4,12,10],[11,13,11,14],[4,19,19,21],[3,1,6,17],[33,3,35,10],[23,3,25,3],[23,4,25,10],[33,14,35,14],[33,15,35,15],[33,11,35,12],[9,15,10,15],[21,11,21,12],[23,11,25,12],[26,11,26,12],[13,14,15,14],[18,14,20,14],[23,14,25,14],[13,15,15,15]]}
[]
[]
[]
[null,"Quality @w "]
[null,null,null,null,null,null,null,null,null,null,null,null,null,null,null,null,null,null,null,"znak ! - oznacza, że zidentyfikowano niezgodność/-ści \nz obowiązującymi przepisami prawa. \n\n(z prawej strony znaku podano liczbę ww. niezgodności)"]
[]
[]
[]
[]
[null,null,null,{"$f":"'Strona tytułowa'!$H$16","v":0},null,null,null,null,null,null,null,null,null,{"$f":"'Strona tytułowa'!$F$16","v":0},null,{"$f":"'Strona tytułowa'!$B$2","v":"ver.2.0.2018"}]
[]
[null,null,null,"nazwa jednostki",null,null,null,null,null,null,null,null,null,"rok samooceny"]
[null,null,null,null,"blok tematyczny",null,null,null,null,null,null,"liczba uzyskanych punktów (suma \"+\")",null,null,"stan wypełnienia arkusza","zidentyfikowano niezgodność \nz przepisami prawa"]
[null,null,null,"I.","ORGANIZACJA ",null,null,null,null,null,null,{"$f":"'I. Organizacja'!J12","v":0},null,null,{"$f":"'I. Organizacja'!L12","v":0},{"$f":"IF('I. Organizacja'!N12>=1,\"!\",\"\")","v":""}]
[null,null,null,null,null,null,null,null,null,null,null,null,null,null,null,null,{"$f":"'I. Organizacja'!N12","v":0}]
[]
[null,null,null,null,null,null,null,null,null,null,null,"0                                              40"]
[]
[null,null,null,"II.","PLANOWANIE I SPRAWOZDAWCZOŚĆ",null,null,null,null,null,null,{"$f":"'II.Plan i spraw.'!$J$12","v":0},null,null,{"$f":"'II.Plan i spraw.'!$L$12","v":0},{"$f":"IF('II.Plan i spraw.'!N12>=1,\"!\",\"\")","v":""}]
[null,null,null,null,null,null,null,null,null,null,null,null,null,null,null,null,{"$f":"'II.Plan i spraw.'!$N$12","v":0}]
[]
[null,null,null,null,null,null,null,null,null,null,null,"0                                               35"]
[]
[null,null,null,"III.A","REALIZACJA ZADAŃ AUDYTOWYCH - ZADANIA ZAPEWNIAJĄCE",null,null,null,null,null,null,{"$f":"'III. Realizacja ZZ'!J12","v":0},null,null,{"$f":"'III. Realizacja ZZ'!L12","v":0},{"$f":"IF('III. Realizacja ZZ'!N12>=1,\"!\",\"\")","v":""}]
[null,null,null,null,null,null,null,null,null,null,null,null,null,null,null,null,{"$f":"'III. Realizacja ZZ'!N12","v":0}]
[]
[null,null,null,null,null,null,null,null,null,null,null,"0                                              49"]
[]
[null,null,null,"III.B","REALIZACJA ZADAŃ AUDYTOWYCH - CZYNNOŚCI DORADCZE",null,null,null,null,null,null,{"$f":"'III. Realizacja CD'!J12","v":0},null,null,{"$f":"'III. Realizacja CD'!L12","v":0},{"$f":"IF('III. Realizacja CD'!N12>=1,\"!\",\"\")","v":""}]
[null,null,null,null,null,null,null,null,null,null,null,null,null,null,null,null,{"$f":"'III. Realizacja CD'!$N$12","v":0}]
[]
[null,null,null,null,null,null,null,null,null,null,null,"0                                              16"]
[]
[null,null,null,"ŁĄCZNA LICZBA PUNKTÓW: ",null,null,null,null,null,null,null,{"$f":"L14+L19+L24+L29","v":0},null,null,{"$f":"U41/140","v":0},{"$f":"IF(Q35>=1,\"!\",\"\")","v":""}]
[null,null,null,null,null,null,null,null,null,null,null,null,null,null,null,null,{"$f":"Q15+Q20+Q25+Q30","v":0}]
[]
[null,null,null,null,null,null,null,null,null,null,null,"0                                               140",null,null,null,null,null,null,null,null,{"$f":"'I. Organizacja'!J12+'I. Organizacja'!K12","v":0}]
[null,null,null,null,null,null,null,null,null,null,null,null,null,null,null,null,null,null,null,null,{"$f":"'II.Plan i spraw.'!J12+'II.Plan i spraw.'!K12","v":0}]
[null,null,null,null,null,null,null,null,null,null,null,null,null,null,null,null,null,null,null,null,{"$f":"'III. Realizacja ZZ'!J12+'III. Realizacja ZZ'!K12","v":0}]
[null,null,null,null,"Brawo, uzyskałeś maksymalną liczbę punktów !!! \nGratulujemy wyniku i liczymy, że utrzymasz ten poziom w przyszłym roku.",null,null,null,null,null,null,null,null,null,null,null,null,null,null,null,{"$f":"'III. Realizacja CD'!J12+'III. Realizacja CD'!K12","v":0}]
[null,null,null,null,null,null,null,null,null,null,null,null,null,null,null,null,null,null,null,null,{"$f":"SUM(U37:U40)","v":0}]

{"sheet":"I. Organizacja","index":2,"n_rows":108,"n_cols":25,"rows_kept":108,"cut":false,"hidden":false,"merged":[[84,3,84,8],[84,9,84,10],[84,11,84,12],[84,16,84,18],[86,3,86,8],[86,9,86,10],[86,11,86,12],[86,16,86,18],[80,3,80,8],[80,9,80,10],[80,11,80,12],[80,16,80,18],[82,3,82,8],[82,9,82,10],[82,11,82,12],[82,16,82,18],[58,3,58,8],[58,9,58,10],[58,11,58,12],[58,16,58,18],[60,3,60,8],[60,9,60,10],[60,11,60,12],[60,16,60,18],[105,3,105,8],[105,9,105,10],[105,11,105,12],[105,16,105,18],[97,3,97,8],[97,9,97,10],[97,11,97,12],[97,16,97,18],[99,3,99,8],[99,9,99,10],[99,11,99,12],[99,16,99,18],[93,11,93,12],[94,2,94,8],[94,11,94,12],[95,2,95,12],[107,3,107,8],[107,9,107,10],[107,11,107,12],[107,16,107,18],[101,3,101,8],[101,9,101,10],[101,11,101,12],[101,16,101,18],[103,3,103,8],[103,9,103,10],[103,11,103,12],[103,16,103,18],[95,14,95,20],[96,9,96,10],[96,11,96,12],[96,16,96,18],[88,3,88,8],[88,9,88,10],[88,11,88,12],[88,16,88,18],[90,3,90,8],[90,9,90,10],[90,11,90,12],[90,16,90,18],[92,3,92,8],[92,9,92,10],[92,11,92,12],[92,16,92,18],[76,2,76,12],[76,14,76,20],[77,9,77,10],[77,11,77,12],[77,16,77,18],[78,3,78,8],[78,9,78,10],[78,11,78,12],[78,16,78,18],[69,3,69,8],[69,9,69,10],[69,11,69,12],[69,16,69,18],[74,11,74,12],[75,2,75,8],[75,11,75,12],[71,3,71,8],[71,9,71,10],[71,11,71,12],[71,16,71,18],[73,3,73,8],[73,9,73,10],[73,11,73,12],[73,16,73,18],[65,3,65,8],[65,9,65,10],[65,11,65,12],[65,16,65,18],[67,3,67,8],[67,9,67,10],[67,11,67,12],[67,16,67,18],[61,11,61,12],[62,2,62,8],[62,11,62,12],[63,2,63,12],[63,14,63,20],[64,9,64,10],[64,11,64,12],[64,16,64,18],[54,3,54,8],[54,9,54,10],[54,11,54,12],[54,16,54,18],[56,3,56,8],[56,9,56,10],[56,11,56,12],[56,16,56,18],[50,3,50,8],[50,9,50,10],[50,11,50,12],[50,16,50,18],[52,3,52,8],[52,9,52,10],[52,11,52,12],[52,16,52,18],[46,3,46,8],[46,9,46,10],[46,11,46,12],[46,16,46,18],[48,3,48,8],[48,9,48,10],[48,11,48,12],[48,16,48,18],[42,3,42,8],[42,9,42,10],[42,11,42,12],[42,16,42,18],[44,3,44,8],[44,9,44,10],[44,11,44,12],[44,16,44,18],[38,3,38,8],[38,9,38,10],[38,11,38,12],[38,16,38,18],[40,3,40,8],[40,9,40,10],[40,11,40,12],[40,16,40,18],[34,11,34,12],[35,2,35,8],[35,11,35,12],[36,2,36,12],[36,14,36,20],[37,9,37,10],[37,11,37,12],[37,16,37,18],[31,3,31,8],[31,9,31,10],[31,11,31,12],[31,16,31,18],[33,3,33,8],[33,9,33,10],[33,11,33,12],[33,16,33,18],[27,3,27,8],[27,9,27,10],[27,11,27,12],[27,16,27,18],[29,3,29,8],[29,9,29,10],[29,11,29,12],[29,16,29,18],[23,3,23,8],[23,9,23,10],[23,11,23,12],[23,16,23,18],[25,3,25,8],[25,9,25,10],[25,11,25,12],[25,16,25,18],[19,3,19,8],[19,9,19,10],[19,11,19,12],[19,16,19,18],[21,3,21,8],[21,9,21,10],[21,11,21,12],[21,16,21,18],[15,2,15,12],[15,14,15,20],[16,9,16,10],[16,11,16,12],[16,16,16,18],[17,3,17,8],[17,9,17,10],[17,11,17,12],[17,16,17,18],[11,3,11,8],[11,11,11,12],[11,14,14,20],[13,11,13,12],[14,2,14,8],[14,11,14,12],[1,1,1,11],[3,1,6,21],[7,3,7,10],[7,14,7,20],[8,2,9,10],[8,11,9,11],[8,12,9,12],[8,14,10,20],[10,3,10,8],[10,11,10,12]]}
[]
[]
[]
[null,"Quality @w "]
[]
[]
[]
[null,null,null,null,null,null,null,null,null,null,null,null,null,"data rozpoczęcia wypełniania niniejszego arkusza","liczba uzyskanych punktów w bloku tematycznym"]
[null,null,{"$f":"'Strona tytułowa'!$H$16","v":0},null,null,null,null,null,null,null,null,{"$f":"'Strona tytułowa'!$F$16","v":0},{"$f":"'Strona tytułowa'!$B$2","v":"ver.2.0.2018"},null,{"$f":"J12","v":0}]
[null,null,null,null,null,null,null,null,null,null,null,null,null,null,null,null,null,null,null,null,null,null,null,null,{"$f":"J12+K12","v":0}]
[null,null,null,"blok tematyczny",null,null,null,null,null,"tak","nie","% udzielonych odpowiedzi"]
[null,null,"I.","ORGANIZACJA",null,null,null,null,null,{"$f":"J15+J36+J63+J76+J95","v":0},{"$f":"K15+K36+K63+K76+K95","v":0},{"$f":"(J12+K12)/40","v":0},null,{"$f":"COUNTIF(N18:N108,\"!\")","v":0},"0                                                                                                                                                                                                                                                                                                              40"]
[null,null,null,null,null,null,null,null,null,{"$f":"J12/(J12+K12)","v":{"$error":"#DIV/0!"}},{"$f":"K12/(K12+J12)","v":{"$error":"#DIV/0!"}}]
[null,null,null,null,null,null,null,null,null,"tak","nie","% udzielonych odpowiedzi",null,"niezgodność z przepisami"]
[null,"I.1.","Cel, uprawnienia i odpowiedzialność audytu wewnętrznego ",null,null,null,null,null,null,{"$f":"COUNTIF(J18:J34,\"tak\")","v":0},{"$f":"COUNTIF(J18:J34,\"*\")-J15","v":0},{"$f":"COUNTIF(J18:J34,\"*\")/9","v":0}]
[null,null,"ustawa: art. 273 ust. 2; art. 282 ust. 2; art. 282 ust. 3; \nstandardy: grupa 1000",null,null,null,null,null,null,null,null,null,null,null,"NALEŻY WSKAZAĆ ZAKRES ZIDENTYFIKOWANEJ NIEPRAWIDŁOWOŚCI ORAZ ZAPLANOWAĆ I ZREALIZOWAĆ \nDZIAŁANIA KORYGUJĄCE/NAPRAWCZE\nW tym celu proszę wypełnić poniższe komórki.\n"]
[null,null,null,null,null,null,null,null,null,"odpowiedź",null,"dowód/potwierdzenie dla pełnej \nlub częściowej zgodności/komentarz",null,null,"zakres zidentyfikowanej niezgodności\nw przypadku częściowej niezgodności należy wymienić i opisać te elementy, które wymagają działań korygujących/naprawczych",null,"planowane działania korygujące/naprawcze",null,null,null,"termin realizacji"]
[null,{"$f":"$B$15","v":"I.1."},1,"Czy w karcie audytu lub dokumencie o innej nazwie lub tytule, statuującym audyt wewnętrzny w jednostce zawarto wskazanie kierowania się przez audytora wewnętrznego standardami audytu wewnętrznego, o których mowa w art. 273 ust. 1 ustawy?",null,null,null,null,null,null,null,null,null,{"$f":"IF(J18=\"nie\",\"!\",\"\")","v":""}]
[]
[null,{"$f":"$B$15","v":"I.1."},2,"Czy w karcie audytu lub dokumencie o innej nazwie lub tytule, statuującym audyt wewnętrzny w jednostce zagwarantowano audytorowi wewnętrznemu prawo wstępu do pomieszczeń jednostki oraz prawo do wglądu do wszelkich dokumentów, informacji i danych oraz do innych materiałów związanych z funkcjonowaniem jednostki, w tym utrwalonych na elektronicznych nośnikach danych, jak również do sporządzania ich kopii, odpisów, wyciągów, zestawień lub wydruków, z zachowaniem przepisów o tajemnicy ustawowo chronionej?",null,null,null,null,null,null,null,null,null,{"$f":"IF(J20=\"nie\",\"!\",\"\")","v":""},"niezgodności częściowe"]
[]
[null,{"$f":"$B$15","v":"I.1."},3,"Czy w karcie audytu lub dokumencie o innej nazwie lub tytule, statuującym audyt wewnętrzny w jednostce zobowiązano pracowników jednostki do udzielania informacji i wyjaśnień, a także sporządzania i potwierdzania kopii, odpisów, wyciągów lub zestawień, na potrzeby realizacji zadań przez audytora wewnętrznego?",null,null,null,null,null,null,null,null,null,{"$f":"IF(J22=\"nie\",\"!\",\"\")","v":""}]
[null,null,null,null,null,null,null,null,null,null,null,null,null,null,"w"]
[null,{"$f":"$B$15","v":"I.1."},4,"Czy w karcie audytu lub dokumencie o innej nazwie lub tytule, statuującym audyt wewnętrzny w jednostce określono cel, uprawnienia i odpowiedzialność audytu wewnętrznego?"]
[]
[null,{"$f":"$B$15","v":"I.1."},5,"Czy karta audytu wewnętrznego lub dokument o innej nazwie lub tytule, statuujący audyt wewnętrzny w jednostce został zatwierdzony przez kierownika jednostki? \n(włącznie z jej ew. aktualizacjami przeprowadzonymi w okresie objętym samooceną)"]
[]
[null,{"$f":"$B$15","v":"I.1."},6,"Czy kierownik komórki audytu wewnętrznego dokonywał w okresie objętym samooceną przeglądu karty audytu wewnętrznego lub dokumentu o innej nazwie lub tytule,  statuującego audyt wewnętrzny w jednostce?"]
[]
[null,{"$f":"$B$15","v":"I.1."},7,"Czy karta audytu wewnętrznego lub dokument o innej nazwie lub tytule, statuujący audyt wewnętrzny w jednostce jest aktualny? \n(na dzień dokonywania samooceny)"]
[]
[null,{"$f":"$B$15","v":"I.1."},8,"Czy w karcie audytu lub dokumencie o innej nazwie lub tytule, statuującym audyt wewnętrzny w jednostce został określony charakter usług zapewniających realizowanych przez audyt wewnętrzny? ",null,null,null,null,null,null,null,null,null,null,"fdgdfgdfggdfgdfgfddfg"]
[]
[null,{"$f":"$B$18","v":"I.1."},9,"Czy w karcie audytu lub dokumencie o innej nazwie lub tytule, statuującym audyt wewnętrzny w jednostce został określony charakter usług doradczych realizowanych przez audyt wewnętrzny?"]
[null,null,null,null,null,null,null,null,null,"tak","nie","% udzielonych odpowiedzi"]
[null,"I.2.","Organizacja, usytuowanie i podległość - niezależność i obiektywizm",null,null,null,null,null,null,{"$f":"COUNTIF(J39:J61,\"tak\")","v":0},{"$f":"COUNTIF(J39:J61,\"*\")-J36","v":0},{"$f":"COUNTIF(J39:J61,\"*\")/12","v":0}]
[null,null,"ustawa: art. 275; art. 277; art. 280; art. 281; art. 282 ust. 1\nrozporządzenie: §23\nstandardy: 1100; 1110; 1120; 1130",null,null,null,null,null,null,null,null,null,null,null,"NALEŻY WSKAZAĆ ZAKRES ZIDENTYFIKOWANEJ NIEPRAWIDŁOWOŚCI ORAZ ZAPLANOWAĆ I ZREALIZOWAĆ \nDZIAŁANIA KORYGUJĄCE/NAPRAWCZE\nW tym celu proszę wypełnić poniższe komórki.\n"]
[null,null,null,null,null,null,null,null,null,"odpowiedź",null,"dowód/potwierdzenie dla pełnej \nlub częściowej zgodności/komentarz",null,null,"zakres zidentyfikowanej niezgodności\nw przypadku częściowej niezgodności należy wymienić i opisać te elementy, które wymagają działań korygujących/naprawczych",null,"planowane działania korygujące/naprawcze",null,null,null,"termin realizacji"]
[null,{"$f":"$B$36","v":"I.2."},1,"Czy audyt wewnętrzny w jednostce prowadzi audytor wewnętrzny zatrudniony w wyodrębnionej organizacyjnie komórce audytu wewnętrznego? ",null,null,null,null,null,null,null,null,null,{"$f":"IF(J39=\"nie\",\"!\",\"\")","v":""}]
[]
[null,{"$f":"$B$39","v":"I.2."},2,"Czy kierownik komórki audytu wewnętrznego/audytor zatrudniony na samodzielnym stanowisku pracy podlega bezpośrednio kierownikowi jednostki, a w urzędzie administracji rządowej, w którym tworzy się stanowisko dyrektora generalnego urzędu – dyrektorowi generalnemu w zakresie określonym odrębnymi ustawami?",null,null,null,null,null,null,null,null,null,{"$f":"IF(J41=\"nie\",\"!\",\"\")","v":""}]
[]
[null,{"$f":"$B$39","v":"I.2."},3,"Czy kierownik jednostki, a w urzędzie administracji rządowej, w którym tworzy się stanowisko dyrektora generalnego urzędu – dyrektor generalny, zapewnił warunki niezbędne do niezależnego, obiektywnego i efektywnego prowadzenia audytu wewnętrznego oraz ciągłość prowadzenia audytu wewnętrznego w jednostce?",null,null,null,null,null,null,null,null,null,{"$f":"IF(J43=\"nie\",\"!\",\"\")","v":""}]
[]
[null,{"$f":"$B$39","v":"I.2."},4,"Czy w okresie objętym samooceną rozwiązanie stosunku pracy lub zmiana warunków płacy i pracy kierownika komórki audytu wewnętrznego/audytora zatrudnionego na samodzielnym stanowisku pracy ministerstwa/jednostki w dziale nastąpiły po uzyskaniu zgody właściwego komitetu audytu? \n(w przypadku jednostki, której ww. wymóg nie dotyczy proszę zaznaczyć tak, \na w kolumnie dowód/potwierdzenie należy wpisać nie dotyczy)",null,null,null,null,null,null,null,null,null,{"$f":"IF(J45=\"nie\",\"!\",\"\")","v":""}]
[]
[null,{"$f":"$B$39","v":"I.2."},5,"Czy działalnością wieloosobowej komórki audytu wewnętrznego kieruje audytor wewnętrzny - kierownik komórki audytu wewnętrznego?\n(w przypadku jednoosobowego stanowiska, proszę zaznaczyć tak, \na w kolumnie dowód/potwierdzenie należy wpisać nie dotyczy)",null,null,null,null,null,null,null,null,null,{"$f":"IF(J47=\"nie\",\"!\",\"\")","v":""}]
[]
[null,{"$f":"$B$39","v":"I.2."},6,"Czy w okresie objętym samooceną audytor wewnętrzny powstrzymywał się od wykonywania czynności doradczych, które prowadziłyby do przyjęcia przez niego obowiązków, odpowiedzialności lub uprawnień wchodzących w zakres zarządzania jednostką? \n(jeżeli nie wystąpiła sytuacja, kiedy audytor musiał powstrzymywać się od wykonywania tego typu czynności doradczych proszę zaznaczyć tak i w kolumnie dowód  wpisać nie dotyczy)"]
[]
[null,{"$f":"$B$39","v":"I.2."},7,"Czy w okresie objętym samooceną audyt wewnętrzny w jednostce był niezależny?"]
[]
[null,{"$f":"$B$39","v":"I.2."},8,"Czy w okresie objętym samooceną audytor/-rzy wewnętrzny/-i jednostki byli obiektywni?"]
[]
[null,{"$f":"$B$39","v":"I.2."},9,"Czy w okresie objętym samooceną kierownik komórki audytu wewnętrznego/audytor zatrudniony na samodzielnym stanowisku pracy podlegał funkcjonalnie kierownikowi jednostki?"]
[]
[null,{"$f":"$B$39","v":"I.2."},10,"Czy w okresie objętym samooceną audytor/-rzy wewnętrzny/-ni był/byli bezstronny/-i i wolny/-i od uprzedzeń oraz unikał/-li konfliktów interesów?"]
[]
[null,{"$f":"$B$39","v":"I.2."},11,"Czy w przypadku rzeczywistego lub domniemanego naruszenia niezależności audytu wewnętrznego lub obiektywizmu audytorów wewnętrznych, szczegóły tego naruszenia zostały ujawnione kierownikowi jednostki?\n/w przypadku niewystąpienia naruszenia proszę zaznaczyć tak i w kolumnie dowód wpisać nie dotyczy/"]
[]
[null,{"$f":"$B$39","v":"I.2."},12,"Czy audyt wewnętrzny w jednostce nie jest narażany na jakiekolwiek próby narzucenia zakresu audytu, wpływania na sposób wykonywania pracy i informowania o jej wynikach?"]
[null,null,null,null,null,null,null,null,null,"tak","nie","% udzielonych odpowiedzi"]
[null,"I.3.","Biegłość i należyta staranność zawodowa",null,null,null,null,null,null,{"$f":"COUNTIF(J66:J74,\"tak\")","v":0},{"$f":"COUNTIF(J66:J74,\"*\")-J63","v":0},{"$f":"COUNTIF(J66:J74,\"*\")/5","v":0}]
[null,null,"ustawa: art. 286; art. 272\nstandardy: 1210; 1220; 1230",null,null,null,null,null,null,null,null,null,null,null,"NALEŻY WSKAZAĆ ZAKRES ZIDENTYFIKOWANEJ NIEPRAWIDŁOWOŚCI ORAZ ZAPLANOWAĆ I ZREALIZOWAĆ \nDZIAŁANIA KORYGUJĄCE/NAPRAWCZE\nW tym celu proszę wypełnić poniższe komórki.\n"]
[null,null,null,null,null,null,null,null,null,"odpowiedź",null,"dowód/potwierdzenie dla pełnej \nlub częściowej zgodności/komentarz",null,null,"zakres zidentyfikowanej niezgodności\nw przypadku częściowej niezgodności należy wymienić i opisać te elementy, które wymagają działań korygujących/naprawczych",null,"planowane działania korygujące/naprawcze",null,null,null,"termin realizacji"]
[null,{"$f":"$B$63","v":"I.3."},1,"Czy osoba/-y zatrudniona/-e na stanowisku audytora wewnętrznego spełnia/-ją warunki, o których mowa w ustawie?",null,null,null,null,null,null,null,null,null,{"$f":"IF(J66=\"nie\",\"!\",\"\")","v":""}]
[]
[null,{"$f":"$B$63","v":"I.3."},2,"Czy audytor/-rzy wewnętrzny/-i posiada/-ją wiedzę, umiejętności i inne kompetencje potrzebne do wykonywania jego/ich indywidualnych obowiązków?"]
[]
[null,{"$f":"$B$63","v":"I.3."},3,"Czy audyt wewnętrzny (jako zespół) posiada wiedzę i kompetencje by wspierać ministra kierującego działem lub kierownika jednostki w realizacji celów i zadań przez systematyczną ocenę kontroli zarządczej oraz czynności doradcze?",null,null,null,null,null,null,null,null,null,{"$f":"IF(J70=\"nie\",\"!\",\"\")","v":""}]
[]
[null,{"$f":"$B$63","v":"I.3."},4,"Czy audytor/-rzy wewnętrzny/-ni poszerza/-ją swoją wiedzę, umiejętności i inne kompetencje poprzez ciągły rozwój zawodowy?"]
[]
[null,{"$f":"$B$63","v":"I.3."},5,"Czy audytor/-rzy wewnętrzny/-ni wykazuje/-ą się starannością i umiejętnościami, jakich oczekuje się od audytora wewnętrznego?"]
[null,null,null,null,null,null,null,null,null,"tak","nie","% udzielonych odpowiedzi"]
[null,"I.4.","Zasady i procedury prowadzenia audytu wewnętrznego",null,null,null,null,null,null,{"$f":"COUNTIF(J79:J93,\"tak\")","v":0},{"$f":"COUNTIF(J79:J93,\"*\")-J76","v":0},{"$f":"COUNTIF(J79:J93,\"*\")/8","v":0}]
[null,null,"rozporządzenie: §4 ust. 2.; §5 ust. 1.; §5 ust. 2.; §5 ust. 3.; \nstandardy: 1300; 2040; 2500; 2600",null,null,null,null,null,null,null,null,null,null,null,"NALEŻY WSKAZAĆ ZAKRES ZIDENTYFIKOWANEJ NIEPRAWIDŁOWOŚCI ORAZ ZAPLANOWAĆ I ZREALIZOWAĆ \nDZIAŁANIA KORYGUJĄCE/NAPRAWCZE\nW tym celu proszę wypełnić poniższe komórki.\n"]
[null,null,null,null,null,null,null,null,null,"odpowiedź",null,"dowód/potwierdzenie dla pełnej \nlub częściowej zgodności/komentarz",null,null,"zakres zidentyfikowanej niezgodności\nw przypadku częściowej niezgodności należy wymienić i opisać te elementy, które wymagają działań korygujących/naprawczych",null,"planowane działania korygujące/naprawcze",null,null,null,"termin realizacji"]
[null,{"$f":"$B$76","v":"I.4."},1,"Czy audytor wewnętrzny/kierownik komórki audytu wewnętrznego ustalił zasady \ni procedury służące jednolitemu prowadzeniu i kierowaniu audytem wewnętrznym?"]
[]
[null,{"$f":"$B$76","v":"I.4."},2,"Czy zasady i procedury prowadzenia audytu wewnętrznego określają w jaki sposób monitorowane są wyniki audytu?"]
[]
[null,{"$f":"$B$76","v":"I.4."},3,"Czy zasady i procedury prowadzenia audytu wewnętrznego przewidują konieczność informowania  kierownika jednostki, że przyjęto poziom ryzyka (np. w komórce audytowanej), który może być nie do zaakceptowania dla jednostki?"]
[]
[null,{"$f":"$B$76","v":"I.4."},4,"Czy zasady i procedury przewidują, że w przypadku braku wiedzy, umiejętności lub innych kompetencji niezbędnych do wykonania całości lub części zadania, audytor/kierownik komórki audytu może pozyskać odpowiednią pomoc i wsparcie merytoryczne?",null,null,null,null,null,null,null,null,null,{"$f":"IF(J85=\"nie\",\"!\",\"\")","v":""}]
[]
[null,{"$f":"$B$76","v":"I.4."},5,"Czy zasady i procedury prowadzenia audytu zawierają program zapewnienia i poprawy jakości, obejmujący wszystkie aspekty działalności audytu wewnętrznego? "]
[]
[null,{"$f":"$B$76","v":"I.4."},6,"Czy zasady i procedury określają sposób dokumentowania wszystkich czynności i zdarzeń mających znaczenie dla prowadzenia audytu wewnętrznego w jednostce oraz określają wzory dokumentacji?"]
[]
[null,{"$f":"$B$76","v":"I.4."},7,"Czy zasady i procedury określają sposób prowadzenia dokumentacji dotyczącej zadania audytowego (zgodnej z treścią rozporządzenia, ustawy, wytycznych Komitetu audytu, itp.)?"]
[]
[null,{"$f":"$B$76","v":"I.4."},8,"Czy zasady i procedury określają sposób prowadzenia pozostałej dokumentacji audytu wewnętrznego (zgodnej z treścią rozporządzenia, ustawy, wytycznych Komitetu audytu, itp.)?"]
[null,null,null,null,null,null,null,null,null,"tak","nie","% udzielonych odpowiedzi"]
[null,"I.5.","Program zapewnienia i poprawy jakości",null,null,null,null,null,null,{"$f":"COUNTIF(J98:J108,\"tak\")","v":0},{"$f":"COUNTIF(J98:J108,\"*\")-J95","v":0},{"$f":"COUNTIF(J98:J108,\"*\")/6","v":0}]
[null,null,"ustawa: art. 273\nstandardy: 1310; 1320; 1321; 1322",null,null,null,null,null,null,null,null,null,null,null,"NALEŻY WSKAZAĆ ZAKRES ZIDENTYFIKOWANEJ NIEPRAWIDŁOWOŚCI ORAZ ZAPLANOWAĆ I ZREALIZOWAĆ \nDZIAŁANIA KORYGUJĄCE/NAPRAWCZE\nW tym celu proszę wypełnić poniższe komórki.\n"]
[null,null,null,null,null,null,null,null,null,"odpowiedź",null,"dowód/potwierdzenie dla pełnej \nlub częściowej zgodności/komentarz",null,null,"zakres zidentyfikowanej niezgodności\nw przypadku częściowej niezgodności należy wymienić i opisać te elementy, które wymagają działań korygujących/naprawczych",null,"planowane działania korygujące/naprawcze",null,null,null,"termin realizacji"]
[null,{"$f":"$B$95","v":"I.5."},1,"Czy audytor wewnętrzny/kierownik komórki audytu wewnętrznego realizuje program zapewnienia i poprawy jakości?",null,null,null,null,null,null,null,null,null,{"$f":"IF(J98=\"nie\",\"!\",\"\")","v":""}]
[]
[null,{"$f":"$B$95","v":"I.5."},2,"Czy realizowany program zapewnienia i poprawy jakości obejmuje całą działalność audytu wewnętrznego?"]
[]
[null,{"$f":"$B$95","v":"I.5."},3,"Czy realizowany program zapewnienia i poprawy jakości uwzględnia zarówno oceny wewnętrzne, jak i zewnętrzne?"]
[]
[null,{"$f":"$B$95","v":"I.5."},4,"Czy kierownik komórki audytu wewnętrznego przekazał kierownikowi jednostki wyniki programu zapewnienia i poprawy jakości oraz w przypadku potrzeby wdrożenia działań korygujących/naprawczych podjął je i zrealizował informując o tym kierownika jednostki?"]
[]
[null,{"$f":"$B$95","v":"I.5."},5,"Czy użycie formuły zgodny z Międzynarodowymi standardami praktyki zawodowej audytu wewnętrznego zostało potwierdzone wynikami realizowanego programu zapewnienia i poprawy jakości?"]
[]
[null,{"$f":"$B$95","v":"I.5."},6,"Czy w sytuacji, gdy wystąpiła niezgodność ze Standardami - która miała wpływ na ogólny zakres działalności audytu wewnętrznego, kierownik komórki audytu wewnętrznego/audytor ujawnił tę niezgodność i jej skutki kierownikowi jednostki? \n(w przypadku, gdy nie było takiej sytuacji proszę zaznaczyć tak, a w kolumnie dowód/potwierdzenie należy wpisać nie dotyczy)"]

{"sheet":"II.Plan i spraw.","index":3,"n_rows":98,"n_cols":25,"rows_kept":98,"cut":false,"hidden":false,"merged":[[11,3,11,8],[11,11,11,12],[11,14,14,20],[13,11,13,12],[14,2,14,8],[14,11,14,12],[1,1,1,11],[3,1,6,21],[7,3,7,10],[7,14,7,20],[8,2,9,10],[8,11,9,11],[8,12,9,12],[8,14,10,20],[10,3,10,8],[10,11,10,12],[19,3,19,8],[19,9,19,10],[19,11,19,12],[19,16,19,18],[21,3,21,8],[21,9,21,10],[21,11,21,12],[21,16,21,18],[15,2,15,12],[15,14,15,20],[16,9,16,10],[16,11,16,12],[16,16,16,18],[17,3,17,8],[17,9,17,10],[17,11,17,12],[17,16,17,18],[27,3,27,8],[27,9,27,10],[27,11,27,12],[27,16,27,18],[29,3,29,8],[29,9,29,10],[29,11,29,12],[29,16,29,18],[23,3,23,8],[23,9,23,10],[23,11,23,12],[23,16,23,18],[25,3,25,8],[25,9,25,10],[25,11,25,12],[25,16,25,18],[34,11,34,12],[35,2,35,8],[35,11,35,12],[36,2,36,12],[36,14,36,20],[37,9,37,10],[37,11,37,12],[37,16,37,18],[31,3,31,8],[31,9,31,10],[31,11,31,12],[31,16,31,18],[33,3,33,8],[33,9,33,10],[33,11,33,12],[33,16,33,18],[42,3,42,8],[42,9,42,10],[42,11,42,12],[42,16,42,18],[44,3,44,8],[44,9,44,10],[44,11,44,12],[44,16,44,18],[38,3,38,8],[38,9,38,10],[38,11,38,12],[38,16,38,18],[40,3,40,8],[40,9,40,10],[40,11,40,12],[40,16,40,18],[50,3,50,8],[50,9,50,10],[50,11,50,12],[50,16,50,18],[52,3,52,8],[52,9,52,10],[52,11,52,12],[52,16,52,18],[46,3,46,8],[46,9,46,10],[46,11,46,12],[46,16,46,18],[48,3,48,8],[48,9,48,10],[48,11,48,12],[48,16,48,18],[57,11,57,12],[58,2,58,8],[58,11,58,12],[59,2,59,12],[59,14,59,20],[60,9,60,10],[60,11,60,12],[60,16,60,18],[54,3,54,8],[54,9,54,10],[54,11,54,12],[54,16,54,18],[56,3,56,8],[56,9,56,10],[56,11,56,12],[56,16,56,18],[66,11,66,12],[67,2,67,8],[67,11,67,12],[65,3,65,8],[65,9,65,10],[65,11,65,12],[65,16,65,18],[61,3,61,8],[61,9,61,10],[61,11,61,12],[61,16,61,18],[63,3,63,8],[63,9,63,10],[63,11,63,12],[63,16,63,18],[68,2,68,12],[69,9,69,10],[69,11,69,12],[69,16,69,18],[70,3,70,8],[70,9,70,10],[70,11,70,12],[70,16,70,18],[68,14,68,20],[76,3,76,8],[76,9,76,10],[76,11,76,12],[76,16,76,18],[78,3,78,8],[78,9,78,10],[78,11,78,12],[78,16,78,18],[72,3,72,8],[72,9,72,10],[72,11,72,12],[72,16,72,18],[74,3,74,8],[74,9,74,10],[74,11,74,12],[74,16,74,18],[83,11,83,12],[84,2,84,8],[84,11,84,12],[80,3,80,8],[80,9,80,10],[80,11,80,12],[80,16,80,18],[82,3,82,8],[82,9,82,10],[82,11,82,12],[82,16,82,18],[89,3,89,8],[89,9,89,10],[89,11,89,12],[89,16,89,18],[91,3,91,8],[91,9,91,10],[91,11,91,12],[91,16,91,18],[85,2,85,12],[86,9,86,10],[86,11,86,12],[86,16,86,18],[87,3,87,8],[87,9,87,10],[87,11,87,12],[87,16,87,18],[85,14,85,20],[97,3,97,8],[97,9,97,10],[97,11,97,12],[97,16,97,18],[93,3,93,8],[93,9,93,10],[93,11,93,12],[93,16,93,18],[95,3,95,8],[95,9,95,10],[95,11,95,12],[95,16,95,18]]}
[]
[]
[]
[null,"Quality @w "]
[]
[]
[]
[null,null,null,null,null,null,null,null,null,null,null,null,null,"data rozpoczęcia wypełniania niniejszego arkusza","liczba uzyskanych punktów w bloku tematycznym"]
[null,null,{"$f":"'Strona tytułowa'!$H$16","v":0},null,null,null,null,null,null,null,null,{"$f":"'Strona tytułowa'!$F$16","v":0},{"$f":"'Strona tytułowa'!$B$2","v":"ver.2.0.2018"},null,{"$f":"J12","v":0}]
[null,null,null,null,null,null,null,null,null,null,null,null,null,null,null,null,null,null,null,null,null,null,null,null,{"$f":"J12+K12","v":0}]
[null,null,null,"blok tematyczny",null,null,null,null,null,"tak","nie","% udzielonych odpowiedzi"]
[null,null,"II.","PLANOWANIE I SPRAWOZDAWCZOŚĆ",null,null,null,null,null,{"$f":"J15+J36+J59+J68+J85","v":0},{"$f":"K15+K36+K59+K68+K85","v":0},{"$f":"(J12+K12)/35","v":0},null,{"$f":"COUNTIF(N18:N98,\"!\")","v":0},"0                                                                                                                                                                                                                                                                                                              35  "]
[null,null,null,null,null,null,null,null,null,{"$f":"J12/(J12+K12)","v":{"$error":"#DIV/0!"}},{"$f":"K12/(K12+J12)","v":{"$error":"#DIV/0!"}}]
[null,null,null,null,null,null,null,null,null,"tak","nie","% udzielonych odpowiedzi",null,"niezgodność z przepisami"]
[null,"II.1.","Analiza ryzyka i analiza zasobów osobowych do Planu audytu",null,null,null,null,null,null,{"$f":"COUNTIF(J18:J34,\"tak\")","v":0},{"$f":"COUNTIF(J18:J34,\"*\")-J15","v":0},{"$f":"COUNTIF(J18:J34,\"*\")/9","v":0}]
[null,null,"ustawa: art. 283 ust. 4.\nrozporządzenie: §7 i §8",null,null,null,null,null,null,null,null,null,null,null,"NALEŻY WSKAZAĆ ZAKRES ZIDENTYFIKOWANEJ NIEPRAWIDŁOWOŚCI ORAZ ZAPLANOWAĆ I ZREALIZOWAĆ \nDZIAŁANIA KORYGUJĄCE/NAPRAWCZE\nW tym celu proszę wypełnić poniższe komórki.\n"]
[null,null,null,null,null,null,null,null,null,"odpowiedź",null,"dowód/potwierdzenie dla pełnej \nlub częściowej zgodności/komentarz",null,null,"zakres zidentyfikowanej niezgodności\nw przypadku częściowej niezgodności należy wymienić i opisać te elementy, które wymagają działań korygujących/naprawczych",null,"planowane działania korygujące/naprawcze",null,null,null,"termin realizacji"]
[null,{"$f":"$B$15","v":"II.1."},1,"Czy opracowując plan audytu, o którym mowa w art. 283 ust. 1 ustawy, kierownik komórki audytu wewnętrznego/audytor wewnętrzny przeprowadził analizę ryzyka uwzględniającą sposób zarządzania ryzykiem w jednostce?",null,null,null,null,null,null,null,null,null,{"$f":"IF(J18=\"nie\",\"!\",\"\")","v":""}]
[]
[null,{"$f":"$B$15","v":"II.1."},2,"Czy kierownik komórki audytu wewnętrznego/audytor wewnętrzny przeprowadzając analizę ryzyka, wziął pod uwagę w szczególności wytyczne ministra kierującego działem, komitetu audytu oraz szczegółowe wytyczne Ministra Finansów?\n (jeżeli były wydane i dotyczą jednostki)",null,null,null,null,null,null,null,null,null,{"$f":"IF(J20=\"nie\",\"!\",\"\")","v":""}]
[]
[null,{"$f":"$B$15","v":"II.1."},3,"Czy przeprowadzając analizę ryzyka, kierownik komórki audytu wewnętrznego/audytor wewnętrzny wziął pod uwagę cele i zadania jednostki?",null,null,null,null,null,null,null,null,null,{"$f":"IF(J22=\"nie\",\"!\",\"\")","v":""}]
[null,null,null,null,null,null,null,null,null,null,null,null,null,null,"w"]
[null,{"$f":"$B$15","v":"II.1."},4,"Czy przeprowadzając analizę ryzyka, kierownik komórki audytu wewnętrznego/audytor wewnętrzny wziął pod uwagę ryzyka wpływające na realizację celów i zadań jednostki?",null,null,null,null,null,null,null,null,null,{"$f":"IF(J24=\"nie\",\"!\",\"\")","v":""}]
[]
[null,{"$f":"$B$15","v":"II.1."},5,"Czy przeprowadzając analizę ryzyka, kierownik komórki audytu wewnętrznego/audytor wewnętrzny wziął pod uwagę wyniki audytów i kontroli?",null,null,null,null,null,null,null,null,null,{"$f":"IF(J26=\"nie\",\"!\",\"\")","v":""}]
[]
[null,{"$f":"$B$15","v":"II.1."},6,"Czy na podstawie wyniku analizy ryzyka kierownik komórki audytu wewnętrznego/audytor wewnętrzny opracował listę wszystkich zidentyfikowanych obszarów działalności jednostki uwzględniającą kolejność obszarów wynikającą z oceny ryzyka?",null,null,null,null,null,null,null,null,null,{"$f":"IF(J28=\"nie\",\"!\",\"\")","v":""}]
[]
[null,{"$f":"$B$15","v":"II.1."},7,"Czy kierownik komórki audytu wewnętrznego/audytor wewnętrzny wyznaczył obszary działalności jednostki, w których zostaną przeprowadzone zadania zapewniające, na podstawie wyników analizy ryzyka?",null,null,null,null,null,null,null,null,null,{"$f":"IF(J30=\"nie\",\"!\",\"\")","v":""}]
[]
[null,{"$f":"$B$15","v":"II.1."},8,"Czy kierownik komórki audytu wewnętrznego/audytor wewnętrzny wyznaczył obszary działalności jednostki, w których zostaną przeprowadzone zadania zapewniające, z uwzględnieniem priorytetów kierownika jednostki i komitetu audytu? \n (jeżeli były wydane i dotyczą jednostki)",null,null,null,null,null,null,null,null,null,{"$f":"IF(J32=\"nie\",\"!\",\"\")","v":""}]
[]
[null,"II.1.",9,"Czy kierownik komórki audytu wewnętrznego/audytor wewnętrzny wyznaczył obszary działalności jednostki, w których zostaną przeprowadzone zadania zapewniające, z uwzględnieniem dostępnych zasobów osobowych?",null,null,null,null,null,null,null,null,null,{"$f":"IF(J34=\"nie\",\"!\",\"\")","v":""}]
[null,null,null,null,null,null,null,null,null,"tak","nie","% udzielonych odpowiedzi"]
[null,"II.2.","Opracowanie i dystrybucja Planu audytu",null,null,null,null,null,null,{"$f":"COUNTIF(J39:J57,\"tak\")","v":0},{"$f":"COUNTIF(J39:J57,\"*\")-J36","v":0},{"$f":"COUNTIF(J39:J57,\"*\")/10","v":0}]
[null,null,"ustawa: art. 283 ust. 3\nrozporządzenie: §9 i §11\nstandardy: 1110; 2010; 2020",null,null,null,null,null,null,null,null,null,null,null,"NALEŻY WSKAZAĆ ZAKRES ZIDENTYFIKOWANEJ NIEPRAWIDŁOWOŚCI ORAZ ZAPLANOWAĆ I ZREALIZOWAĆ \nDZIAŁANIA KORYGUJĄCE/NAPRAWCZE\nW tym celu proszę wypełnić poniższe komórki.\n"]
[null,null,null,null,null,null,null,null,null,"odpowiedź",null,"dowód/potwierdzenie dla pełnej \nlub częściowej zgodności/komentarz",null,null,"zakres zidentyfikowanej niezgodności\nw przypadku częściowej niezgodności należy wymienić i opisać te elementy, które wymagają działań korygujących/naprawczych",null,"planowane działania korygujące/naprawcze",null,null,null,"termin realizacji"]
[null,{"$f":"$B$36","v":"II.2."},1,"Czy kierownik komórki audytu wewnętrznego/audytor wewnętrzny przygotował Plan audytu w porozumieniu z kierownikiem jednostki, na podstawie analizy ryzyka \ni w terminie wynikającym z przepisów ustawy?",null,null,null,null,null,null,null,null,null,{"$f":"IF(J39=\"nie\",\"!\",\"\")","v":""}]
[]
[null,{"$f":"$B$39","v":"II.2."},2,"Czy Plan audytu zawiera obszary działalności jednostki, w których zostaną przeprowadzone zadania zapewniające w danym roku?",null,null,null,null,null,null,null,null,null,{"$f":"IF(J41=\"nie\",\"!\",\"\")","v":""}]
[]
[null,{"$f":"$B$39","v":"II.2."},3,"Czy Plan audytu zawiera informacje na temat budżetu czasu komórki audytu wewnętrznego w danym roku, wyrażonego w osobodniach oraz czasu planowanego na realizację poszczególnych zadań zapewniających?",null,null,null,null,null,null,null,null,null,{"$f":"IF(J43=\"nie\",\"!\",\"\")","v":""}]
[]
[null,{"$f":"$B$39","v":"II.2."},4,"Czy Plan audytu zawiera informacje na temat budżetu czasu komórki audytu wewnętrznego w danym roku, wyrażonego w osobodniach oraz czasu planowanego na realizację czynności doradczych?",null,null,null,null,null,null,null,null,null,{"$f":"IF(J45=\"nie\",\"!\",\"\")","v":""}]
[]
[null,{"$f":"$B$39","v":"II.2."},5,"Czy Plan audytu zawiera informacje na temat budżetu czasu komórki audytu wewnętrznego w danym roku, wyrażonego w osobodniach oraz czasu planowanego na monitorowanie realizacji zaleceń oraz realizację czynności sprawdzających?",null,null,null,null,null,null,null,null,null,{"$f":"IF(J47=\"nie\",\"!\",\"\")","v":""}]
[]
[null,{"$f":"$B$39","v":"II.2."},6,"Czy Plan audytu zawiera informacje na temat budżetu czasu komórki audytu wewnętrznego w danym roku, wyrażonego w osobodniach oraz czasu planowanego na kontynuowanie zadań audytowych z roku poprzedniego?",null,null,null,null,null,null,null,null,null,{"$f":"IF(J49=\"nie\",\"!\",\"\")","v":""}]
[]
[null,{"$f":"$B$39","v":"II.2."},7,"Czy Plan audytu został podpisany przez kierownika komórki audytu wewnętrznego oraz kierownika jednostki?",null,null,null,null,null,null,null,null,null,{"$f":"IF(J51=\"nie\",\"!\",\"\")","v":""}]
[]
[null,{"$f":"$B$39","v":"II.2."},8,"Czy kierownik komórki audytu wewnętrznego jednostki w dziale administracji rządowej przesłał kopię Planu audytu do dnia 15 stycznia do komórki audytu wewnętrznego utworzonej w ministerstwie właściwym dla tego działu?\n (jeżeli jednostka w dziale, w przeciwnym razie należy wpisać tak, a w kolumnie dowód/potwierdzenie należy wpisać nie dotyczy)",null,null,null,null,null,null,null,null,null,{"$f":"IF(J53=\"nie\",\"!\",\"\")","v":""}]
[]
[null,{"$f":"$B$39","v":"II.2."},9,"Czy Plan audytu został udostępniony w jednostce w sposób i formie uzgodnionych\nz kierownikiem jednostki?",null,null,null,null,null,null,null,null,null,{"$f":"IF(J55=\"nie\",\"!\",\"\")","v":""}]
[]
[null,{"$f":"$B$39","v":"II.2."},10,"Czy w przypadku braku Planu audytu na dany rok oraz w uzasadnionych przypadkach kierownik komórki audytu wewnętrznego uzgodnił z kierownikiem jednostki zadania audytowe do przeprowadzenia do końca roku kalendarzowego?\n (jeżeli opracowano Plan audytu należy wpisać tak, a w kolumnie dowód/potwierdzenie należy wpisać nie dotyczy)",null,null,null,null,null,null,null,null,null,{"$f":"IF(J57=\"nie\",\"!\",\"\")","v":""}]
[null,null,null,null,null,null,null,null,null,"tak","nie","% udzielonych odpowiedzi"]
[null,"II.3.","Realizacja Planu audytu",null,null,null,null,null,null,{"$f":"COUNTIF(J62:J66,\"tak\")","v":0},{"$f":"COUNTIF(J62:J66,\"*\")-J59","v":0},{"$f":"COUNTIF(J62:J66,\"*\")/3","v":0}]
[null,null,"ustawa: art. 282 ust. 1; art. 283\nrozporządzenie: § 10\nstandardy: 2010; 2020; 2030",null,null,null,null,null,null,null,null,null,null,null,"NALEŻY WSKAZAĆ ZAKRES ZIDENTYFIKOWANEJ NIEPRAWIDŁOWOŚCI ORAZ ZAPLANOWAĆ I ZREALIZOWAĆ \nDZIAŁANIA KORYGUJĄCE/NAPRAWCZE\nW tym celu proszę wypełnić poniższe komórki.\n"]
[null,null,null,null,null,null,null,null,null,"odpowiedź",null,"dowód/potwierdzenie dla pełnej \nlub częściowej zgodności/komentarz",null,null,"zakres zidentyfikowanej niezgodności\nw przypadku częściowej niezgodności należy wymienić i opisać te elementy, które wymagają działań korygujących/naprawczych",null,"planowane działania korygujące/naprawcze",null,null,null,"termin realizacji"]
[null,{"$f":"$B$59","v":"II.3."},1,"Czy audyt wewnętrzny był przeprowadzany w jednostce na podstawie  Planu audytu, a wszelkie jego zmiany następowały na podstawie pisemnego uzgodnienia pomiędzy kierownikiem komórki audytu wewnętrznego, a kierownikiem jednostki?",null,null,null,null,null,null,null,null,null,{"$f":"IF(J62=\"nie\",\"!\",\"\")","v":""}]
[]
[null,{"$f":"$B$59","v":"II.3."},2,"Czy realizacja audytu wewnętrznego poza Planem audytu odbywała się \nw uzasadnionych przypadkach, po uzgodnieniu z kierownikiem jednostki i nie powodowała konieczności odstąpienia od realizacji zadań z Planu audytu? \n (jeżeli nie realizowano zadań poza Planem audytu należy wpisać tak, a w kolumnie dowód/potwierdzenie należy wpisać nie dotyczy)",null,null,null,null,null,null,null,null,null,{"$f":"IF(J64=\"nie\",\"!\",\"\")","v":""}]
[]
[null,{"$f":"$B$59","v":"II.3."},3,"Czy w trakcie realizacji Planu audytu zapewniono warunki niezbędne do efektywnego prowadzenia audytu wewnętrznego, w tym w szczególności kierownik komórki audytu wewnętrznego zapewnił zasoby odpowiednie i wystarczające do realizacji zatwierdzonego Planu audytu, jak również zadbał o ich efektywne wykorzystanie?",null,null,null,null,null,null,null,null,null,{"$f":"IF(J66=\"nie\",\"!\",\"\")","v":""}]
[null,null,null,null,null,null,null,null,null,"tak","nie","% udzielonych odpowiedzi"]
[null,"II.4.","Opracowanie i dystrybucja Sprawozdania z prowadzenia audytu wewnętrznego",null,null,null,null,null,null,{"$f":"COUNTIF(J71:J83,\"tak\")","v":0},{"$f":"COUNTIF(J71:J83,\"*\")-J68","v":0},{"$f":"COUNTIF(J71:J83,\"*\")/7","v":0}]
[null,null,"ustawa: art. 283 ust. 5\nrozporządzenie: §12\nstandardy: 2060",null,null,null,null,null,null,null,null,null,null,null,"NALEŻY WSKAZAĆ ZAKRES ZIDENTYFIKOWANEJ NIEPRAWIDŁOWOŚCI ORAZ ZAPLANOWAĆ I ZREALIZOWAĆ \nDZIAŁANIA KORYGUJĄCE/NAPRAWCZE\nW tym celu proszę wypełnić poniższe komórki.\n"]
[null,null,null,null,null,null,null,null,null,"odpowiedź",null,"dowód/potwierdzenie dla pełnej \nlub częściowej zgodności/komentarz",null,null,"zakres zidentyfikowanej niezgodności\nw przypadku częściowej niezgodności należy wymienić i opisać te elementy, które wymagają działań korygujących/naprawczych",null,"planowane działania korygujące/naprawcze",null,null,null,"termin realizacji"]
[null,{"$f":"$B$68","v":"II.4."},1,"Czy kierownik komórki audytu wewnętrznego sporządził Sprawozdanie z prowadzenia audytu wewnętrznego?",null,null,null,null,null,null,null,null,null,{"$f":"IF(J71=\"nie\",\"!\",\"\")","v":""}]
[]
[null,{"$f":"$B$68","v":"II.4."},2,"Czy kierownik komórki audytu wewnętrznego złożył kierownikowi jednostki Sprawozdanie z prowadzenia audytu wewnętrznego do końca stycznia roku następnego?",null,null,null,null,null,null,null,null,null,{"$f":"IF(J73=\"nie\",\"!\",\"\")","v":""}]
[]
[null,{"$f":"$B$68","v":"II.4."},3,"Czy w Sprawozdaniu z prowadzenia audytu wewnętrznego zostały przedstawione informacje (wraz z odniesieniem do planu audytu), o zadaniach audytowych, w tym zleconych, o których mowa w art. 292 ust. 1 pkt 1 i art. 293 ust. 1 ustawy?",null,null,null,null,null,null,null,null,null,{"$f":"IF(J75=\"nie\",\"!\",\"\")","v":""}]
[]
[null,{"$f":"$B$68","v":"II.4."},4,"Czy w Sprawozdaniu z prowadzenia audytu wewnętrznego zostały przedstawione informacje (wraz z odniesieniem do planu audytu), o monitorowaniu realizacji zaleceń oraz czynnościach sprawdzających?",null,null,null,null,null,null,null,null,null,{"$f":"IF(J77=\"nie\",\"!\",\"\")","v":""}]
[]
[null,{"$f":"$B$68","v":"II.4."},5,"Czy w Sprawozdaniu z prowadzenia audytu wewnętrznego zostały przedstawione informacje (wraz z odniesieniem do planu audytu), o inne istotne informacje związane \nz funkcjonowaniem audytu wewnętrznego w jednostce w roku poprzednim, w tym dotyczące przeprowadzenia oceny wewnętrznej i zewnętrznej audytu wewnętrznego?",null,null,null,null,null,null,null,null,null,{"$f":"IF(J79=\"nie\",\"!\",\"\")","v":""}]
[]
[null,{"$f":"$B$68","v":"II.4."},6,"Czy kopia Sprawozdania z prowadzenia audytu wewnętrznego została przesłana \nw terminie do 15 lutego do komórki audytu wewnętrznego utworzonej w ministerstwie właściwym dla tego działu?\n (jeżeli jednostka w dziale, w przeciwnym razie należy wpisać tak, a w kolumnie dowód/potwierdzenie należy wpisać nie dotyczy)",null,null,null,null,null,null,null,null,null,{"$f":"IF(J81=\"nie\",\"!\",\"\")","v":""}]
[]
[null,{"$f":"$B$68","v":"II.4."},7,"Czy dane zawarte w Sprawozdaniu z prowadzenia audytu wewnętrznego wynikają \nz dokumentacji źródłowej zgromadzonej przez kierownika komórki audytu wewnętrznego/audytora wewnętrznego?"]
[null,null,null,null,null,null,null,null,null,"tak","nie","% udzielonych odpowiedzi"]
[null,"II.5.","Opracowanie i dystrybucja Informacji o realizacji zadań z zakresu audytu wewnętrznego",null,null,null,null,null,null,{"$f":"COUNTIF(J88:J98,\"tak\")","v":0},{"$f":"COUNTIF(J88:J98,\"*\")-J85","v":0},{"$f":"COUNTIF(J88:J98,\"*\")/6","v":0}]
[null,null,"ustawa: art. 295 ust.1\nKomunikat Ministra Rozwoju i Finansów sprawie wzoru Informacji  o realizacji zadań z zakresu audytu wewnętrznego",null,null,null,null,null,null,null,null,null,null,null,"NALEŻY WSKAZAĆ ZAKRES ZIDENTYFIKOWANEJ NIEPRAWIDŁOWOŚCI ORAZ ZAPLANOWAĆ I ZREALIZOWAĆ \nDZIAŁANIA KORYGUJĄCE/NAPRAWCZE\nW tym celu proszę wypełnić poniższe komórki.\n"]
[null,null,null,null,null,null,null,null,null,"odpowiedź",null,"dowód/potwierdzenie dla pełnej \nlub częściowej zgodności/komentarz",null,null,"zakres zidentyfikowanej niezgodności\nw przypadku częściowej niezgodności należy wymienić i opisać te elementy, które wymagają działań korygujących/naprawczych",null,"planowane działania korygujące/naprawcze",null,null,null,"termin realizacji"]
[null,{"$f":"$B$85","v":"II.5."},1,"Czy kierownik jednostki, o której mowa w art. 274 ust. 1, 2 i 4–6 ustawy (z wyłączeniem jednostek samorządu terytorialnego), przedstawił Ministrowi Finansów Informację o realizacji zadań z zakresu audytu wewnętrznego w roku poprzednim?",null,null,null,null,null,null,null,null,null,{"$f":"IF(J88=\"nie\",\"!\",\"\")","v":""}]
[]
[null,{"$f":"$B$85","v":"II.5."},2,"Czy Informacja o realizacji zadań z zakresu audytu wewnętrznego w roku poprzednim  została złożona w terminie wynikającym z przepisów ustawy?",null,null,null,null,null,null,null,null,null,{"$f":"IF(J90=\"nie\",\"!\",\"\")","v":""}]
[]
[null,{"$f":"$B$85","v":"II.5."},3,"Czy Informacja o realizacji zadań z zakresu audytu wewnętrznego w roku poprzednim została podpisana przez kierownika jednostki podpisem kwalifikowanym?"]
[]
[null,{"$f":"$B$85","v":"II.5."},4,"Czy Informacja o realizacji zadań z zakresu audytu wewnętrznego w roku poprzednim została złożona na obowiązującym wzorze, określonym komunikatem Ministra Finansów? "]
[]
[null,{"$f":"$B$85","v":"II.5."},5,"Czy Informacja o realizacji zadań z zakresu audytu wewnętrznego w roku poprzednim została złożona zgodnie z trybem określonym komunikatem Ministra Finansów? "]
[]
[null,{"$f":"$B$85","v":"II.5."},6,"Czy dane zawarte w Informacji o realizacji zadań z zakresu audytu wewnętrznego w roku poprzednim wynikają z dokumentacji źródłowej zgromadzonej przez kierownika komórki audytu wewnętrznego/audytora wewnętrznego oraz są spójne z danymi i informacjami zawartymi w Sprawozdaniu z prowadzenia audytu wewnętrznego?"]

{"sheet":"III. Realizacja ZZ","index":4,"n_rows":121,"n_cols":25,"rows_kept":121,"cut":false,"hidden":false,"merged":[[109,3,109,8],[109,9,109,10],[109,11,109,12],[109,16,109,18],[107,3,107,8],[107,9,107,10],[107,11,107,12],[107,16,107,18],[101,16,101,18],[103,3,103,8],[103,9,103,10],[103,11,103,12],[103,16,103,18],[105,3,105,8],[105,9,105,10],[105,11,105,12],[105,16,105,18],[99,3,99,8],[99,9,99,10],[99,11,99,12],[99,16,99,18],[51,3,51,8],[51,9,51,10],[51,11,51,12],[51,16,51,18],[53,3,53,8],[53,9,53,10],[53,11,53,12],[53,16,53,18],[95,3,95,8],[95,9,95,10],[95,11,95,12],[95,16,95,18],[97,3,97,8],[97,9,97,10],[97,11,97,12],[97,16,97,18],[87,9,87,10],[87,11,87,12],[89,3,89,8],[89,9,89,10],[43,11,43,12],[43,16,43,18],[45,3,45,8],[45,9,45,10],[45,11,45,12],[45,16,45,18],[78,3,78,8],[78,9,78,10],[78,11,78,12],[78,16,78,18],[70,3,70,8],[70,9,70,10],[70,11,70,12],[70,16,70,18],[72,3,72,8],[72,9,72,10],[72,11,72,12],[72,16,72,18],[66,3,66,8],[66,9,66,10],[66,11,66,12],[66,16,66,18],[68,3,68,8],[68,9,68,10],[89,11,89,12],[89,16,89,18],[39,3,39,8],[39,9,39,10],[39,11,39,12],[39,16,39,18],[41,3,41,8],[41,9,41,10],[41,11,41,12],[41,16,41,18],[47,3,47,8],[47,9,47,10],[47,11,47,12],[47,16,47,18],[49,3,49,8],[49,9,49,10],[49,11,49,12],[49,16,49,18],[43,3,43,8],[43,9,43,10],[79,11,79,12],[80,2,80,8],[80,11,80,12],[81,2,81,12],[112,2,112,12],[112,14,112,20],[113,9,113,10],[113,11,113,12],[113,16,113,18],[114,3,114,8],[114,9,114,10],[114,11,114,12],[114,16,114,18],[120,3,120,8],[120,9,120,10],[120,11,120,12],[120,16,120,18],[116,3,116,8],[116,9,116,10],[116,11,116,12],[116,16,116,18],[118,3,118,8],[118,9,118,10],[118,11,118,12],[118,16,118,18],[111,2,111,8],[111,11,111,12],[101,3,101,8],[101,9,101,10],[101,11,101,12],[83,3,83,8],[83,9,83,10],[83,16,83,18],[85,3,85,8],[85,9,85,10],[85,11,85,12],[85,16,85,18],[83,11,83,12],[87,16,87,18],[110,11,110,12],[91,3,91,8],[91,9,91,10],[91,11,91,12],[91,16,91,18],[93,3,93,8],[93,9,93,10],[93,11,93,12],[93,16,93,18],[87,3,87,8],[81,14,81,20],[82,9,82,10],[82,11,82,12],[82,16,82,18],[74,3,74,8],[74,9,74,10],[74,11,74,12],[74,16,74,18],[76,3,76,8],[76,9,76,10],[76,11,76,12],[76,16,76,18],[68,11,68,12],[68,16,68,18],[62,3,62,8],[62,9,62,10],[62,11,62,12],[62,16,62,18],[64,3,64,8],[64,9,64,10],[64,11,64,12],[64,16,64,18],[58,3,58,8],[58,9,58,10],[58,11,58,12],[58,16,58,18],[60,3,60,8],[60,9,60,10],[60,11,60,12],[60,16,60,18],[54,11,54,12],[55,2,55,8],[55,11,55,12],[56,2,56,12],[56,14,56,20],[57,9,57,10],[57,11,57,12],[57,16,57,18],[37,3,37,8],[37,9,37,10],[37,11,37,12],[37,16,37,18],[27,3,27,8],[27,9,27,10],[27,11,27,12],[27,16,27,18],[29,3,29,8],[29,9,29,10],[29,11,29,12],[29,16,29,18],[31,3,31,8],[31,9,31,10],[31,11,31,12],[31,16,31,18],[33,3,33,8],[33,9,33,10],[33,11,33,12],[33,16,33,18],[35,3,35,8],[35,9,35,10],[35,11,35,12],[35,16,35,18],[23,3,23,8],[23,9,23,10],[23,11,23,12],[23,16,23,18],[25,3,25,8],[25,9,25,10],[25,11,25,12],[25,16,25,18],[19,3,19,8],[19,9,19,10],[19,11,19,12],[19,16,19,18],[21,3,21,8],[21,9,21,10],[21,11,21,12],[21,16,21,18],[15,2,15,12],[15,14,15,20],[16,9,16,10],[16,11,16,12],[16,16,16,18],[17,3,17,8],[17,9,17,10],[17,11,17,12],[17,16,17,18],[11,3,11,8],[11,11,11,12],[11,14,14,20],[13,11,13,12],[14,2,14,8],[14,11,14,12],[1,1,1,11],[3,1,6,21],[7,3,7,10],[7,14,7,20],[8,2,9,10],[8,11,9,11],[8,12,9,12],[8,14,10,20],[10,3,10,8],[10,11,10,12]]}
[]
[]
[]
[null,"Quality @w "]
[]
[]
[]
[null,null,null,null,null,null,null,null,null,null,null,null,null,null,"liczba uzyskanych punktów w bloku tematycznym"]
[null,null,{"$f":"'Strona tytułowa'!$H$16","v":0},null,null,null,null,null,null,null,null,{"$f":"'Strona tytułowa'!$F$16","v":0},{"$f":"'Strona tytułowa'!$B$2","v":"ver.2.0.2018"},null,{"$f":"J12","v":0}]
[null,null,null,null,null,null,null,null,null,null,null,null,null,null,null,null,null,null,null,null,null,null,null,null,{"$f":"J12+K12","v":0}]
[null,null,null,"blok tematyczny",null,null,null,null,null,"tak","nie","% udzielonych odpowiedzi"]
[null,null,"III.A","REALIZACJA ZADAŃ AUDYTOWYCH - ZADANIE ZAPEWNIAJĄCE",null,null,null,null,null,{"$f":"J15+J56+J81+J112","v":0},{"$f":"K15+K56+K81+K112","v":0},{"$f":"(J12+K12)/48","v":0},null,{"$f":"COUNTIF(N18:N121,\"!\")","v":0},"0                                                                                                                                                                                                                                                                                                              49 "]
[null,null,null,null,null,null,null,null,null,{"$f":"J12/(J12+K12)","v":{"$error":"#DIV/0!"}},{"$f":"K12/(K12+J12)","v":{"$error":"#DIV/0!"}}]
[null,null,null,null,null,null,null,null,null,"tak","nie","% udzielonych odpowiedzi",null,"niezgodność z przepisami"]
[null,"III.A.1.","Przygotowanie i programowanie zadania zapewniającego",null,null,null,null,null,null,{"$f":"COUNTIF(J18:J54,\"tak\")","v":0},{"$f":"COUNTIF(J18:J54,\"nie\")","v":0},{"$f":"(J15+K15)/19","v":0}]
[null,null,"rozporządzenie: §13 - §16.\nstandardy: 2050; 2200; 2201; 2210; 2220; 2230;2240",null,null,null,null,null,null,null,null,null,null,null,"NALEŻY WSKAZAĆ ZAKRES ZIDENTYFIKOWANEJ NIEPRAWIDŁOWOŚCI ORAZ ZAPLANOWAĆ I ZREALIZOWAĆ \nDZIAŁANIA KORYGUJĄCE/NAPRAWCZE\nW tym celu proszę wypełnić poniższe komórki.\n"]
[null,null,null,null,null,null,null,null,null,"odpowiedź",null,"dowód/potwierdzenie dla pełnej \nlub częściowej zgodności/komentarz",null,null,"zakres zidentyfikowanej niezgodności\nw przypadku częściowej niezgodności należy wymienić i opisać te elementy, które wymagają działań korygujących/naprawczych",null,"planowane działania korygujące/naprawcze",null,null,null,"termin realizacji"]
[null,{"$f":"$B$15","v":"III.A.1."},1,"Czy kierownik komórki audytu wewnętrznego/audytor wewnętrzny poinformował audytowanego o planowanej realizacji zadania?",null,null,null,null,null,{"$f":"IF(OR('III. Realizacja ZZ 1'!J18=\"nie\",'III. Realizacja ZZ 2'!J18=\"nie\",'III. Realizacja ZZ 3'!J18=\"nie\",'III. Realizacja ZZ 4'!J18=\"nie\",'III. Realizacja ZZ 5'!J18=\"nie\",'III. Realizacja ZZ 6'!J18=\"nie\",'III. Realizacja ZZ 7'!J18=\"nie\",'III. Realizacja ZZ 8'!J18=\"nie\",'III. Realizacja ZZ 9'!J18=\"nie\",'III. Realizacja ZZ 10'!J18=\"nie\"),\"nie\",IF(AND('III. Realizacja ZZ 1'!J18=\"\",'III. Realizacja ZZ 2'!J18=\"\",'III. Realizacja ZZ 3'!J18=\"\",'III. Realizacja ZZ 4'!J18=\"\",'III. Realizacja ZZ 5'!J18=\"\",'III. Realizacja ZZ 6'!J18=\"\",'III. Realizacja ZZ 7'!J18=\"\",'III. Realizacja ZZ 8'!J18=\"\",'III. Realizacja ZZ 9'!J18=\"\",'III. Realizacja ZZ 10'!J18=\"\"),\"\",\"tak\"))","v":""},null,"szczegółowe informacje w zakładkach poszczegółnych zadań",null,{"$f":"IF(J18=\"nie\",\"!\",\"\")","v":""},{"$f":"listy!$A$19","v":"szczegółowe informacje w zakładkach poszczegółnych zadań"},null,{"$f":"listy!$A$19","v":"szczegółowe informacje w zakładkach poszczegółnych zadań"},null,null,null,{"$f":"listy!$A$19","v":"szczegółowe informacje w zakładkach poszczegółnych zadań"}]
[]
[null,{"$f":"$B$15","v":"III.A.1."},2,"Czy rozpoczynając realizację zadania zapewniającego audytor wewnętrzny przeprowadził przegląd wstępny?",null,null,null,null,null,{"$f":"IF(OR('III. Realizacja ZZ 1'!J20=\"nie\",'III. Realizacja ZZ 2'!J20=\"nie\",'III. Realizacja ZZ 3'!J20=\"nie\",'III. Realizacja ZZ 4'!J20=\"nie\",'III. Realizacja ZZ 5'!J20=\"nie\",'III. Realizacja ZZ 6'!J20=\"nie\",'III. Realizacja ZZ 7'!J20=\"nie\",'III. Realizacja ZZ 8'!J20=\"nie\",'III. Realizacja ZZ 9'!J20=\"nie\",'III. Realizacja ZZ 10'!J20=\"nie\"),\"nie\",IF(AND('III. Realizacja ZZ 1'!J20=\"\",'III. Realizacja ZZ 2'!J20=\"\",'III. Realizacja ZZ 3'!J20=\"\",'III. Realizacja ZZ 4'!J20=\"\",'III. Realizacja ZZ 5'!J20=\"\",'III. Realizacja ZZ 6'!J20=\"\",'III. Realizacja ZZ 7'!J20=\"\",'III. Realizacja ZZ 8'!J20=\"\",'III. Realizacja ZZ 9'!J20=\"\",'III. Realizacja ZZ 10'!J20=\"\"),\"\",\"tak\"))","v":""},null,"szczegółowe informacje w zakładkach poszczegółnych zadań",null,{"$f":"IF(J20=\"nie\",\"!\",\"\")","v":""},{"$f":"listy!$A$19","v":"szczegółowe informacje w zakładkach poszczegółnych zadań"},null,{"$f":"listy!$A$19","v":"szczegółowe informacje w zakładkach poszczegółnych zadań"},null,null,null,{"$f":"listy!$A$19","v":"szczegółowe informacje w zakładkach poszczegółnych zadań"}]
[]
[null,{"$f":"$B$15","v":"III.A.1."},3,"Czy przegląd wstępny obejmował zapoznanie się z celami i obszarem działalności jednostki, w którym zostało zrealizowane zadanie?",null,null,null,null,null,{"$f":"IF(OR('III. Realizacja ZZ 1'!J22=\"nie\",'III. Realizacja ZZ 2'!J22=\"nie\",'III. Realizacja ZZ 3'!J22=\"nie\",'III. Realizacja ZZ 4'!J22=\"nie\",'III. Realizacja ZZ 5'!J22=\"nie\",'III. Realizacja ZZ 6'!J22=\"nie\",'III. Realizacja ZZ 7'!J22=\"nie\",'III. Realizacja ZZ 8'!J22=\"nie\",'III. Realizacja ZZ 9'!J22=\"nie\",'III. Realizacja ZZ 10'!J22=\"nie\"),\"nie\",IF(AND('III. Realizacja ZZ 1'!J22=\"\",'III. Realizacja ZZ 2'!J22=\"\",'III. Realizacja ZZ 3'!J22=\"\",'III. Realizacja ZZ 4'!J22=\"\",'III. Realizacja ZZ 5'!J22=\"\",'III. Realizacja ZZ 6'!J22=\"\",'III. Realizacja ZZ 7'!J22=\"\",'III. Realizacja ZZ 8'!J22=\"\",'III. Realizacja ZZ 9'!J22=\"\",'III. Realizacja ZZ 10'!J22=\"\"),\"\",\"tak\"))","v":""},null,"szczegółowe informacje w zakładkach poszczegółnych zadań",null,{"$f":"IF(J22=\"nie\",\"!\",\"\")","v":""},{"$f":"listy!$A$19","v":"szczegółowe informacje w zakładkach poszczegółnych zadań"},null,{"$f":"listy!$A$19","v":"szczegółowe informacje w zakładkach poszczegółnych zadań"},null,null,null,{"$f":"listy!$A$19","v":"szczegółowe informacje w zakładkach poszczegółnych zadań"}]
[]
[null,{"$f":"$B$15","v":"III.A.1."},4,"Czy przegląd wstępny obejmował dokonanie identyfikacji i oceny ryzyka, po uwzględnieniu istniejących mechanizmów kontrolnych?",null,null,null,null,null,{"$f":"IF(OR('III. Realizacja ZZ 1'!J24=\"nie\",'III. Realizacja ZZ 2'!J24=\"nie\",'III. Realizacja ZZ 3'!J24=\"nie\",'III. Realizacja ZZ 4'!J24=\"nie\",'III. Realizacja ZZ 5'!J24=\"nie\",'III. Realizacja ZZ 6'!J24=\"nie\",'III. Realizacja ZZ 7'!J24=\"nie\",'III. Realizacja ZZ 8'!J24=\"nie\",'III. Realizacja ZZ 9'!J24=\"nie\",'III. Realizacja ZZ 10'!J24=\"nie\"),\"nie\",IF(AND('III. Realizacja ZZ 1'!J24=\"\",'III. Realizacja ZZ 2'!J24=\"\",'III. Realizacja ZZ 3'!J24=\"\",'III. Realizacja ZZ 4'!J24=\"\",'III. Realizacja ZZ 5'!J24=\"\",'III. Realizacja ZZ 6'!J24=\"\",'III. Realizacja ZZ 7'!J24=\"\",'III. Realizacja ZZ 8'!J24=\"\",'III. Realizacja ZZ 9'!J24=\"\",'III. Realizacja ZZ 10'!J24=\"\"),\"\",\"tak\"))","v":""},null,"szczegółowe informacje w zakładkach poszczegółnych zadań",null,{"$f":"IF(J24=\"nie\",\"!\",\"\")","v":""},{"$f":"listy!$A$19","v":"szczegółowe informacje w zakładkach poszczegółnych zadań"},null,{"$f":"listy!$A$19","v":"szczegółowe informacje w zakładkach poszczegółnych zadań"},null,null,null,{"$f":"listy!$A$19","v":"szczegółowe informacje w zakładkach poszczegółnych zadań"}]
[]
[null,{"$f":"$B$15","v":"III.A.1."},5,"Czy przegląd wstępny obejmował uzgodnienie z audytowanym kryteriów oceny mechanizmów kontrolnych w obszarze działalności jednostki objętym zadaniem lub \nw przypadku braku uzgodnienia kryteriów z audytowanym kryteria zostały uzgodnione \nz kierownikiem jednostki?",null,null,null,null,null,{"$f":"IF(OR('III. Realizacja ZZ 1'!J26=\"nie\",'III. Realizacja ZZ 2'!J26=\"nie\",'III. Realizacja ZZ 3'!J26=\"nie\",'III. Realizacja ZZ 4'!J26=\"nie\",'III. Realizacja ZZ 5'!J26=\"nie\",'III. Realizacja ZZ 6'!J26=\"nie\",'III. Realizacja ZZ 7'!J26=\"nie\",'III. Realizacja ZZ 8'!J26=\"nie\",'III. Realizacja ZZ 9'!J26=\"nie\",'III. Realizacja ZZ 10'!J26=\"nie\"),\"nie\",IF(AND('III. Realizacja ZZ 1'!J26=\"\",'III. Realizacja ZZ 2'!J26=\"\",'III. Realizacja ZZ 3'!J26=\"\",'III. Realizacja ZZ 4'!J26=\"\",'III. Realizacja ZZ 5'!J26=\"\",'III. Realizacja ZZ 6'!J26=\"\",'III. Realizacja ZZ 7'!J26=\"\",'III. Realizacja ZZ 8'!J26=\"\",'III. Realizacja ZZ 9'!J26=\"\",'III. Realizacja ZZ 10'!J26=\"\"),\"\",\"tak\"))","v":""},null,"szczegółowe informacje w zakładkach poszczegółnych zadań",null,{"$f":"IF(J26=\"nie\",\"!\",\"\")","v":""},{"$f":"listy!$A$19","v":"szczegółowe informacje w zakładkach poszczegółnych zadań"},null,{"$f":"listy!$A$19","v":"szczegółowe informacje w zakładkach poszczegółnych zadań"},null,null,null,{"$f":"listy!$A$19","v":"szczegółowe informacje w zakładkach poszczegółnych zadań"}]
[]
[null,{"$f":"$B$15","v":"III.A.1."},6,"Czy audytor wewnętrzny przygotował program zadania zapewniającego?",null,null,null,null,null,{"$f":"IF(OR('III. Realizacja ZZ 1'!J28=\"nie\",'III. Realizacja ZZ 2'!J28=\"nie\",'III. Realizacja ZZ 3'!J28=\"nie\",'III. Realizacja ZZ 4'!J28=\"nie\",'III. Realizacja ZZ 5'!J28=\"nie\",'III. Realizacja ZZ 6'!J28=\"nie\",'III. Realizacja ZZ 7'!J28=\"nie\",'III. Realizacja ZZ 8'!J28=\"nie\",'III. Realizacja ZZ 9'!J28=\"nie\",'III. Realizacja ZZ 10'!J28=\"nie\"),\"nie\",IF(AND('III. Realizacja ZZ 1'!J28=\"\",'III. Realizacja ZZ 2'!J28=\"\",'III. Realizacja ZZ 3'!J28=\"\",'III. Realizacja ZZ 4'!J28=\"\",'III. Realizacja ZZ 5'!J28=\"\",'III. Realizacja ZZ 6'!J28=\"\",'III. Realizacja ZZ 7'!J28=\"\",'III. Realizacja ZZ 8'!J28=\"\",'III. Realizacja ZZ 9'!J28=\"\",'III. Realizacja ZZ 10'!J28=\"\"),\"\",\"tak\"))","v":""},null,"szczegółowe informacje w zakładkach poszczegółnych zadań",null,{"$f":"IF(J28=\"nie\",\"!\",\"\")","v":""},{"$f":"listy!$A$19","v":"szczegółowe informacje w zakładkach poszczegółnych zadań"},null,{"$f":"listy!$A$19","v":"szczegółowe informacje w zakładkach poszczegółnych zadań"},null,null,null,{"$f":"listy!$A$19","v":"szczegółowe informacje w zakładkach poszczegółnych zadań"}]
[]
[null,{"$f":"$B$15","v":"III.A.1."},7,"Czy program zadania zapewniającego uwzględniał wynik przeglądu wstępnego?",null,null,null,null,null,{"$f":"IF(OR('III. Realizacja ZZ 1'!J30=\"nie\",'III. Realizacja ZZ 2'!J30=\"nie\",'III. Realizacja ZZ 3'!J30=\"nie\",'III. Realizacja ZZ 4'!J30=\"nie\",'III. Realizacja ZZ 5'!J30=\"nie\",'III. Realizacja ZZ 6'!J30=\"nie\",'III. Realizacja ZZ 7'!J30=\"nie\",'III. Realizacja ZZ 8'!J30=\"nie\",'III. Realizacja ZZ 9'!J30=\"nie\",'III. Realizacja ZZ 10'!J30=\"nie\"),\"nie\",IF(AND('III. Realizacja ZZ 1'!J30=\"\",'III. Realizacja ZZ 2'!J30=\"\",'III. Realizacja ZZ 3'!J30=\"\",'III. Realizacja ZZ 4'!J30=\"\",'III. Realizacja ZZ 5'!J30=\"\",'III. Realizacja ZZ 6'!J30=\"\",'III. Realizacja ZZ 7'!J30=\"\",'III. Realizacja ZZ 8'!J30=\"\",'III. Realizacja ZZ 9'!J30=\"\",'III. Realizacja ZZ 10'!J30=\"\"),\"\",\"tak\"))","v":""},null,"szczegółowe informacje w zakładkach poszczegółnych zadań",null,{"$f":"IF(J30=\"nie\",\"!\",\"\")","v":""},{"$f":"listy!$A$19","v":"szczegółowe informacje w zakładkach poszczegółnych zadań"},null,{"$f":"listy!$A$19","v":"szczegółowe informacje w zakładkach poszczegółnych zadań"},null,null,null,{"$f":"listy!$A$19","v":"szczegółowe informacje w zakładkach poszczegółnych zadań"}]
[]
[null,{"$f":"$B$15","v":"III.A.1."},8,"Czy program zadania zapewniającego uwzględniał uwagi kierownika jednostki \ni audytowanego?",null,null,null,null,null,{"$f":"IF(OR('III. Realizacja ZZ 1'!J32=\"nie\",'III. Realizacja ZZ 2'!J32=\"nie\",'III. Realizacja ZZ 3'!J32=\"nie\",'III. Realizacja ZZ 4'!J32=\"nie\",'III. Realizacja ZZ 5'!J32=\"nie\",'III. Realizacja ZZ 6'!J32=\"nie\",'III. Realizacja ZZ 7'!J32=\"nie\",'III. Realizacja ZZ 8'!J32=\"nie\",'III. Realizacja ZZ 9'!J32=\"nie\",'III. Realizacja ZZ 10'!J32=\"nie\"),\"nie\",IF(AND('III. Realizacja ZZ 1'!J32=\"\",'III. Realizacja ZZ 2'!J32=\"\",'III. Realizacja ZZ 3'!J32=\"\",'III. Realizacja ZZ 4'!J32=\"\",'III. Realizacja ZZ 5'!J32=\"\",'III. Realizacja ZZ 6'!J32=\"\",'III. Realizacja ZZ 7'!J32=\"\",'III. Realizacja ZZ 8'!J32=\"\",'III. Realizacja ZZ 9'!J32=\"\",'III. Realizacja ZZ 10'!J32=\"\"),\"\",\"tak\"))","v":""},null,"szczegółowe informacje w zakładkach poszczegółnych zadań",null,{"$f":"IF(J32=\"nie\",\"!\",\"\")","v":""},{"$f":"listy!$A$19","v":"szczegółowe informacje w zakładkach poszczegółnych zadań"},null,{"$f":"listy!$A$19","v":"szczegółowe informacje w zakładkach poszczegółnych zadań"},null,null,null,{"$f":"listy!$A$19","v":"szczegółowe informacje w zakładkach poszczegółnych zadań"}]
[null,null,null,null,null,null,null,null,null,null,null,null,null,null,"w"]
[null,{"$f":"$B$15","v":"III.A.1."},9,"Czy program zadania zapewniającego uwzględniał zasoby niezbędne do przeprowadzenia zadania, w tym ewentualną potrzebę uzyskania pomocy eksperta?",null,null,null,null,null,{"$f":"IF(OR('III. Realizacja ZZ 1'!J34=\"nie\",'III. Realizacja ZZ 2'!J34=\"nie\",'III. Realizacja ZZ 3'!J34=\"nie\",'III. Realizacja ZZ 4'!J34=\"nie\",'III. Realizacja ZZ 5'!J34=\"nie\",'III. Realizacja ZZ 6'!J34=\"nie\",'III. Realizacja ZZ 7'!J34=\"nie\",'III. Realizacja ZZ 8'!J34=\"nie\",'III. Realizacja ZZ 9'!J34=\"nie\",'III. Realizacja ZZ 10'!J34=\"nie\"),\"nie\",IF(AND('III. Realizacja ZZ 1'!J34=\"\",'III. Realizacja ZZ 2'!J34=\"\",'III. Realizacja ZZ 3'!J34=\"\",'III. Realizacja ZZ 4'!J34=\"\",'III. Realizacja ZZ 5'!J34=\"\",'III. Realizacja ZZ 6'!J34=\"\",'III. Realizacja ZZ 7'!J34=\"\",'III. Realizacja ZZ 8'!J34=\"\",'III. Realizacja ZZ 9'!J34=\"\",'III. Realizacja ZZ 10'!J34=\"\"),\"\",\"tak\"))","v":""},null,"szczegółowe informacje w zakładkach poszczegółnych zadań",null,{"$f":"IF(J34=\"nie\",\"!\",\"\")","v":""},{"$f":"listy!$A$19","v":"szczegółowe informacje w zakładkach poszczegółnych zadań"},null,{"$f":"listy!$A$19","v":"szczegółowe informacje w zakładkach poszczegółnych zadań"},null,null,null,{"$f":"listy!$A$19","v":"szczegółowe informacje w zakładkach poszczegółnych zadań"}]
[]
[null,{"$f":"$B$15","v":"III.A.1."},10,"Czy program zadania zapewniającego uwzględniał przewidywany czas trwania zadania?",null,null,null,null,null,{"$f":"IF(OR('III. Realizacja ZZ 1'!J36=\"nie\",'III. Realizacja ZZ 2'!J36=\"nie\",'III. Realizacja ZZ 3'!J36=\"nie\",'III. Realizacja ZZ 4'!J36=\"nie\",'III. Realizacja ZZ 5'!J36=\"nie\",'III. Realizacja ZZ 6'!J36=\"nie\",'III. Realizacja ZZ 7'!J36=\"nie\",'III. Realizacja ZZ 8'!J36=\"nie\",'III. Realizacja ZZ 9'!J36=\"nie\",'III. Realizacja ZZ 10'!J36=\"nie\"),\"nie\",IF(AND('III. Realizacja ZZ 1'!J36=\"\",'III. Realizacja ZZ 2'!J36=\"\",'III. Realizacja ZZ 3'!J36=\"\",'III. Realizacja ZZ 4'!J36=\"\",'III. Realizacja ZZ 5'!J36=\"\",'III. Realizacja ZZ 6'!J36=\"\",'III. Realizacja ZZ 7'!J36=\"\",'III. Realizacja ZZ 8'!J36=\"\",'III. Realizacja ZZ 9'!J36=\"\",'III. Realizacja ZZ 10'!J36=\"\"),\"\",\"tak\"))","v":""},null,"szczegółowe informacje w zakładkach poszczegółnych zadań",null,{"$f":"IF(J36=\"nie\",\"!\",\"\")","v":""},{"$f":"listy!$A$19","v":"szczegółowe informacje w zakładkach poszczegółnych zadań"},null,{"$f":"listy!$A$19","v":"szczegółowe informacje w zakładkach poszczegółnych zadań"},null,null,null,{"$f":"listy!$A$19","v":"szczegółowe informacje w zakładkach poszczegółnych zadań"}]
[]
[null,{"$f":"$B$15","v":"III.A.1."},11,"Czy program zadania zapewniającego określał temat zadania?",null,null,null,null,null,{"$f":"IF(OR('III. Realizacja ZZ 1'!J38=\"nie\",'III. Realizacja ZZ 2'!J38=\"nie\",'III. Realizacja ZZ 3'!J38=\"nie\",'III. Realizacja ZZ 4'!J38=\"nie\",'III. Realizacja ZZ 5'!J38=\"nie\",'III. Realizacja ZZ 6'!J38=\"nie\",'III. Realizacja ZZ 7'!J38=\"nie\",'III. Realizacja ZZ 8'!J38=\"nie\",'III. Realizacja ZZ 9'!J38=\"nie\",'III. Realizacja ZZ 10'!J38=\"nie\"),\"nie\",IF(AND('III. Realizacja ZZ 1'!J38=\"\",'III. Realizacja ZZ 2'!J38=\"\",'III. Realizacja ZZ 3'!J38=\"\",'III. Realizacja ZZ 4'!J38=\"\",'III. Realizacja ZZ 5'!J38=\"\",'III. Realizacja ZZ 6'!J38=\"\",'III. Realizacja ZZ 7'!J38=\"\",'III. Realizacja ZZ 8'!J38=\"\",'III. Realizacja ZZ 9'!J38=\"\",'III. Realizacja ZZ 10'!J38=\"\"),\"\",\"tak\"))","v":""},null,"szczegółowe informacje w zakładkach poszczegółnych zadań",null,{"$f":"IF(J38=\"nie\",\"!\",\"\")","v":""},{"$f":"listy!$A$19","v":"szczegółowe informacje w zakładkach poszczegółnych zadań"},null,{"$f":"listy!$A$19","v":"szczegółowe informacje w zakładkach poszczegółnych zadań"},null,null,null,{"$f":"listy!$A$19","v":"szczegółowe informacje w zakładkach poszczegółnych zadań"}]
[]
[null,{"$f":"$B$15","v":"III.A.1."},12,"Czy program zadania zapewniającego określał cel zadania?",null,null,null,null,null,{"$f":"IF(OR('III. Realizacja ZZ 1'!J40=\"nie\",'III. Realizacja ZZ 2'!J40=\"nie\",'III. Realizacja ZZ 3'!J40=\"nie\",'III. Realizacja ZZ 4'!J40=\"nie\",'III. Realizacja ZZ 5'!J40=\"nie\",'III. Realizacja ZZ 6'!J40=\"nie\",'III. Realizacja ZZ 7'!J40=\"nie\",'III. Realizacja ZZ 8'!J40=\"nie\",'III. Realizacja ZZ 9'!J40=\"nie\",'III. Realizacja ZZ 10'!J40=\"nie\"),\"nie\",IF(AND('III. Realizacja ZZ 1'!J40=\"\",'III. Realizacja ZZ 2'!J40=\"\",'III. Realizacja ZZ 3'!J40=\"\",'III. Realizacja ZZ 4'!J40=\"\",'III. Realizacja ZZ 5'!J40=\"\",'III. Realizacja ZZ 6'!J40=\"\",'III. Realizacja ZZ 7'!J40=\"\",'III. Realizacja ZZ 8'!J40=\"\",'III. Realizacja ZZ 9'!J40=\"\",'III. Realizacja ZZ 10'!J40=\"\"),\"\",\"tak\"))","v":""},null,"szczegółowe informacje w zakładkach poszczegółnych zadań",null,{"$f":"IF(J40=\"nie\",\"!\",\"\")","v":""},{"$f":"listy!$A$19","v":"szczegółowe informacje w zakładkach poszczegółnych zadań"},null,{"$f":"listy!$A$19","v":"szczegółowe informacje w zakładkach poszczegółnych zadań"},null,null,null,{"$f":"listy!$A$19","v":"szczegółowe informacje w zakładkach poszczegółnych zadań"}]
[]
[null,{"$f":"$B$15","v":"III.A.1."},13,"Czy program zadania zapewniającego określał zakres podmiotowy i przedmiotowy zadania?",null,null,null,null,null,{"$f":"IF(OR('III. Realizacja ZZ 1'!J42=\"nie\",'III. Realizacja ZZ 2'!J42=\"nie\",'III. Realizacja ZZ 3'!J42=\"nie\",'III. Realizacja ZZ 4'!J42=\"nie\",'III. Realizacja ZZ 5'!J42=\"nie\",'III. Realizacja ZZ 6'!J42=\"nie\",'III. Realizacja ZZ 7'!J42=\"nie\",'III. Realizacja ZZ 8'!J42=\"nie\",'III. Realizacja ZZ 9'!J42=\"nie\",'III. Realizacja ZZ 10'!J42=\"nie\"),\"nie\",IF(AND('III. Realizacja ZZ 1'!J42=\"\",'III. Realizacja ZZ 2'!J42=\"\",'III. Realizacja ZZ 3'!J42=\"\",'III. Realizacja ZZ 4'!J42=\"\",'III. Realizacja ZZ 5'!J42=\"\",'III. Realizacja ZZ 6'!J42=\"\",'III. Realizacja ZZ 7'!J42=\"\",'III. Realizacja ZZ 8'!J42=\"\",'III. Realizacja ZZ 9'!J42=\"\",'III. Realizacja ZZ 10'!J42=\"\"),\"\",\"tak\"))","v":""},null,"szczegółowe informacje w zakładkach poszczegółnych zadań",null,{"$f":"IF(J42=\"nie\",\"!\",\"\")","v":""},{"$f":"listy!$A$19","v":"szczegółowe informacje w zakładkach poszczegółnych zadań"},null,{"$f":"listy!$A$19","v":"szczegółowe informacje w zakładkach poszczegółnych zadań"},null,null,null,{"$f":"listy!$A$19","v":"szczegółowe informacje w zakładkach poszczegółnych zadań"}]
[]
[null,{"$f":"$B$15","v":"III.A.1."},14,"Czy program zadania zapewniającego określał istotne ryzyka w obszarze działalności jednostki objętym zadaniem?",null,null,null,null,null,{"$f":"IF(OR('III. Realizacja ZZ 1'!J44=\"nie\",'III. Realizacja ZZ 2'!J44=\"nie\",'III. Realizacja ZZ 3'!J44=\"nie\",'III. Realizacja ZZ 4'!J44=\"nie\",'III. Realizacja ZZ 5'!J44=\"nie\",'III. Realizacja ZZ 6'!J44=\"nie\",'III. Realizacja ZZ 7'!J44=\"nie\",'III. Realizacja ZZ 8'!J44=\"nie\",'III. Realizacja ZZ 9'!J44=\"nie\",'III. Realizacja ZZ 10'!J44=\"nie\"),\"nie\",IF(AND('III. Realizacja ZZ 1'!J44=\"\",'III. Realizacja ZZ 2'!J44=\"\",'III. Realizacja ZZ 3'!J44=\"\",'III. Realizacja ZZ 4'!J44=\"\",'III. Realizacja ZZ 5'!J44=\"\",'III. Realizacja ZZ 6'!J44=\"\",'III. Realizacja ZZ 7'!J44=\"\",'III. Realizacja ZZ 8'!J44=\"\",'III. Realizacja ZZ 9'!J44=\"\",'III. Realizacja ZZ 10'!J44=\"\"),\"\",\"tak\"))","v":""},null,"szczegółowe informacje w zakładkach poszczegółnych zadań",null,{"$f":"IF(J44=\"nie\",\"!\",\"\")","v":""},{"$f":"listy!$A$19","v":"szczegółowe informacje w zakładkach poszczegółnych zadań"},null,{"$f":"listy!$A$19","v":"szczegółowe informacje w zakładkach poszczegółnych zadań"},null,null,null,{"$f":"listy!$A$19","v":"szczegółowe informacje w zakładkach poszczegółnych zadań"}]
[]
[null,{"$f":"$B$15","v":"III.A.1."},15,"Czy program zadania zapewniającego określał sposób zrealizowania zadania, w szczególności opis doboru próby do badania oraz technik badania?",null,null,null,null,null,{"$f":"IF(OR('III. Realizacja ZZ 1'!J46=\"nie\",'III. Realizacja ZZ 2'!J46=\"nie\",'III. Realizacja ZZ 3'!J46=\"nie\",'III. Realizacja ZZ 4'!J46=\"nie\",'III. Realizacja ZZ 5'!J46=\"nie\",'III. Realizacja ZZ 6'!J46=\"nie\",'III. Realizacja ZZ 7'!J46=\"nie\",'III. Realizacja ZZ 8'!J46=\"nie\",'III. Realizacja ZZ 9'!J46=\"nie\",'III. Realizacja ZZ 10'!J46=\"nie\"),\"nie\",IF(AND('III. Realizacja ZZ 1'!J46=\"\",'III. Realizacja ZZ 2'!J46=\"\",'III. Realizacja ZZ 3'!J46=\"\",'III. Realizacja ZZ 4'!J46=\"\",'III. Realizacja ZZ 5'!J46=\"\",'III. Realizacja ZZ 6'!J46=\"\",'III. Realizacja ZZ 7'!J46=\"\",'III. Realizacja ZZ 8'!J46=\"\",'III. Realizacja ZZ 9'!J46=\"\",'III. Realizacja ZZ 10'!J46=\"\"),\"\",\"tak\"))","v":""},null,"szczegółowe informacje w zakładkach poszczegółnych zadań",null,{"$f":"IF(J46=\"nie\",\"!\",\"\")","v":""},{"$f":"listy!$A$19","v":"szczegółowe informacje w zakładkach poszczegółnych zadań"},null,{"$f":"listy!$A$19","v":"szczegółowe informacje w zakładkach poszczegółnych zadań"},null,null,null,{"$f":"listy!$A$19","v":"szczegółowe informacje w zakładkach poszczegółnych zadań"}]
[]
[null,{"$f":"$B$15","v":"III.A.1."},16,"Czy program zadania zapewniającego zawierał uzgodnione kryteria oceny?",null,null,null,null,null,{"$f":"IF(OR('III. Realizacja ZZ 1'!J48=\"nie\",'III. Realizacja ZZ 2'!J48=\"nie\",'III. Realizacja ZZ 3'!J48=\"nie\",'III. Realizacja ZZ 4'!J48=\"nie\",'III. Realizacja ZZ 5'!J48=\"nie\",'III. Realizacja ZZ 6'!J48=\"nie\",'III. Realizacja ZZ 7'!J48=\"nie\",'III. Realizacja ZZ 8'!J48=\"nie\",'III. Realizacja ZZ 9'!J48=\"nie\",'III. Realizacja ZZ 10'!J48=\"nie\"),\"nie\",IF(AND('III. Realizacja ZZ 1'!J48=\"\",'III. Realizacja ZZ 2'!J48=\"\",'III. Realizacja ZZ 3'!J48=\"\",'III. Realizacja ZZ 4'!J48=\"\",'III. Realizacja ZZ 5'!J48=\"\",'III. Realizacja ZZ 6'!J48=\"\",'III. Realizacja ZZ 7'!J48=\"\",'III. Realizacja ZZ 8'!J48=\"\",'III. Realizacja ZZ 9'!J48=\"\",'III. Realizacja ZZ 10'!J48=\"\"),\"\",\"tak\"))","v":""},null,"szczegółowe informacje w zakładkach poszczegółnych zadań",null,{"$f":"IF(J48=\"nie\",\"!\",\"\")","v":""},{"$f":"listy!$A$19","v":"szczegółowe informacje w zakładkach poszczegółnych zadań"},null,{"$f":"listy!$A$19","v":"szczegółowe informacje w zakładkach poszczegółnych zadań"},null,null,null,{"$f":"listy!$A$19","v":"szczegółowe informacje w zakładkach poszczegółnych zadań"}]
[]
[null,{"$f":"$B$15","v":"III.A.1."},17,"Czy program zadania zapewniającego zawierał datę rozpoczęcia i zakończenia zadania?",null,null,null,null,null,{"$f":"IF(OR('III. Realizacja ZZ 1'!J50=\"nie\",'III. Realizacja ZZ 2'!J50=\"nie\",'III. Realizacja ZZ 3'!J50=\"nie\",'III. Realizacja ZZ 4'!J50=\"nie\",'III. Realizacja ZZ 5'!J50=\"nie\",'III. Realizacja ZZ 6'!J50=\"nie\",'III. Realizacja ZZ 7'!J50=\"nie\",'III. Realizacja ZZ 8'!J50=\"nie\",'III. Realizacja ZZ 9'!J50=\"nie\",'III. Realizacja ZZ 10'!J50=\"nie\"),\"nie\",IF(AND('III. Realizacja ZZ 1'!J50=\"\",'III. Realizacja ZZ 2'!J50=\"\",'III. Realizacja ZZ 3'!J50=\"\",'III. Realizacja ZZ 4'!J50=\"\",'III. Realizacja ZZ 5'!J50=\"\",'III. Realizacja ZZ 6'!J50=\"\",'III. Realizacja ZZ 7'!J50=\"\",'III. Realizacja ZZ 8'!J50=\"\",'III. Realizacja ZZ 9'!J50=\"\",'III. Realizacja ZZ 10'!J50=\"\"),\"\",\"tak\"))","v":""},null,"szczegółowe informacje w zakładkach poszczegółnych zadań",null,{"$f":"IF(J50=\"nie\",\"!\",\"\")","v":""},{"$f":"listy!$A$19","v":"szczegółowe informacje w zakładkach poszczegółnych zadań"},null,{"$f":"listy!$A$19","v":"szczegółowe informacje w zakładkach poszczegółnych zadań"},null,null,null,{"$f":"listy!$A$19","v":"szczegółowe informacje w zakładkach poszczegółnych zadań"}]
[]
[null,{"$f":"$B$15","v":"III.A.1."},18,"Czy program zadania zapewniającego zatwierdził kierownik komórki audytu wewnętrznego/audytor wewnętrzny?",null,null,null,null,null,{"$f":"IF(OR('III. Realizacja ZZ 1'!J52=\"nie\",'III. Realizacja ZZ 2'!J52=\"nie\",'III. Realizacja ZZ 3'!J52=\"nie\",'III. Realizacja ZZ 4'!J52=\"nie\",'III. Realizacja ZZ 5'!J52=\"nie\",'III. Realizacja ZZ 6'!J52=\"nie\",'III. Realizacja ZZ 7'!J52=\"nie\",'III. Realizacja ZZ 8'!J52=\"nie\",'III. Realizacja ZZ 9'!J52=\"nie\",'III. Realizacja ZZ 10'!J52=\"nie\"),\"nie\",IF(AND('III. Realizacja ZZ 1'!J52=\"\",'III. Realizacja ZZ 2'!J52=\"\",'III. Realizacja ZZ 3'!J52=\"\",'III. Realizacja ZZ 4'!J52=\"\",'III. Realizacja ZZ 5'!J52=\"\",'III. Realizacja ZZ 6'!J52=\"\",'III. Realizacja ZZ 7'!J52=\"\",'III. Realizacja ZZ 8'!J52=\"\",'III. Realizacja ZZ 9'!J52=\"\",'III. Realizacja ZZ 10'!J52=\"\"),\"\",\"tak\"))","v":""},null,"szczegółowe informacje w zakładkach poszczegółnych zadań",null,{"$f":"IF(J52=\"nie\",\"!\",\"\")","v":""},{"$f":"listy!$A$19","v":"szczegółowe informacje w zakładkach poszczegółnych zadań"},null,{"$f":"listy!$A$19","v":"szczegółowe informacje w zakładkach poszczegółnych zadań"},null,null,null,{"$f":"listy!$A$19","v":"szczegółowe informacje w zakładkach poszczegółnych zadań"}]
[null,null,null,null,null,null,null,null,null,null,null,null,null,null,"w"]
[null,{"$f":"$B$15","v":"III.A.1."},19,"Czy kierownik komórki audytu wewnętrznego w celu zapewnienia odpowiedniego zakresu audytu oraz niepowielania pracy korzystał z informacji i koordynował działania wewnętrznych i zewnętrznych wykonawców usług doradczych i zapewniających?",null,null,null,null,null,{"$f":"IF(OR('III. Realizacja ZZ 1'!J54=\"nie\",'III. Realizacja ZZ 2'!J54=\"nie\",'III. Realizacja ZZ 3'!J54=\"nie\",'III. Realizacja ZZ 4'!J54=\"nie\",'III. Realizacja ZZ 5'!J54=\"nie\",'III. Realizacja ZZ 6'!J54=\"nie\",'III. Realizacja ZZ 7'!J54=\"nie\",'III. Realizacja ZZ 8'!J54=\"nie\",'III. Realizacja ZZ 9'!J54=\"nie\",'III. Realizacja ZZ 10'!J54=\"nie\"),\"nie\",IF(AND('III. Realizacja ZZ 1'!J54=\"\",'III. Realizacja ZZ 2'!J54=\"\",'III. Realizacja ZZ 3'!J54=\"\",'III. Realizacja ZZ 4'!J54=\"\",'III. Realizacja ZZ 5'!J54=\"\",'III. Realizacja ZZ 6'!J54=\"\",'III. Realizacja ZZ 7'!J54=\"\",'III. Realizacja ZZ 8'!J54=\"\",'III. Realizacja ZZ 9'!J54=\"\",'III. Realizacja ZZ 10'!J54=\"\"),\"\",\"tak\"))","v":""},null,"szczegółowe informacje w zakładkach poszczegółnych zadań",null,null,{"$f":"listy!$A$19","v":"szczegółowe informacje w zakładkach poszczegółnych zadań"},null,{"$f":"listy!$A$19","v":"szczegółowe informacje w zakładkach poszczegółnych zadań"},null,null,null,{"$f":"listy!$A$19","v":"szczegółowe informacje w zakładkach poszczegółnych zadań"}]
[null,null,null,null,null,null,null,null,null,"tak","nie","% udzielonych odpowiedzi"]
[null,"III.A.2.","Realizacja zadania zapewniającego ",null,null,null,null,null,null,{"$f":"COUNTIF(J59:J79,\"tak\")","v":0},{"$f":"COUNTIF(J59:J79,\"nie\")","v":0},{"$f":"(J56+K56)/11","v":0}]
[null,null,"ustawa: art. 273 ust. 2; art. 280; art. 282 ust.2 i 282 ust.3\nrozporządzenie: §4 ust. 1; §16 ust. 2; §16 ust. 3\nstandardy: 1130; 2000; 2100; 2300; 2310; 2320; 2330; 2340",null,null,null,null,null,null,null,null,null,null,null,"NALEŻY WSKAZAĆ ZAKRES ZIDENTYFIKOWANEJ NIEPRAWIDŁOWOŚCI ORAZ ZAPLANOWAĆ I ZREALIZOWAĆ \nDZIAŁANIA KORYGUJĄCE/NAPRAWCZE\nW tym celu proszę wypełnić poniższe komórki.\n"]
[null,null,null,null,null,null,null,null,null,"odpowiedź",null,"dowód/potwierdzenie dla pełnej \nlub częściowej zgodności/komentarz",null,null,"zakres zidentyfikowanej niezgodności\nw przypadku częściowej niezgodności należy wymienić i opisać te elementy, które wymagają działań korygujących/naprawczych",null,"planowane działania korygujące/naprawcze",null,null,null,"termin realizacji"]
[null,{"$f":"$B$56","v":"III.A.2."},1,"W trakcie realizacji zadania nie wystąpił przypadek ograniczenia audytorowi prawa wstępu do pomieszczeń jednostki lub prawa do wglądu do dokumentów, informacji i danych oraz do innych materiałów związanych z funkcjonowaniem jednostki?",null,null,null,null,null,{"$f":"IF(OR('III. Realizacja ZZ 1'!J59=\"nie\",'III. Realizacja ZZ 2'!J59=\"nie\",'III. Realizacja ZZ 3'!J59=\"nie\",'III. Realizacja ZZ 4'!J59=\"nie\",'III. Realizacja ZZ 5'!J59=\"nie\",'III. Realizacja ZZ 6'!J59=\"nie\",'III. Realizacja ZZ 7'!J59=\"nie\",'III. Realizacja ZZ 8'!J59=\"nie\",'III. Realizacja ZZ 9'!J59=\"nie\",'III. Realizacja ZZ 10'!J59=\"nie\"),\"nie\",IF(AND('III. Realizacja ZZ 1'!J59=\"\",'III. Realizacja ZZ 2'!J59=\"\",'III. Realizacja ZZ 3'!J59=\"\",'III. Realizacja ZZ 4'!J59=\"\",'III. Realizacja ZZ 5'!J59=\"\",'III. Realizacja ZZ 6'!J59=\"\",'III. Realizacja ZZ 7'!J59=\"\",'III. Realizacja ZZ 8'!J59=\"\",'III. Realizacja ZZ 9'!J59=\"\",'III. Realizacja ZZ 10'!J59=\"\"),\"\",\"tak\"))","v":""},null,"szczegółowe informacje w zakładkach poszczegółnych zadań",null,{"$f":"IF(J59=\"nie\",\"!\",\"\")","v":""},{"$f":"listy!$A$19","v":"szczegółowe informacje w zakładkach poszczegółnych zadań"},null,{"$f":"listy!$A$19","v":"szczegółowe informacje w zakładkach poszczegółnych zadań"},null,null,null,{"$f":"listy!$A$19","v":"szczegółowe informacje w zakładkach poszczegółnych zadań"}]
[]
[null,{"$f":"$B$59","v":"III.A.2."},2,"W trakcie realizacji zadania nie wystąpił przypadek by pracownicy jednostki nie udzielili informacji i wyjaśnień, a także by nie sporządzili i nie potwierdzili kopii, odpisów, wyciągów lub zestawień, na potrzeby realizacji zadań przez audytora wewnętrznego?",null,null,null,null,null,{"$f":"IF(OR('III. Realizacja ZZ 1'!J61=\"nie\",'III. Realizacja ZZ 2'!J61=\"nie\",'III. Realizacja ZZ 3'!J61=\"nie\",'III. Realizacja ZZ 4'!J61=\"nie\",'III. Realizacja ZZ 5'!J61=\"nie\",'III. Realizacja ZZ 6'!J61=\"nie\",'III. Realizacja ZZ 7'!J61=\"nie\",'III. Realizacja ZZ 8'!J61=\"nie\",'III. Realizacja ZZ 9'!J61=\"nie\",'III. Realizacja ZZ 10'!J61=\"nie\"),\"nie\",IF(AND('III. Realizacja ZZ 1'!J61=\"\",'III. Realizacja ZZ 2'!J61=\"\",'III. Realizacja ZZ 3'!J61=\"\",'III. Realizacja ZZ 4'!J61=\"\",'III. Realizacja ZZ 5'!J61=\"\",'III. Realizacja ZZ 6'!J61=\"\",'III. Realizacja ZZ 7'!J61=\"\",'III. Realizacja ZZ 8'!J61=\"\",'III. Realizacja ZZ 9'!J61=\"\",'III. Realizacja ZZ 10'!J61=\"\"),\"\",\"tak\"))","v":""},null,"szczegółowe informacje w zakładkach poszczegółnych zadań",null,{"$f":"IF(J61=\"nie\",\"!\",\"\")","v":""},{"$f":"listy!$A$19","v":"szczegółowe informacje w zakładkach poszczegółnych zadań"},null,{"$f":"listy!$A$19","v":"szczegółowe informacje w zakładkach poszczegółnych zadań"},null,null,null,{"$f":"listy!$A$19","v":"szczegółowe informacje w zakładkach poszczegółnych zadań"}]
[]
[null,{"$f":"$B$59","v":"III.A.2."},3,"Czy kierownik komórki audytu wewnętrznego miał bezpośredni dostęp do kierownika jednostki, a w urzędzie administracji rządowej, w którym tworzy się stanowisko dyrektora generalnego urzędu do dyrektora generalnego w zakresie określonym odrębnymi ustawami na każdym etapie realizacji zadania zapewniającego?",null,null,null,null,null,{"$f":"IF(OR('III. Realizacja ZZ 1'!J63=\"nie\",'III. Realizacja ZZ 2'!J63=\"nie\",'III. Realizacja ZZ 3'!J63=\"nie\",'III. Realizacja ZZ 4'!J63=\"nie\",'III. Realizacja ZZ 5'!J63=\"nie\",'III. Realizacja ZZ 6'!J63=\"nie\",'III. Realizacja ZZ 7'!J63=\"nie\",'III. Realizacja ZZ 8'!J63=\"nie\",'III. Realizacja ZZ 9'!J63=\"nie\",'III. Realizacja ZZ 10'!J63=\"nie\"),\"nie\",IF(AND('III. Realizacja ZZ 1'!J63=\"\",'III. Realizacja ZZ 2'!J63=\"\",'III. Realizacja ZZ 3'!J63=\"\",'III. Realizacja ZZ 4'!J63=\"\",'III. Realizacja ZZ 5'!J63=\"\",'III. Realizacja ZZ 6'!J63=\"\",'III. Realizacja ZZ 7'!J63=\"\",'III. Realizacja ZZ 8'!J63=\"\",'III. Realizacja ZZ 9'!J63=\"\",'III. Realizacja ZZ 10'!J63=\"\"),\"\",\"tak\"))","v":""},null,"szczegółowe informacje w zakładkach poszczegółnych zadań",null,{"$f":"IF(J63=\"nie\",\"!\",\"\")","v":""},{"$f":"listy!$A$19","v":"szczegółowe informacje w zakładkach poszczegółnych zadań"},null,{"$f":"listy!$A$19","v":"szczegółowe informacje w zakładkach poszczegółnych zadań"},null,null,null,{"$f":"listy!$A$19","v":"szczegółowe informacje w zakładkach poszczegółnych zadań"}]
[]
[null,{"$f":"$B$59","v":"III.A.2."},4,"Czy audytor wewnętrzny realizując zadanie zapewniające kierował się wskazówkami zawartymi w standardach audytu wewnętrznego, o których mowa w art. 273 ust. 1 ustawy?",null,null,null,null,null,{"$f":"IF(OR('III. Realizacja ZZ 1'!J65=\"nie\",'III. Realizacja ZZ 2'!J65=\"nie\",'III. Realizacja ZZ 3'!J65=\"nie\",'III. Realizacja ZZ 4'!J65=\"nie\",'III. Realizacja ZZ 5'!J65=\"nie\",'III. Realizacja ZZ 6'!J65=\"nie\",'III. Realizacja ZZ 7'!J65=\"nie\",'III. Realizacja ZZ 8'!J65=\"nie\",'III. Realizacja ZZ 9'!J65=\"nie\",'III. Realizacja ZZ 10'!J65=\"nie\"),\"nie\",IF(AND('III. Realizacja ZZ 1'!J65=\"\",'III. Realizacja ZZ 2'!J65=\"\",'III. Realizacja ZZ 3'!J65=\"\",'III. Realizacja ZZ 4'!J65=\"\",'III. Realizacja ZZ 5'!J65=\"\",'III. Realizacja ZZ 6'!J65=\"\",'III. Realizacja ZZ 7'!J65=\"\",'III. Realizacja ZZ 8'!J65=\"\",'III. Realizacja ZZ 9'!J65=\"\",'III. Realizacja ZZ 10'!J65=\"\"),\"\",\"tak\"))","v":""},null,"szczegółowe informacje w zakładkach poszczegółnych zadań",null,{"$f":"IF(J65=\"nie\",\"!\",\"\")","v":""},{"$f":"listy!$A$19","v":"szczegółowe informacje w zakładkach poszczegółnych zadań"},null,{"$f":"listy!$A$19","v":"szczegółowe informacje w zakładkach poszczegółnych zadań"},null,null,null,{"$f":"listy!$A$19","v":"szczegółowe informacje w zakładkach poszczegółnych zadań"}]
[]
[null,{"$f":"$B$59","v":"III.A.2."},5,"Czy w  trakcie realizacji zadania zapewniono warunki niezbędne do niezależnego, obiektywnego i efektywnego prowadzenia audytu wewnętrznego?",null,null,null,null,null,{"$f":"IF(OR('III. Realizacja ZZ 1'!J67=\"nie\",'III. Realizacja ZZ 2'!J67=\"nie\",'III. Realizacja ZZ 3'!J67=\"nie\",'III. Realizacja ZZ 4'!J67=\"nie\",'III. Realizacja ZZ 5'!J67=\"nie\",'III. Realizacja ZZ 6'!J67=\"nie\",'III. Realizacja ZZ 7'!J67=\"nie\",'III. Realizacja ZZ 8'!J67=\"nie\",'III. Realizacja ZZ 9'!J67=\"nie\",'III. Realizacja ZZ 10'!J67=\"nie\"),\"nie\",IF(AND('III. Realizacja ZZ 1'!J67=\"\",'III. Realizacja ZZ 2'!J67=\"\",'III. Realizacja ZZ 3'!J67=\"\",'III. Realizacja ZZ 4'!J67=\"\",'III. Realizacja ZZ 5'!J67=\"\",'III. Realizacja ZZ 6'!J67=\"\",'III. Realizacja ZZ 7'!J67=\"\",'III. Realizacja ZZ 8'!J67=\"\",'III. Realizacja ZZ 9'!J67=\"\",'III. Realizacja ZZ 10'!J67=\"\"),\"\",\"tak\"))","v":""},null,"szczegółowe informacje w zakładkach poszczegółnych zadań",null,{"$f":"IF(J67=\"nie\",\"!\",\"\")","v":""},{"$f":"listy!$A$19","v":"szczegółowe informacje w zakładkach poszczegółnych zadań"},null,{"$f":"listy!$A$19","v":"szczegółowe informacje w zakładkach poszczegółnych zadań"},null,null,null,{"$f":"listy!$A$19","v":"szczegółowe informacje w zakładkach poszczegółnych zadań"}]
[]
[null,{"$f":"$B$59","v":"III.A.2."},6,"Czy audyt wewnętrzny był przeprowadzany na podstawie pisemnego upoważnienia kierownika jednostki?",null,null,null,null,null,{"$f":"IF(OR('III. Realizacja ZZ 1'!J69=\"nie\",'III. Realizacja ZZ 2'!J69=\"nie\",'III. Realizacja ZZ 3'!J69=\"nie\",'III. Realizacja ZZ 4'!J69=\"nie\",'III. Realizacja ZZ 5'!J69=\"nie\",'III. Realizacja ZZ 6'!J69=\"nie\",'III. Realizacja ZZ 7'!J69=\"nie\",'III. Realizacja ZZ 8'!J69=\"nie\",'III. Realizacja ZZ 9'!J69=\"nie\",'III. Realizacja ZZ 10'!J69=\"nie\"),\"nie\",IF(AND('III. Realizacja ZZ 1'!J69=\"\",'III. Realizacja ZZ 2'!J69=\"\",'III. Realizacja ZZ 3'!J69=\"\",'III. Realizacja ZZ 4'!J69=\"\",'III. Realizacja ZZ 5'!J69=\"\",'III. Realizacja ZZ 6'!J69=\"\",'III. Realizacja ZZ 7'!J69=\"\",'III. Realizacja ZZ 8'!J69=\"\",'III. Realizacja ZZ 9'!J69=\"\",'III. Realizacja ZZ 10'!J69=\"\"),\"\",\"tak\"))","v":""},null,"szczegółowe informacje w zakładkach poszczegółnych zadań",null,{"$f":"IF(J69=\"nie\",\"!\",\"\")","v":""},{"$f":"listy!$A$19","v":"szczegółowe informacje w zakładkach poszczegółnych zadań"},null,{"$f":"listy!$A$19","v":"szczegółowe informacje w zakładkach poszczegółnych zadań"},null,null,null,{"$f":"listy!$A$19","v":"szczegółowe informacje w zakładkach poszczegółnych zadań"}]
[]
[null,{"$f":"$B$59","v":"III.A.2."},7,"Czy w trakcie realizacji zadania zapewniającego dokonywano udokumentowanych zmian w programie zadania zapewniającego, a zmiany te zostały zaakceptowane przez kierownika komórki audytu wewnętrznego?  \n(jeżeli nie dokonywano zmiany programu, należy zaznaczyć tak i w kolumnie dowód/potwierdzenie wpisać nie dotyczy)",null,null,null,null,null,{"$f":"IF(OR('III. Realizacja ZZ 1'!J71=\"nie\",'III. Realizacja ZZ 2'!J71=\"nie\",'III. Realizacja ZZ 3'!J71=\"nie\",'III. Realizacja ZZ 4'!J71=\"nie\",'III. Realizacja ZZ 5'!J71=\"nie\",'III. Realizacja ZZ 6'!J71=\"nie\",'III. Realizacja ZZ 7'!J71=\"nie\",'III. Realizacja ZZ 8'!J71=\"nie\",'III. Realizacja ZZ 9'!J71=\"nie\",'III. Realizacja ZZ 10'!J71=\"nie\"),\"nie\",IF(AND('III. Realizacja ZZ 1'!J71=\"\",'III. Realizacja ZZ 2'!J71=\"\",'III. Realizacja ZZ 3'!J71=\"\",'III. Realizacja ZZ 4'!J71=\"\",'III. Realizacja ZZ 5'!J71=\"\",'III. Realizacja ZZ 6'!J71=\"\",'III. Realizacja ZZ 7'!J71=\"\",'III. Realizacja ZZ 8'!J71=\"\",'III. Realizacja ZZ 9'!J71=\"\",'III. Realizacja ZZ 10'!J71=\"\"),\"\",\"tak\"))","v":""},null,"szczegółowe informacje w zakładkach poszczegółnych zadań",null,{"$f":"IF(J71=\"nie\",\"!\",\"\")","v":""},{"$f":"listy!$A$19","v":"szczegółowe informacje w zakładkach poszczegółnych zadań"},null,{"$f":"listy!$A$19","v":"szczegółowe informacje w zakładkach poszczegółnych zadań"},null,null,null,{"$f":"listy!$A$19","v":"szczegółowe informacje w zakładkach poszczegółnych zadań"}]
[]
[null,{"$f":"$B$59","v":"III.A.2."},8,"Czy w trakcie realizacji zadania zebrano informacje, które są wystarczające, wiarygodne i przydatne do osiągnięcia jego celów, a wnioski i wyniki zadania opierały się na odpowiednich i udokumentowanych analizach i ocenach?",null,null,null,null,null,{"$f":"IF(OR('III. Realizacja ZZ 1'!J73=\"nie\",'III. Realizacja ZZ 2'!J73=\"nie\",'III. Realizacja ZZ 3'!J73=\"nie\",'III. Realizacja ZZ 4'!J73=\"nie\",'III. Realizacja ZZ 5'!J73=\"nie\",'III. Realizacja ZZ 6'!J73=\"nie\",'III. Realizacja ZZ 7'!J73=\"nie\",'III. Realizacja ZZ 8'!J73=\"nie\",'III. Realizacja ZZ 9'!J73=\"nie\",'III. Realizacja ZZ 10'!J73=\"nie\"),\"nie\",IF(AND('III. Realizacja ZZ 1'!J73=\"\",'III. Realizacja ZZ 2'!J73=\"\",'III. Realizacja ZZ 3'!J73=\"\",'III. Realizacja ZZ 4'!J73=\"\",'III. Realizacja ZZ 5'!J73=\"\",'III. Realizacja ZZ 6'!J73=\"\",'III. Realizacja ZZ 7'!J73=\"\",'III. Realizacja ZZ 8'!J73=\"\",'III. Realizacja ZZ 9'!J73=\"\",'III. Realizacja ZZ 10'!J73=\"\"),\"\",\"tak\"))","v":""},null,"szczegółowe informacje w zakładkach poszczegółnych zadań",null,null,{"$f":"listy!$A$19","v":"szczegółowe informacje w zakładkach poszczegółnych zadań"},null,{"$f":"listy!$A$19","v":"szczegółowe informacje w zakładkach poszczegółnych zadań"},null,null,null,{"$f":"listy!$A$19","v":"szczegółowe informacje w zakładkach poszczegółnych zadań"}]
[]
[null,{"$f":"$B$59","v":"III.A.2."},9,"Czy audyt wewnętrzny przez realizację zadania dokonał oceny adekwatności, skuteczności i efektywności kontroli zarządczej oraz przyczynił się do jej usprawnienia? \n(w przypadku, gdy audytor dokonał oceny ale nie wydał zaleceń należy w rubryce dowód/potwierdzenie opisać potwierdzenie wydania oceny i dodać adnotację brak zaleceń)",null,null,null,null,null,{"$f":"IF(OR('III. Realizacja ZZ 1'!J75=\"nie\",'III. Realizacja ZZ 2'!J75=\"nie\",'III. Realizacja ZZ 3'!J75=\"nie\",'III. Realizacja ZZ 4'!J75=\"nie\",'III. Realizacja ZZ 5'!J75=\"nie\",'III. Realizacja ZZ 6'!J75=\"nie\",'III. Realizacja ZZ 7'!J75=\"nie\",'III. Realizacja ZZ 8'!J75=\"nie\",'III. Realizacja ZZ 9'!J75=\"nie\",'III. Realizacja ZZ 10'!J75=\"nie\"),\"nie\",IF(AND('III. Realizacja ZZ 1'!J75=\"\",'III. Realizacja ZZ 2'!J75=\"\",'III. Realizacja ZZ 3'!J75=\"\",'III. Realizacja ZZ 4'!J75=\"\",'III. Realizacja ZZ 5'!J75=\"\",'III. Realizacja ZZ 6'!J75=\"\",'III. Realizacja ZZ 7'!J75=\"\",'III. Realizacja ZZ 8'!J75=\"\",'III. Realizacja ZZ 9'!J75=\"\",'III. Realizacja ZZ 10'!J75=\"\"),\"\",\"tak\"))","v":""},null,"szczegółowe informacje w zakładkach poszczegółnych zadań",null,{"$f":"IF(J75=\"nie\",\"!\",\"\")","v":""},{"$f":"listy!$A$19","v":"szczegółowe informacje w zakładkach poszczegółnych zadań"},null,{"$f":"listy!$A$19","v":"szczegółowe informacje w zakładkach poszczegółnych zadań"},null,null,null,{"$f":"listy!$A$19","v":"szczegółowe informacje w zakładkach poszczegółnych zadań"}]
[]
[null,{"$f":"$B$59","v":"III.A.2."},10,"Czy zadanie zostało zrealizowane zgodnie z zakresem przedmiotowym i podmiotowym oraz czy został osiągnięty cel zadania?",null,null,null,null,null,{"$f":"IF(OR('III. Realizacja ZZ 1'!J77=\"nie\",'III. Realizacja ZZ 2'!J77=\"nie\",'III. Realizacja ZZ 3'!J77=\"nie\",'III. Realizacja ZZ 4'!J77=\"nie\",'III. Realizacja ZZ 5'!J77=\"nie\",'III. Realizacja ZZ 6'!J77=\"nie\",'III. Realizacja ZZ 7'!J77=\"nie\",'III. Realizacja ZZ 8'!J77=\"nie\",'III. Realizacja ZZ 9'!J77=\"nie\",'III. Realizacja ZZ 10'!J77=\"nie\"),\"nie\",IF(AND('III. Realizacja ZZ 1'!J77=\"\",'III. Realizacja ZZ 2'!J77=\"\",'III. Realizacja ZZ 3'!J77=\"\",'III. Realizacja ZZ 4'!J77=\"\",'III. Realizacja ZZ 5'!J77=\"\",'III. Realizacja ZZ 6'!J77=\"\",'III. Realizacja ZZ 7'!J77=\"\",'III. Realizacja ZZ 8'!J77=\"\",'III. Realizacja ZZ 9'!J77=\"\",'III. Realizacja ZZ 10'!J77=\"\"),\"\",\"tak\"))","v":""},null,"szczegółowe informacje w zakładkach poszczegółnych zadań",null,null,{"$f":"listy!$A$19","v":"szczegółowe informacje w zakładkach poszczegółnych zadań"},null,{"$f":"listy!$A$19","v":"szczegółowe informacje w zakładkach poszczegółnych zadań"},null,null,null,{"$f":"listy!$A$19","v":"szczegółowe informacje w zakładkach poszczegółnych zadań"}]
[]
[null,{"$f":"$B$59","v":"III.A.2."},11,"Czy audytor wewnętrzny zebrał, analizował, oceniał i dokumentował informacje wystarczające do osiągnięcia celu zadania?",null,null,null,null,null,{"$f":"IF(OR('III. Realizacja ZZ 1'!J79=\"nie\",'III. Realizacja ZZ 2'!J79=\"nie\",'III. Realizacja ZZ 3'!J79=\"nie\",'III. Realizacja ZZ 4'!J79=\"nie\",'III. Realizacja ZZ 5'!J79=\"nie\",'III. Realizacja ZZ 6'!J79=\"nie\",'III. Realizacja ZZ 7'!J79=\"nie\",'III. Realizacja ZZ 8'!J79=\"nie\",'III. Realizacja ZZ 9'!J79=\"nie\",'III. Realizacja ZZ 10'!J79=\"nie\"),\"nie\",IF(AND('III. Realizacja ZZ 1'!J79=\"\",'III. Realizacja ZZ 2'!J79=\"\",'III. Realizacja ZZ 3'!J79=\"\",'III. Realizacja ZZ 4'!J79=\"\",'III. Realizacja ZZ 5'!J79=\"\",'III. Realizacja ZZ 6'!J79=\"\",'III. Realizacja ZZ 7'!J79=\"\",'III. Realizacja ZZ 8'!J79=\"\",'III. Realizacja ZZ 9'!J79=\"\",'III. Realizacja ZZ 10'!J79=\"\"),\"\",\"tak\"))","v":""},null,"szczegółowe informacje w zakładkach poszczegółnych zadań",null,null,{"$f":"listy!$A$19","v":"szczegółowe informacje w zakładkach poszczegółnych zadań"},null,{"$f":"listy!$A$19","v":"szczegółowe informacje w zakładkach poszczegółnych zadań"},null,null,null,{"$f":"listy!$A$19","v":"szczegółowe informacje w zakładkach poszczegółnych zadań"}]
[null,null,null,null,null,null,null,null,null,"tak","nie","% udzielonych odpowiedzi"]
[null,"III.A.3."," Opracowanie, uzgadnianie i dystrybucja wyników zadania zapewniającego",null,null,null,null,null,null,{"$f":"COUNTIF(J84:J110,\"tak\")","v":0},{"$f":"COUNTIF(J84:J110,\"nie\")","v":0},{"$f":"COUNTIF(J84:J110,\"*\")/14","v":1}]
[null,null,"rozporządzenie: §17 - §19\nstandardy: 2400; 2600",null,null,null,null,null,null,null,null,null,null,null,"NALEŻY WSKAZAĆ ZAKRES ZIDENTYFIKOWANEJ NIEPRAWIDŁOWOŚCI ORAZ ZAPLANOWAĆ I ZREALIZOWAĆ \nDZIAŁANIA KORYGUJĄCE/NAPRAWCZE\nW tym celu proszę wypełnić poniższe komórki.\n"]
[null,null,null,null,null,null,null,null,null,"odpowiedź",null,"dowód/potwierdzenie dla pełnej \nlub częściowej zgodności/komentarz",null,null,"zakres zidentyfikowanej niezgodności\nw przypadku częściowej niezgodności należy wymienić i opisać te elementy, które wymagają działań korygujących/naprawczych",null,"planowane działania korygujące/naprawcze",null,null,null,"termin realizacji"]
[null,{"$f":"$B$81","v":"III.A.3."},1,"Czy audytor wewnętrzny po przeprowadzeniu czynności audytowych uzgodnił pisemnie \nz audytowanym wstępne wyniki audytu wewnętrznego, w tym w szczególności ustalenia \ni propozycje zaleceń lub przeprowadził naradę zamykającą?\n(w przypadku nieuzgodnienia wstępnych wyników audytu wewnętrznego czy audytowany mógł zgłosić pisemne zastrzeżenia, w terminie określonym przez audytora wewnętrznego, nie krótszym niż 7 dni kalendarzowych od dnia poinformowania audytowanego o wstępnych wynikach)",null,null,null,null,null,{"$f":"IF(OR('III. Realizacja ZZ 1'!J84=\"nie\",'III. Realizacja ZZ 2'!J84=\"nie\",'III. Realizacja ZZ 3'!J84=\"nie\",'III. Realizacja ZZ 4'!J84=\"nie\",'III. Realizacja ZZ 5'!J84=\"nie\",'III. Realizacja ZZ 6'!J84=\"nie\",'III. Realizacja ZZ 7'!J84=\"nie\",'III. Realizacja ZZ 8'!J84=\"nie\",'III. Realizacja ZZ 9'!J84=\"nie\",'III. Realizacja ZZ 10'!J84=\"nie\"),\"nie\",IF(AND('III. Realizacja ZZ 1'!J84=\"\",'III. Realizacja ZZ 2'!J84=\"\",'III. Realizacja ZZ 3'!J84=\"\",'III. Realizacja ZZ 4'!J84=\"\",'III. Realizacja ZZ 5'!J84=\"\",'III. Realizacja ZZ 6'!J84=\"\",'III. Realizacja ZZ 7'!J84=\"\",'III. Realizacja ZZ 8'!J84=\"\",'III. Realizacja ZZ 9'!J84=\"\",'III. Realizacja ZZ 10'!J84=\"\"),\"\",\"tak\"))","v":""},null,"szczegółowe informacje w zakładkach poszczegółnych zadań",null,{"$f":"IF(J84=\"nie\",\"!\",\"\")","v":""},{"$f":"listy!$A$19","v":"szczegółowe informacje w zakładkach poszczegółnych zadań"},null,{"$f":"listy!$A$19","v":"szczegółowe informacje w zakładkach poszczegółnych zadań"},null,null,null,{"$f":"listy!$A$19","v":"szczegółowe informacje w zakładkach poszczegółnych zadań"}]
[]
[null,{"$f":"$B$81","v":"III.A.3."},2,"Czy audytor wewnętrzny, po uzgodnieniu wstępnych wyników audytu wewnętrznego lub po wniesieniu zastrzeżeń przez audytowanego sporządził sprawozdanie z zadania zapewniającego?",null,null,null,null,null,{"$f":"IF(OR('III. Realizacja ZZ 1'!J86=\"nie\",'III. Realizacja ZZ 2'!J86=\"nie\",'III. Realizacja ZZ 3'!J86=\"nie\",'III. Realizacja ZZ 4'!J86=\"nie\",'III. Realizacja ZZ 5'!J86=\"nie\",'III. Realizacja ZZ 6'!J86=\"nie\",'III. Realizacja ZZ 7'!J86=\"nie\",'III. Realizacja ZZ 8'!J86=\"nie\",'III. Realizacja ZZ 9'!J86=\"nie\",'III. Realizacja ZZ 10'!J86=\"nie\"),\"nie\",IF(AND('III. Realizacja ZZ 1'!J86=\"\",'III. Realizacja ZZ 2'!J86=\"\",'III. Realizacja ZZ 3'!J86=\"\",'III. Realizacja ZZ 4'!J86=\"\",'III. Realizacja ZZ 5'!J86=\"\",'III. Realizacja ZZ 6'!J86=\"\",'III. Realizacja ZZ 7'!J86=\"\",'III. Realizacja ZZ 8'!J86=\"\",'III. Realizacja ZZ 9'!J86=\"\",'III. Realizacja ZZ 10'!J86=\"\"),\"\",\"tak\"))","v":""},null,"szczegółowe informacje w zakładkach poszczegółnych zadań",null,{"$f":"IF(J86=\"nie\",\"!\",\"\")","v":""},{"$f":"listy!$A$19","v":"szczegółowe informacje w zakładkach poszczegółnych zadań"},null,{"$f":"listy!$A$19","v":"szczegółowe informacje w zakładkach poszczegółnych zadań"},null,null,null,{"$f":"listy!$A$19","v":"szczegółowe informacje w zakładkach poszczegółnych zadań"}]
[]
[null,{"$f":"$B$81","v":"III.A.3."},3,"Czy sprawozdanie z zadania zapewniającego zawiera temat i cel zadania?",null,null,null,null,null,{"$f":"IF(OR('III. Realizacja ZZ 1'!J88=\"nie\",'III. Realizacja ZZ 2'!J88=\"nie\",'III. Realizacja ZZ 3'!J88=\"nie\",'III. Realizacja ZZ 4'!J88=\"nie\",'III. Realizacja ZZ 5'!J88=\"nie\",'III. Realizacja ZZ 6'!J88=\"nie\",'III. Realizacja ZZ 7'!J88=\"nie\",'III. Realizacja ZZ 8'!J88=\"nie\",'III. Realizacja ZZ 9'!J88=\"nie\",'III. Realizacja ZZ 10'!J88=\"nie\"),\"nie\",IF(AND('III. Realizacja ZZ 1'!J88=\"\",'III. Realizacja ZZ 2'!J88=\"\",'III. Realizacja ZZ 3'!J88=\"\",'III. Realizacja ZZ 4'!J88=\"\",'III. Realizacja ZZ 5'!J88=\"\",'III. Realizacja ZZ 6'!J88=\"\",'III. Realizacja ZZ 7'!J88=\"\",'III. Realizacja ZZ 8'!J88=\"\",'III. Realizacja ZZ 9'!J88=\"\",'III. Realizacja ZZ 10'!J88=\"\"),\"\",\"tak\"))","v":""},null,"szczegółowe informacje w zakładkach poszczegółnych zadań",null,{"$f":"IF(J88=\"nie\",\"!\",\"\")","v":""},{"$f":"listy!$A$19","v":"szczegółowe informacje w zakładkach poszczegółnych zadań"},null,{"$f":"listy!$A$19","v":"szczegółowe informacje w zakładkach poszczegółnych zadań"},null,null,null,{"$f":"listy!$A$19","v":"szczegółowe informacje w zakładkach poszczegółnych zadań"}]
[]
[null,{"$f":"$B$81","v":"III.A.3."},4,"Czy sprawozdanie z zadania zapewniającego zawiera zakres podmiotowy i przedmiotowy zadania?",null,null,null,null,null,{"$f":"IF(OR('III. Realizacja ZZ 1'!J90=\"nie\",'III. Realizacja ZZ 2'!J90=\"nie\",'III. Realizacja ZZ 3'!J90=\"nie\",'III. Realizacja ZZ 4'!J90=\"nie\",'III. Realizacja ZZ 5'!J90=\"nie\",'III. Realizacja ZZ 6'!J90=\"nie\",'III. Realizacja ZZ 7'!J90=\"nie\",'III. Realizacja ZZ 8'!J90=\"nie\",'III. Realizacja ZZ 9'!J90=\"nie\",'III. Realizacja ZZ 10'!J90=\"nie\"),\"nie\",IF(AND('III. Realizacja ZZ 1'!J90=\"\",'III. Realizacja ZZ 2'!J90=\"\",'III. Realizacja ZZ 3'!J90=\"\",'III. Realizacja ZZ 4'!J90=\"\",'III. Realizacja ZZ 5'!J90=\"\",'III. Realizacja ZZ 6'!J90=\"\",'III. Realizacja ZZ 7'!J90=\"\",'III. Realizacja ZZ 8'!J90=\"\",'III. Realizacja ZZ 9'!J90=\"\",'III. Realizacja ZZ 10'!J90=\"\"),\"\",\"tak\"))","v":""},null,"szczegółowe informacje w zakładkach poszczegółnych zadań",null,{"$f":"IF(J90=\"nie\",\"!\",\"\")","v":""},{"$f":"listy!$A$19","v":"szczegółowe informacje w zakładkach poszczegółnych zadań"},null,{"$f":"listy!$A$19","v":"szczegółowe informacje w zakładkach poszczegółnych zadań"},null,null,null,{"$f":"listy!$A$19","v":"szczegółowe informacje w zakładkach poszczegółnych zadań"}]
[]
[null,{"$f":"$B$81","v":"III.A.3."},5,"Czy sprawozdanie z zadania zapewniającego zawiera datę rozpoczęcia zadania?",null,null,null,null,null,{"$f":"IF(OR('III. Realizacja ZZ 1'!J92=\"nie\",'III. Realizacja ZZ 2'!J92=\"nie\",'III. Realizacja ZZ 3'!J92=\"nie\",'III. Realizacja ZZ 4'!J92=\"nie\",'III. Realizacja ZZ 5'!J92=\"nie\",'III. Realizacja ZZ 6'!J92=\"nie\",'III. Realizacja ZZ 7'!J92=\"nie\",'III. Realizacja ZZ 8'!J92=\"nie\",'III. Realizacja ZZ 9'!J92=\"nie\",'III. Realizacja ZZ 10'!J92=\"nie\"),\"nie\",IF(AND('III. Realizacja ZZ 1'!J92=\"\",'III. Realizacja ZZ 2'!J92=\"\",'III. Realizacja ZZ 3'!J92=\"\",'III. Realizacja ZZ 4'!J92=\"\",'III. Realizacja ZZ 5'!J92=\"\",'III. Realizacja ZZ 6'!J92=\"\",'III. Realizacja ZZ 7'!J92=\"\",'III. Realizacja ZZ 8'!J92=\"\",'III. Realizacja ZZ 9'!J92=\"\",'III. Realizacja ZZ 10'!J92=\"\"),\"\",\"tak\"))","v":""},null,"szczegółowe informacje w zakładkach poszczegółnych zadań",null,{"$f":"IF(J92=\"nie\",\"!\",\"\")","v":""},{"$f":"listy!$A$19","v":"szczegółowe informacje w zakładkach poszczegółnych zadań"},null,{"$f":"listy!$A$19","v":"szczegółowe informacje w zakładkach poszczegółnych zadań"},null,null,null,{"$f":"listy!$A$19","v":"szczegółowe informacje w zakładkach poszczegółnych zadań"}]
[]
[null,{"$f":"$B$81","v":"III.A.3."},6,"Czy sprawozdanie z zadania zapewniającego zawiera ustalenia i ocenę według kryteriów przyjętych w programie?",null,null,null,null,null,{"$f":"IF(OR('III. Realizacja ZZ 1'!J94=\"nie\",'III. Realizacja ZZ 2'!J94=\"nie\",'III. Realizacja ZZ 3'!J94=\"nie\",'III. Realizacja ZZ 4'!J94=\"nie\",'III. Realizacja ZZ 5'!J94=\"nie\",'III. Realizacja ZZ 6'!J94=\"nie\",'III. Realizacja ZZ 7'!J94=\"nie\",'III. Realizacja ZZ 8'!J94=\"nie\",'III. Realizacja ZZ 9'!J94=\"nie\",'III. Realizacja ZZ 10'!J94=\"nie\"),\"nie\",IF(AND('III. Realizacja ZZ 1'!J94=\"\",'III. Realizacja ZZ 2'!J94=\"\",'III. Realizacja ZZ 3'!J94=\"\",'III. Realizacja ZZ 4'!J94=\"\",'III. Realizacja ZZ 5'!J94=\"\",'III. Realizacja ZZ 6'!J94=\"\",'III. Realizacja ZZ 7'!J94=\"\",'III. Realizacja ZZ 8'!J94=\"\",'III. Realizacja ZZ 9'!J94=\"\",'III. Realizacja ZZ 10'!J94=\"\"),\"\",\"tak\"))","v":""},null,"szczegółowe informacje w zakładkach poszczegółnych zadań",null,{"$f":"IF(J94=\"nie\",\"!\",\"\")","v":""},{"$f":"listy!$A$19","v":"szczegółowe informacje w zakładkach poszczegółnych zadań"},null,{"$f":"listy!$A$19","v":"szczegółowe informacje w zakładkach poszczegółnych zadań"},null,null,null,{"$f":"listy!$A$19","v":"szczegółowe informacje w zakładkach poszczegółnych zadań"}]
[]
[null,{"$f":"$B$81","v":"III.A.3."},7,"Czy sprawozdanie z zadania zapewniającego zawiera zalecenia?\n(jeżeli w wyniku przeprowadzonego zadania nie wydano zaleceń, należy wybrać tak i w kolumnie dowód/potwierdzenie należy wpisać nie dotyczy)",null,null,null,null,null,{"$f":"IF(OR('III. Realizacja ZZ 1'!J96=\"nie\",'III. Realizacja ZZ 2'!J96=\"nie\",'III. Realizacja ZZ 3'!J96=\"nie\",'III. Realizacja ZZ 4'!J96=\"nie\",'III. Realizacja ZZ 5'!J96=\"nie\",'III. Realizacja ZZ 6'!J96=\"nie\",'III. Realizacja ZZ 7'!J96=\"nie\",'III. Realizacja ZZ 8'!J96=\"nie\",'III. Realizacja ZZ 9'!J96=\"nie\",'III. Realizacja ZZ 10'!J96=\"nie\"),\"nie\",IF(AND('III. Realizacja ZZ 1'!J96=\"\",'III. Realizacja ZZ 2'!J96=\"\",'III. Realizacja ZZ 3'!J96=\"\",'III. Realizacja ZZ 4'!J96=\"\",'III. Realizacja ZZ 5'!J96=\"\",'III. Realizacja ZZ 6'!J96=\"\",'III. Realizacja ZZ 7'!J96=\"\",'III. Realizacja ZZ 8'!J96=\"\",'III. Realizacja ZZ 9'!J96=\"\",'III. Realizacja ZZ 10'!J96=\"\"),\"\",\"tak\"))","v":""},null,"szczegółowe informacje w zakładkach poszczegółnych zadań",null,{"$f":"IF(J96=\"nie\",\"!\",\"\")","v":""},{"$f":"listy!$A$19","v":"szczegółowe informacje w zakładkach poszczegółnych zadań"},null,{"$f":"listy!$A$19","v":"szczegółowe informacje w zakładkach poszczegółnych zadań"},null,null,null,{"$f":"listy!$A$19","v":"szczegółowe informacje w zakładkach poszczegółnych zadań"}]
[]
[null,{"$f":"$B$81","v":"III.A.3."},8,"Czy sprawozdanie z zadania zapewniającego zawiera odniesienie się audytora wewnętrznego do zastrzeżeń audytowanego do wstępnych wyników audytu wewnętrznego? \n(jeżeli nie były zgłoszone, należy wybrać tak i w kolumnie dowód/potwierdzenie należy wpisać nie dotyczy)",null,null,null,null,null,{"$f":"IF(OR('III. Realizacja ZZ 1'!J98=\"nie\",'III. Realizacja ZZ 2'!J98=\"nie\",'III. Realizacja ZZ 3'!J98=\"nie\",'III. Realizacja ZZ 4'!J98=\"nie\",'III. Realizacja ZZ 5'!J98=\"nie\",'III. Realizacja ZZ 6'!J98=\"nie\",'III. Realizacja ZZ 7'!J98=\"nie\",'III. Realizacja ZZ 8'!J98=\"nie\",'III. Realizacja ZZ 9'!J98=\"nie\",'III. Realizacja ZZ 10'!J98=\"nie\"),\"nie\",IF(AND('III. Realizacja ZZ 1'!J98=\"\",'III. Realizacja ZZ 2'!J98=\"\",'III. Realizacja ZZ 3'!J98=\"\",'III. Realizacja ZZ 4'!J98=\"\",'III. Realizacja ZZ 5'!J98=\"\",'III. Realizacja ZZ 6'!J98=\"\",'III. Realizacja ZZ 7'!J98=\"\",'III. Realizacja ZZ 8'!J98=\"\",'III. Realizacja ZZ 9'!J98=\"\",'III. Realizacja ZZ 10'!J98=\"\"),\"\",\"tak\"))","v":""},null,"szczegółowe informacje w zakładkach poszczegółnych zadań",null,{"$f":"IF(J98=\"nie\",\"!\",\"\")","v":""},{"$f":"listy!$A$19","v":"szczegółowe informacje w zakładkach poszczegółnych zadań"},null,{"$f":"listy!$A$19","v":"szczegółowe informacje w zakładkach poszczegółnych zadań"},null,null,null,{"$f":"listy!$A$19","v":"szczegółowe informacje w zakładkach poszczegółnych zadań"}]
[]
[null,{"$f":"$B$81","v":"III.A.3."},9,"Czy sprawozdanie z zadania zapewniającego zawiera ogólną ocenę adekwatności, skuteczności i efektywności kontroli zarządczej w obszarze działalności jednostki objętym zadaniem?",null,null,null,null,null,{"$f":"IF(OR('III. Realizacja ZZ 1'!J100=\"nie\",'III. Realizacja ZZ 2'!J100=\"nie\",'III. Realizacja ZZ 3'!J100=\"nie\",'III. Realizacja ZZ 4'!J100=\"nie\",'III. Realizacja ZZ 5'!J100=\"nie\",'III. Realizacja ZZ 6'!J100=\"nie\",'III. Realizacja ZZ 7'!J100=\"nie\",'III. Realizacja ZZ 8'!J100=\"nie\",'III. Realizacja ZZ 9'!J100=\"nie\",'III. Realizacja ZZ 10'!J100=\"nie\"),\"nie\",IF(AND('III. Realizacja ZZ 1'!J100=\"\",'III. Realizacja ZZ 2'!J100=\"\",'III. Realizacja ZZ 3'!J100=\"\",'III. Realizacja ZZ 4'!J100=\"\",'III. Realizacja ZZ 5'!J100=\"\",'III. Realizacja ZZ 6'!J100=\"\",'III. Realizacja ZZ 7'!J100=\"\",'III. Realizacja ZZ 8'!J100=\"\",'III. Realizacja ZZ 9'!J100=\"\",'III. Realizacja ZZ 10'!J100=\"\"),\"\",\"tak\"))","v":""},null,"szczegółowe informacje w zakładkach poszczegółnych zadań",null,{"$f":"IF(J100=\"nie\",\"!\",\"\")","v":""},{"$f":"listy!$A$19","v":"szczegółowe informacje w zakładkach poszczegółnych zadań"},null,{"$f":"listy!$A$19","v":"szczegółowe informacje w zakładkach poszczegółnych zadań"},null,null,null,{"$f":"listy!$A$19","v":"szczegółowe informacje w zakładkach poszczegółnych zadań"}]
[]
[null,{"$f":"$B$81","v":"III.A.3."},10,"Czy sprawozdanie z zadania zapewniającego zawiera datę sporządzenia sprawozdania?",null,null,null,null,null,{"$f":"IF(OR('III. Realizacja ZZ 1'!J102=\"nie\",'III. Realizacja ZZ 2'!J102=\"nie\",'III. Realizacja ZZ 3'!J102=\"nie\",'III. Realizacja ZZ 4'!J102=\"nie\",'III. Realizacja ZZ 5'!J102=\"nie\",'III. Realizacja ZZ 6'!J102=\"nie\",'III. Realizacja ZZ 7'!J102=\"nie\",'III. Realizacja ZZ 8'!J102=\"nie\",'III. Realizacja ZZ 9'!J102=\"nie\",'III. Realizacja ZZ 10'!J102=\"nie\"),\"nie\",IF(AND('III. Realizacja ZZ 1'!J102=\"\",'III. Realizacja ZZ 2'!J102=\"\",'III. Realizacja ZZ 3'!J102=\"\",'III. Realizacja ZZ 4'!J102=\"\",'III. Realizacja ZZ 5'!J102=\"\",'III. Realizacja ZZ 6'!J102=\"\",'III. Realizacja ZZ 7'!J102=\"\",'III. Realizacja ZZ 8'!J102=\"\",'III. Realizacja ZZ 9'!J102=\"\",'III. Realizacja ZZ 10'!J102=\"\"),\"\",\"tak\"))","v":""},null,"szczegółowe informacje w zakładkach poszczegółnych zadań",null,{"$f":"IF(J102=\"nie\",\"!\",\"\")","v":""},{"$f":"listy!$A$19","v":"szczegółowe informacje w zakładkach poszczegółnych zadań"},null,{"$f":"listy!$A$19","v":"szczegółowe informacje w zakładkach poszczegółnych zadań"},null,null,null,{"$f":"listy!$A$19","v":"szczegółowe informacje w zakładkach poszczegółnych zadań"}]
[]
[null,{"$f":"$B$81","v":"III.A.3."},11,"Czy sprawozdanie z zadania zapewniającego zawiera imię i nazwisko audytora wewnętrznego przeprowadzającego zadanie oraz jego podpis? \n(w przypadku zadania zapewniającego realizowanego przez kilku audytorów wewnętrznych sprawozdanie mogą podpisać wszyscy audytorzy wewnętrzni realizujący zadanie albo audytor wewnętrzny odpowiedzialny za realizację tego zadania, wyznaczony przez kierownika komórki audytu spośród audytorów wewnętrznych realizujących zadanie)",null,null,null,null,null,{"$f":"IF(OR('III. Realizacja ZZ 1'!J104=\"nie\",'III. Realizacja ZZ 2'!J104=\"nie\",'III. Realizacja ZZ 3'!J104=\"nie\",'III. Realizacja ZZ 4'!J104=\"nie\",'III. Realizacja ZZ 5'!J104=\"nie\",'III. Realizacja ZZ 6'!J104=\"nie\",'III. Realizacja ZZ 7'!J104=\"nie\",'III. Realizacja ZZ 8'!J104=\"nie\",'III. Realizacja ZZ 9'!J104=\"nie\",'III. Realizacja ZZ 10'!J104=\"nie\"),\"nie\",IF(AND('III. Realizacja ZZ 1'!J104=\"\",'III. Realizacja ZZ 2'!J104=\"\",'III. Realizacja ZZ 3'!J104=\"\",'III. Realizacja ZZ 4'!J104=\"\",'III. Realizacja ZZ 5'!J104=\"\",'III. Realizacja ZZ 6'!J104=\"\",'III. Realizacja ZZ 7'!J104=\"\",'III. Realizacja ZZ 8'!J104=\"\",'III. Realizacja ZZ 9'!J104=\"\",'III. Realizacja ZZ 10'!J104=\"\"),\"\",\"tak\"))","v":""},null,"szczegółowe informacje w zakładkach poszczegółnych zadań",null,{"$f":"IF(J104=\"nie\",\"!\",\"\")","v":""},{"$f":"listy!$A$19","v":"szczegółowe informacje w zakładkach poszczegółnych zadań"},null,{"$f":"listy!$A$19","v":"szczegółowe informacje w zakładkach poszczegółnych zadań"},null,null,null,{"$f":"listy!$A$19","v":"szczegółowe informacje w zakładkach poszczegółnych zadań"}]
[]
[null,{"$f":"$B$81","v":"III.A.3."},12,"Czy sprawozdanie z zadania zapewniającego jest jasne, zwięzłe, przejrzyste, obiektywne oraz kompletne?  \n(zgodnie ze Standardami przekazane informacje muszą być dokładne, obiektywne, jasne, zwięzłe, konstruktywne, kompletne oraz dostarczone na czas)",null,null,null,null,null,{"$f":"IF(OR('III. Realizacja ZZ 1'!J106=\"nie\",'III. Realizacja ZZ 2'!J106=\"nie\",'III. Realizacja ZZ 3'!J106=\"nie\",'III. Realizacja ZZ 4'!J106=\"nie\",'III. Realizacja ZZ 5'!J106=\"nie\",'III. Realizacja ZZ 6'!J106=\"nie\",'III. Realizacja ZZ 7'!J106=\"nie\",'III. Realizacja ZZ 8'!J106=\"nie\",'III. Realizacja ZZ 9'!J106=\"nie\",'III. Realizacja ZZ 10'!J106=\"nie\"),\"nie\",IF(AND('III. Realizacja ZZ 1'!J106=\"\",'III. Realizacja ZZ 2'!J106=\"\",'III. Realizacja ZZ 3'!J106=\"\",'III. Realizacja ZZ 4'!J106=\"\",'III. Realizacja ZZ 5'!J106=\"\",'III. Realizacja ZZ 6'!J106=\"\",'III. Realizacja ZZ 7'!J106=\"\",'III. Realizacja ZZ 8'!J106=\"\",'III. Realizacja ZZ 9'!J106=\"\",'III. Realizacja ZZ 10'!J106=\"\"),\"\",\"tak\"))","v":""},null,"szczegółowe informacje w zakładkach poszczegółnych zadań",null,{"$f":"IF(J106=\"nie\",\"!\",\"\")","v":""},{"$f":"listy!$A$19","v":"szczegółowe informacje w zakładkach poszczegółnych zadań"},null,{"$f":"listy!$A$19","v":"szczegółowe informacje w zakładkach poszczegółnych zadań"},null,null,null,{"$f":"listy!$A$19","v":"szczegółowe informacje w zakładkach poszczegółnych zadań"}]
[]
[null,{"$f":"$B$81","v":"III.A.3."},13,"Czy kierownik komórki audytu wewnętrznego/audytor wewnętrzny przekazał sprawozdanie audytowanemu i kierownikowi jednostki?",null,null,null,null,null,{"$f":"IF(OR('III. Realizacja ZZ 1'!J108=\"nie\",'III. Realizacja ZZ 2'!J108=\"nie\",'III. Realizacja ZZ 3'!J108=\"nie\",'III. Realizacja ZZ 4'!J108=\"nie\",'III. Realizacja ZZ 5'!J108=\"nie\",'III. Realizacja ZZ 6'!J108=\"nie\",'III. Realizacja ZZ 7'!J108=\"nie\",'III. Realizacja ZZ 8'!J108=\"nie\",'III. Realizacja ZZ 9'!J108=\"nie\",'III. Realizacja ZZ 10'!J108=\"nie\"),\"nie\",IF(AND('III. Realizacja ZZ 1'!J108=\"\",'III. Realizacja ZZ 2'!J108=\"\",'III. Realizacja ZZ 3'!J108=\"\",'III. Realizacja ZZ 4'!J108=\"\",'III. Realizacja ZZ 5'!J108=\"\",'III. Realizacja ZZ 6'!J108=\"\",'III. Realizacja ZZ 7'!J108=\"\",'III. Realizacja ZZ 8'!J108=\"\",'III. Realizacja ZZ 9'!J108=\"\",'III. Realizacja ZZ 10'!J108=\"\"),\"\",\"tak\"))","v":""},null,"szczegółowe informacje w zakładkach poszczegółnych zadań",null,{"$f":"IF(J108=\"nie\",\"!\",\"\")","v":""},{"$f":"listy!$A$19","v":"szczegółowe informacje w zakładkach poszczegółnych zadań"},null,{"$f":"listy!$A$19","v":"szczegółowe informacje w zakładkach poszczegółnych zadań"},null,null,null,{"$f":"listy!$A$19","v":"szczegółowe informacje w zakładkach poszczegółnych zadań"}]
[]
[null,{"$f":"$B$81","v":"III.A.3."},14,"Czy kierownik komórki audytu wewnętrznego/audytor wewnętrzny poinformował kierownika jednostki, że przyjęto poziom ryzyka, który może być nie do zaakceptowania dla jednostki? \n(jeżeli była taka potrzeba, w przeciwnym razie należy zaznaczyć tak i w kolumnie dowód/potwierdzenie należy wpisać nie dotyczy)",null,null,null,null,null,{"$f":"IF(OR('III. Realizacja ZZ 1'!J110=\"nie\",'III. Realizacja ZZ 2'!J110=\"nie\",'III. Realizacja ZZ 3'!J110=\"nie\",'III. Realizacja ZZ 4'!J110=\"nie\",'III. Realizacja ZZ 5'!J110=\"nie\",'III. Realizacja ZZ 6'!J110=\"nie\",'III. Realizacja ZZ 7'!J110=\"nie\",'III. Realizacja ZZ 8'!J110=\"nie\",'III. Realizacja ZZ 9'!J110=\"nie\",'III. Realizacja ZZ 10'!J110=\"nie\"),\"nie\",IF(AND('III. Realizacja ZZ 1'!J110=\"\",'III. Realizacja ZZ 2'!J110=\"\",'III. Realizacja ZZ 3'!J110=\"\",'III. Realizacja ZZ 4'!J110=\"\",'III. Realizacja ZZ 5'!J110=\"\",'III. Realizacja ZZ 6'!J110=\"\",'III. Realizacja ZZ 7'!J110=\"\",'III. Realizacja ZZ 8'!J110=\"\",'III. Realizacja ZZ 9'!J110=\"\",'III. Realizacja ZZ 10'!J110=\"\"),\"\",\"tak\"))","v":""},null,"szczegółowe informacje w zakładkach poszczegółnych zadań",null,null,{"$f":"listy!$A$19","v":"szczegółowe informacje w zakładkach poszczegółnych zadań"},null,{"$f":"listy!$A$19","v":"szczegółowe informacje w zakładkach poszczegółnych zadań"},null,null,null,{"$f":"listy!$A$19","v":"szczegółowe informacje w zakładkach poszczegółnych zadań"}]
[null,null,null,null,null,null,null,null,null,"tak","nie","% udzielonych odpowiedzi"]
[null,"III.A.4."," Monitoring wdrożenia zaleceń i czynność sprawdzająca",null,null,null,null,null,null,{"$f":"COUNTIF(J115:J121,\"tak\")","v":0},{"$f":"COUNTIF(J115:J121,\"nie\")","v":0},{"$f":"(J112+K112)/4","v":0}]
[null,null,"rozporządzenie: §20 - §21\nstandardy: 2500",null,null,null,null,null,null,null,null,null,null,null,"NALEŻY WSKAZAĆ ZAKRES ZIDENTYFIKOWANEJ NIEPRAWIDŁOWOŚCI ORAZ ZAPLANOWAĆ I ZREALIZOWAĆ \nDZIAŁANIA KORYGUJĄCE/NAPRAWCZE\nW tym celu proszę wypełnić poniższe komórki.\n"]
[null,null,null,null,null,null,null,null,null,"odpowiedź",null,"dowód/potwierdzenie dla pełnej \nlub częściowej zgodności/komentarz",null,null,"zakres zidentyfikowanej niezgodności\nw przypadku częściowej niezgodności należy wymienić i opisać te elementy, które wymagają działań korygujących/naprawczych",null,"planowane działania korygujące/naprawcze",null,null,null,"termin realizacji"]
[null,{"$f":"$B$112","v":"III.A.4."},1,"Czy audytor wewnętrzny monitorował realizację wydanych i zaakceptowanych do wdrożenia zaleceń?",null,null,null,null,null,{"$f":"IF(OR('III. Realizacja ZZ 1'!J115=\"nie\",'III. Realizacja ZZ 2'!J115=\"nie\",'III. Realizacja ZZ 3'!J115=\"nie\",'III. Realizacja ZZ 4'!J115=\"nie\",'III. Realizacja ZZ 5'!J115=\"nie\",'III. Realizacja ZZ 6'!J115=\"nie\",'III. Realizacja ZZ 7'!J115=\"nie\",'III. Realizacja ZZ 8'!J115=\"nie\",'III. Realizacja ZZ 9'!J115=\"nie\",'III. Realizacja ZZ 10'!J115=\"nie\"),\"nie\",IF(AND('III. Realizacja ZZ 1'!J115=\"\",'III. Realizacja ZZ 2'!J115=\"\",'III. Realizacja ZZ 3'!J115=\"\",'III. Realizacja ZZ 4'!J115=\"\",'III. Realizacja ZZ 5'!J115=\"\",'III. Realizacja ZZ 6'!J115=\"\",'III. Realizacja ZZ 7'!J115=\"\",'III. Realizacja ZZ 8'!J115=\"\",'III. Realizacja ZZ 9'!J115=\"\",'III. Realizacja ZZ 10'!J115=\"\"),\"\",\"tak\"))","v":""},null,"szczegółowe informacje w zakładkach poszczegółnych zadań",null,{"$f":"IF(J115=\"nie\",\"!\",\"\")","v":""},{"$f":"listy!$A$19","v":"szczegółowe informacje w zakładkach poszczegółnych zadań"},null,{"$f":"listy!$A$19","v":"szczegółowe informacje w zakładkach poszczegółnych zadań"},null,null,null,{"$f":"listy!$A$19","v":"szczegółowe informacje w zakładkach poszczegółnych zadań"}]
[]
[null,{"$f":"$B$112","v":"III.A.4."},2,"Czy audytor wewnętrzny po upływie terminów realizacji zaleceń przeprowadził czynności sprawdzające?\n/jeżeli nie były przeprowadzane czynności sprawdzające, bo nie upłynęły jeszcze terminy realizacji zaleceń należy wybrać tak i w kolumnie dowód napisać nie dotyczy/",null,null,null,null,null,{"$f":"IF(OR('III. Realizacja ZZ 1'!J117=\"nie\",'III. Realizacja ZZ 2'!J117=\"nie\",'III. Realizacja ZZ 3'!J117=\"nie\",'III. Realizacja ZZ 4'!J117=\"nie\",'III. Realizacja ZZ 5'!J117=\"nie\",'III. Realizacja ZZ 6'!J117=\"nie\",'III. Realizacja ZZ 7'!J117=\"nie\",'III. Realizacja ZZ 8'!J117=\"nie\",'III. Realizacja ZZ 9'!J117=\"nie\",'III. Realizacja ZZ 10'!J117=\"nie\"),\"nie\",IF(AND('III. Realizacja ZZ 1'!J117=\"\",'III. Realizacja ZZ 2'!J117=\"\",'III. Realizacja ZZ 3'!J117=\"\",'III. Realizacja ZZ 4'!J117=\"\",'III. Realizacja ZZ 5'!J117=\"\",'III. Realizacja ZZ 6'!J117=\"\",'III. Realizacja ZZ 7'!J117=\"\",'III. Realizacja ZZ 8'!J117=\"\",'III. Realizacja ZZ 9'!J117=\"\",'III. Realizacja ZZ 10'!J117=\"\"),\"\",\"tak\"))","v":""},null,"szczegółowe informacje w zakładkach poszczegółnych zadań",null,{"$f":"IF(J117=\"nie\",\"!\",\"\")","v":""},{"$f":"listy!$A$19","v":"szczegółowe informacje w zakładkach poszczegółnych zadań"},null,{"$f":"listy!$A$19","v":"szczegółowe informacje w zakładkach poszczegółnych zadań"},null,null,null,{"$f":"listy!$A$19","v":"szczegółowe informacje w zakładkach poszczegółnych zadań"}]
[]
[null,{"$f":"$B$112","v":"III.A.4."},3,"Czy wynik czynności sprawdzających audytor wewnętrzny przedstawił w notatce informacyjnej kierownikowi jednostki i audytowanemu?\n/jeżeli nie były przeprowadzane czynności sprawdzające, bo nie upłynęły jeszcze terminy realizacji zaleceń należy wybrać tak i w kolumnie dowód napisać nie dotyczy/",null,null,null,null,null,{"$f":"IF(OR('III. Realizacja ZZ 1'!J119=\"nie\",'III. Realizacja ZZ 2'!J119=\"nie\",'III. Realizacja ZZ 3'!J119=\"nie\",'III. Realizacja ZZ 4'!J119=\"nie\",'III. Realizacja ZZ 5'!J119=\"nie\",'III. Realizacja ZZ 6'!J119=\"nie\",'III. Realizacja ZZ 7'!J119=\"nie\",'III. Realizacja ZZ 8'!J119=\"nie\",'III. Realizacja ZZ 9'!J119=\"nie\",'III. Realizacja ZZ 10'!J119=\"nie\"),\"nie\",IF(AND('III. Realizacja ZZ 1'!J119=\"\",'III. Realizacja ZZ 2'!J119=\"\",'III. Realizacja ZZ 3'!J119=\"\",'III. Realizacja ZZ 4'!J119=\"\",'III. Realizacja ZZ 5'!J119=\"\",'III. Realizacja ZZ 6'!J119=\"\",'III. Realizacja ZZ 7'!J119=\"\",'III. Realizacja ZZ 8'!J119=\"\",'III. Realizacja ZZ 9'!J119=\"\",'III. Realizacja ZZ 10'!J119=\"\"),\"\",\"tak\"))","v":""},null,"szczegółowe informacje w zakładkach poszczegółnych zadań",null,{"$f":"IF(J119=\"nie\",\"!\",\"\")","v":""},{"$f":"listy!$A$19","v":"szczegółowe informacje w zakładkach poszczegółnych zadań"},null,{"$f":"listy!$A$19","v":"szczegółowe informacje w zakładkach poszczegółnych zadań"},null,null,null,{"$f":"listy!$A$19","v":"szczegółowe informacje w zakładkach poszczegółnych zadań"}]
[]
[null,{"$f":"$B$112","v":"III.A.4."},4,"Czy system monitorowania wyników audytu jest skuteczny i adekwatny?",null,null,null,null,null,{"$f":"IF(OR('III. Realizacja ZZ 1'!J121=\"nie\",'III. Realizacja ZZ 2'!J121=\"nie\",'III. Realizacja ZZ 3'!J121=\"nie\",'III. Realizacja ZZ 4'!J121=\"nie\",'III. Realizacja ZZ 5'!J121=\"nie\",'III. Realizacja ZZ 6'!J121=\"nie\",'III. Realizacja ZZ 7'!J121=\"nie\",'III. Realizacja ZZ 8'!J121=\"nie\",'III. Realizacja ZZ 9'!J121=\"nie\",'III. Realizacja ZZ 10'!J121=\"nie\"),\"nie\",IF(AND('III. Realizacja ZZ 1'!J121=\"\",'III. Realizacja ZZ 2'!J121=\"\",'III. Realizacja ZZ 3'!J121=\"\",'III. Realizacja ZZ 4'!J121=\"\",'III. Realizacja ZZ 5'!J121=\"\",'III. Realizacja ZZ 6'!J121=\"\",'III. Realizacja ZZ 7'!J121=\"\",'III. Realizacja ZZ 8'!J121=\"\",'III. Realizacja ZZ 9'!J121=\"\",'III. Realizacja ZZ 10'!J121=\"\"),\"\",\"tak\"))","v":""},null,"szczegółowe informacje w zakładkach poszczegółnych zadań",null,null,{"$f":"listy!$A$19","v":"szczegółowe informacje w zakładkach poszczegółnych zadań"},null,{"$f":"listy!$A$19","v":"szczegółowe informacje w zakładkach poszczegółnych zadań"},null,null,null,{"$f":"listy!$A$19","v":"szczegółowe informacje w zakładkach poszczegółnych zadań"}]

{"sheet":"III. Realizacja ZZ 1","index":5,"n_rows":121,"n_cols":25,"rows_kept":121,"cut":false,"hidden":true,"merged":[[11,3,11,8],[11,11,11,12],[11,14,14,20],[13,11,13,12],[14,2,14,8],[14,11,14,12],[1,1,1,11],[3,1,6,21],[7,3,7,10],[7,14,7,20],[8,2,9,10],[8,11,9,11],[8,12,9,12],[8,14,10,20],[10,3,10,8],[10,11,10,12],[12,3,12,8],[13,3,13,8],[15,2,15,12],[15,14,15,20],[16,9,16,10],[16,11,16,12],[16,16,16,18],[17,3,17,8],[17,9,17,10],[17,11,17,12],[17,16,17,18],[23,3,23,8],[23,9,23,10],[23,11,23,12],[23,16,23,18],[25,3,25,8],[25,9,25,10],[25,11,25,12],[25,16,25,18],[19,3,19,8],[19,9,19,10],[19,11,19,12],[19,16,19,18],[21,3,21,8],[21,9,21,10],[21,11,21,12],[21,16,21,18],[31,3,31,8],[31,9,31,10],[31,11,31,12],[31,16,31,18],[33,3,33,8],[33,9,33,10],[33,11,33,12],[33,16,33,18],[27,3,27,8],[27,9,27,10],[27,11,27,12],[27,16,27,18],[29,3,29,8],[29,9,29,10],[29,11,29,12],[29,16,29,18],[39,3,39,8],[39,9,39,10],[39,11,39,12],[39,16,39,18],[41,3,41,8],[41,9,41,10],[41,11,41,12],[41,16,41,18],[35,3,35,8],[35,9,35,10],[35,11,35,12],[35,16,35,18],[37,3,37,8],[37,9,37,10],[37,11,37,12],[37,16,37,18],[47,3,47,8],[47,9,47,10],[47,11,47,12],[47,16,47,18],[49,3,49,8],[49,9,49,10],[49,11,49,12],[49,16,49,18],[43,3,43,8],[43,9,43,10],[43,11,43,12],[43,16,43,18],[45,3,45,8],[45,9,45,10],[45,11,45,12],[45,16,45,18],[54,11,54,12],[55,2,55,8],[55,11,55,12],[56,2,56,12],[56,14,56,20],[57,9,57,10],[57,11,57,12],[57,16,57,18],[51,3,51,8],[51,9,51,10],[51,11,51,12],[51,16,51,18],[53,3,53,8],[53,9,53,10],[53,11,53,12],[53,16,53,18],[62,3,62,8],[62,9,62,10],[62,11,62,12],[62,16,62,18],[64,3,64,8],[64,9,64,10],[64,11,64,12],[64,16,64,18],[58,3,58,8],[58,9,58,10],[58,11,58,12],[58,16,58,18],[60,3,60,8],[60,9,60,10],[60,11,60,12],[60,16,60,18],[70,3,70,8],[70,9,70,10],[70,11,70,12],[70,16,70,18],[72,3,72,8],[72,9,72,10],[72,11,72,12],[72,16,72,18],[66,3,66,8],[66,9,66,10],[66,11,66,12],[66,16,66,18],[68,3,68,8],[68,9,68,10],[68,11,68,12],[68,16,68,18],[78,3,78,8],[78,9,78,10],[78,11,78,12],[78,16,78,18],[79,11,79,12],[80,2,80,8],[80,11,80,12],[74,3,74,8],[74,9,74,10],[74,11,74,12],[74,16,74,18],[76,3,76,8],[76,9,76,10],[76,11,76,12],[76,16,76,18],[81,2,81,12],[81,14,81,20],[82,9,82,10],[82,11,82,12],[82,16,82,18],[83,3,83,8],[83,9,83,10],[83,11,83,12],[83,16,83,18],[89,3,89,8],[89,9,89,10],[89,11,89,12],[89,16,89,18],[91,3,91,8],[91,9,91,10],[91,11,91,12],[91,16,91,18],[85,3,85,8],[85,9,85,10],[85,11,85,12],[85,16,85,18],[87,3,87,8],[87,9,87,10],[87,11,87,12],[87,16,87,18],[97,3,97,8],[97,9,97,10],[97,11,97,12],[97,16,97,18],[99,3,99,8],[99,9,99,10],[99,11,99,12],[99,16,99,18],[93,3,93,8],[93,9,93,10],[93,11,93,12],[93,16,93,18],[95,3,95,8],[95,9,95,10],[95,11,95,12],[95,16,95,18],[105,3,105,8],[105,9,105,10],[105,11,105,12],[105,16,105,18],[107,3,107,8],[107,9,107,10],[107,11,107,12],[107,16,107,18],[101,3,101,8],[101,9,101,10],[101,11,101,12],[101,16,101,18],[103,3,103,8],[103,9,103,10],[103,11,103,12],[103,16,103,18],[110,11,110,12],[111,2,111,8],[111,11,111,12],[112,2,112,12],[112,14,112,20],[113,9,113,10],[113,11,113,12],[113,16,113,18],[109,3,109,8],[109,9,109,10],[109,11,109,12],[109,16,109,18],[118,3,118,8],[118,9,118,10],[118,11,118,12],[118,16,118,18],[120,3,120,8],[120,9,120,10],[120,11,120,12],[120,16,120,18],[114,3,114,8],[114,9,114,10],[114,11,114,12],[114,16,114,18],[116,3,116,8],[116,9,116,10],[116,11,116,12],[116,16,116,18]]}
[]
[]
[]
[null,"Quality @w "]
[]
[]
[]
[null,null,null,null,null,null,null,null,null,null,null,null,null,"data rozpoczęcia wypełniania niniejszego arkusza","liczba uzyskanych punktów w bloku tematycznym"]
[null,null,{"$f":"'Strona tytułowa'!$H$16","v":0},null,null,null,null,null,null,null,null,{"$f":"'Strona tytułowa'!$F$16","v":0},{"$f":"'Strona tytułowa'!$B$2","v":"ver.2.0.2018"},null,{"$f":"J12","v":0}]
[null,null,null,null,null,null,null,null,null,null,null,null,null,null,null,null,null,null,null,null,null,null,null,null,{"$f":"J12+K12","v":0}]
[null,null,null,"blok tematyczny",null,null,null,null,null,"tak","nie","% udzielonych odpowiedzi"]
[null,null,"III.A","REALIZACJA ZADAŃ AUDYTOWYCH - ZADANIE ZAPEWNIAJĄCE",null,null,null,null,null,{"$f":"J15+J56+J81+J112","v":0},{"$f":"K15+K56+K81+K112","v":0},{"$f":"(J12+K12)/48","v":0},null,{"$f":"COUNTIF(N18:N121,\"!\")","v":0},"0                                                                                                                                                                                                                                                                                                              49 "]
[null,null,null,"temat zadania",null,null,null,null,null,{"$f":"J12/(J12+K12)","v":{"$error":"#DIV/0!"}},{"$f":"K12/(K12+J12)","v":{"$error":"#DIV/0!"}}]
[null,null,null,null,null,null,null,null,null,"ER5HYN","nie","% udzielonych odpowiedzi",null,"niezgodność z przepisami"]
[null,"III.A.1.","Przygotowanie i programowanie zadania zapewniającego",null,null,null,null,null,null,{"$f":"COUNTIF(J18:J54,\"tak\")","v":0},{"$f":"COUNTIF(J18:J54,\"*\")-J15","v":0},{"$f":"COUNTIF(J18:J54,\"*\")/19","v":0}]
[null,null,"rozporządzenie: §13 - §16.\nstandardy: 2050; 2200; 2201; 2210; 2220; 2230;2240",null,null,null,null,null,null,null,null,null,null,null,"NALEŻY WSKAZAĆ ZAKRES ZIDENTYFIKOWANEJ NIEPRAWIDŁOWOŚCI ORAZ ZAPLANOWAĆ I ZREALIZOWAĆ \nDZIAŁANIA KORYGUJĄCE/NAPRAWCZE\nW tym celu proszę wypełnić poniższe komórki.\n"]
[null,null,null,null,null,null,null,null,null,"odpowiedź",null,"dowód/potwierdzenie dla pełnej \nlub częściowej zgodności/komentarz",null,null,"zakres zidentyfikowanej niezgodności\nw przypadku częściowej niezgodności należy wymienić i opisać te elementy, które wymagają działań korygujących/naprawczych",null,"planowane działania korygujące/naprawcze",null,null,null,"termin realizacji"]
[null,{"$f":"$B$15","v":"III.A.1."},1,"Czy kierownik komórki audytu wewnętrznego/audytor wewnętrzny poinformował audytowanego o planowanej realizacji zadania?",null,null,null,null,null,null,null,null,null,{"$f":"IF(J18=\"nie\",\"!\",\"\")","v":""}]
[]
[null,{"$f":"$B$15","v":"III.A.1."},2,"Czy rozpoczynając realizację zadania zapewniającego audytor wewnętrzny przeprowadził przegląd wstępny?",null,null,null,null,null,null,null,null,null,{"$f":"IF(J20=\"nie\",\"!\",\"\")","v":""}]
[]
[null,{"$f":"$B$15","v":"III.A.1."},3,"Czy przegląd wstępny obejmował zapoznanie się z celami i obszarem działalności jednostki, w którym zostało zrealizowane zadanie?",null,null,null,null,null,null,null,null,null,{"$f":"IF(J22=\"nie\",\"!\",\"\")","v":""}]
[null,null,null,null,null,null,null,null,null,null,null,null,null,null,"w"]
[null,{"$f":"$B$15","v":"III.A.1."},4,"Czy przegląd wstępny obejmował dokonanie identyfikacji i oceny ryzyka, po uwzględnieniu istniejących mechanizmów kontrolnych?",null,null,null,null,null,null,null,null,null,{"$f":"IF(J24=\"nie\",\"!\",\"\")","v":""}]
[]
[null,{"$f":"$B$15","v":"III.A.1."},5,"Czy przegląd wstępny obejmował uzgodnienie z audytowanym kryteriów oceny mechanizmów kontrolnych w obszarze działalności jednostki objętym zadaniem lub \nw przypadku braku uzgodnienia kryteriów z audytowanym kryteria zostały uzgodnione \nz kierownikiem jednostki?",null,null,null,null,null,null,null,null,null,{"$f":"IF(J26=\"nie\",\"!\",\"\")","v":""}]
[]
[null,{"$f":"$B$15","v":"III.A.1."},6,"Czy audytor wewnętrzny przygotował program zadania zapewniającego?",null,null,null,null,null,null,null,null,null,{"$f":"IF(J28=\"nie\",\"!\",\"\")","v":""}]
[]
[null,{"$f":"$B$15","v":"III.A.1."},7,"Czy program zadania zapewniającego uwzględniał wynik przeglądu wstępnego?",null,null,null,null,null,null,null,null,null,{"$f":"IF(J30=\"nie\",\"!\",\"\")","v":""}]
[]
[null,{"$f":"$B$15","v":"III.A.1."},8,"Czy program zadania zapewniającego uwzględniał uwagi kierownika jednostki \ni audytowanego?",null,null,null,null,null,null,null,null,null,{"$f":"IF(J32=\"nie\",\"!\",\"\")","v":""}]
[]
[null,{"$f":"$B$15","v":"III.A.1."},9,"Czy program zadania zapewniającego uwzględniał zasoby niezbędne do przeprowadzenia zadania, w tym ewentualną potrzebę uzyskania pomocy eksperta?",null,null,null,null,null,null,null,null,null,{"$f":"IF(J34=\"nie\",\"!\",\"\")","v":""}]
[]
[null,{"$f":"$B$15","v":"III.A.1."},10,"Czy program zadania zapewniającego uwzględniał przewidywany czas trwania zadania?",null,null,null,null,null,null,null,null,null,{"$f":"IF(J36=\"nie\",\"!\",\"\")","v":""}]
[]
[null,{"$f":"$B$15","v":"III.A.1."},11,"Czy program zadania zapewniającego określał temat zadania?",null,null,null,null,null,null,null,null,null,{"$f":"IF(J38=\"nie\",\"!\",\"\")","v":""}]
[]
[null,{"$f":"$B$15","v":"III.A.1."},12,"Czy program zadania zapewniającego określał cel zadania?",null,null,null,null,null,null,null,null,null,{"$f":"IF(J40=\"nie\",\"!\",\"\")","v":""}]
[]
[null,{"$f":"$B$15","v":"III.A.1."},13,"Czy program zadania zapewniającego określał zakres podmiotowy i przedmiotowy zadania?",null,null,null,null,null,null,null,null,null,{"$f":"IF(J42=\"nie\",\"!\",\"\")","v":""}]
[]
[null,{"$f":"$B$15","v":"III.A.1."},14,"Czy program zadania zapewniającego określał istotne ryzyka w obszarze działalności jednostki objętym zadaniem?",null,null,null,null,null,null,null,null,null,{"$f":"IF(J44=\"nie\",\"!\",\"\")","v":""}]
[]
[null,{"$f":"$B$15","v":"III.A.1."},15,"Czy program zadania zapewniającego określał sposób zrealizowania zadania, w szczególności opis doboru próby do badania oraz technik badania?",null,null,null,null,null,null,null,null,null,{"$f":"IF(J46=\"nie\",\"!\",\"\")","v":""}]
[]
[null,{"$f":"$B$15","v":"III.A.1."},16,"Czy program zadania zapewniającego zawierał uzgodnione kryteria oceny?",null,null,null,null,null,null,null,null,null,{"$f":"IF(J48=\"nie\",\"!\",\"\")","v":""}]
[]
[null,{"$f":"$B$15","v":"III.A.1."},17,"Czy program zadania zapewniającego zawierał datę rozpoczęcia i zakończenia zadania?",null,null,null,null,null,null,null,null,null,{"$f":"IF(J50=\"nie\",\"!\",\"\")","v":""}]
[]
[null,{"$f":"$B$15","v":"III.A.1."},18,"Czy program zadania zapewniającego zatwierdził kierownik komórki audytu wewnętrznego/audytor wewnętrzny?",null,null,null,null,null,null,null,null,null,{"$f":"IF(J52=\"nie\",\"!\",\"\")","v":""}]
[]
[null,{"$f":"$B$15","v":"III.A.1."},19,"Czy kierownik komórki audytu wewnętrznego w celu zapewnienia odpowiedniego zakresu audytu oraz niepowielania pracy korzystał z informacji i koordynował działania wewnętrznych i zewnętrznych wykonawców usług doradczych i zapewniających?"]
[null,null,null,null,null,null,null,null,null,"tak","nie","% udzielonych odpowiedzi"]
[null,"III.A.2.","Realizacja zadania zapewniającego ",null,null,null,null,null,null,{"$f":"COUNTIF(J59:J79,\"tak\")","v":0},{"$f":"COUNTIF(J59:J79,\"*\")-J56","v":0},{"$f":"COUNTIF(J59:J79,\"*\")/11","v":0}]
[null,null,"ustawa: art. 273 ust. 2; art. 280; art. 282 ust.2 i 282 ust.3\nrozporządzenie: §4 ust. 1; §16 ust. 2; §16 ust. 3\nstandardy: 1130; 2000; 2100; 2300; 2310; 2320; 2330; 2340",null,null,null,null,null,null,null,null,null,null,null,"NALEŻY WSKAZAĆ ZAKRES ZIDENTYFIKOWANEJ NIEPRAWIDŁOWOŚCI ORAZ ZAPLANOWAĆ I ZREALIZOWAĆ \nDZIAŁANIA KORYGUJĄCE/NAPRAWCZE\nW tym celu proszę wypełnić poniższe komórki.\n"]
[null,null,null,null,null,null,null,null,null,"odpowiedź",null,"dowód/potwierdzenie dla pełnej \nlub częściowej zgodności/komentarz",null,null,"zakres zidentyfikowanej niezgodności\nw przypadku częściowej niezgodności należy wymienić i opisać te elementy, które wymagają działań korygujących/naprawczych",null,"planowane działania korygujące/naprawcze",null,null,null,"termin realizacji"]
[null,{"$f":"$B$56","v":"III.A.2."},1,"W trakcie realizacji zadania nie wystąpił przypadek ograniczenia audytorowi prawa wstępu do pomieszczeń jednostki lub prawa do wglądu do dokumentów, informacji i danych oraz do innych materiałów związanych z funkcjonowaniem jednostki?",null,null,null,null,null,null,null,null,null,{"$f":"IF(J59=\"nie\",\"!\",\"\")","v":""}]
[]
[null,{"$f":"$B$59","v":"III.A.2."},2,"W trakcie realizacji zadania nie wystąpił przypadek by pracownicy jednostki nie udzielili informacji i wyjaśnień, a także by nie sporządzili i nie potwierdzili kopii, odpisów, wyciągów lub zestawień, na potrzeby realizacji zadań przez audytora wewnętrznego?",null,null,null,null,null,null,null,null,null,{"$f":"IF(J61=\"nie\",\"!\",\"\")","v":""}]
[]
[null,{"$f":"$B$59","v":"III.A.2."},3,"Czy kierownik komórki audytu wewnętrznego miał bezpośredni dostęp do kierownika jednostki, a w urzędzie administracji rządowej, w którym tworzy się stanowisko dyrektora generalnego urzędu do dyrektora generalnego w zakresie określonym odrębnymi ustawami na każdym etapie realizacji zadania zapewniającego?",null,null,null,null,null,null,null,null,null,{"$f":"IF(J63=\"nie\",\"!\",\"\")","v":""}]
[]
[null,{"$f":"$B$59","v":"III.A.2."},4,"Czy audytor wewnętrzny realizując zadanie zapewniające kierował się wskazówkami zawartymi w standardach audytu wewnętrznego, o których mowa w art. 273 ust. 1 ustawy?",null,null,null,null,null,null,null,null,null,{"$f":"IF(J65=\"nie\",\"!\",\"\")","v":""}]
[]
[null,{"$f":"$B$59","v":"III.A.2."},5,"Czy w  trakcie realizacji zadania zapewniono warunki niezbędne do niezależnego, obiektywnego i efektywnego prowadzenia audytu wewnętrznego?",null,null,null,null,null,null,null,null,null,{"$f":"IF(J67=\"nie\",\"!\",\"\")","v":""}]
[]
[null,{"$f":"$B$59","v":"III.A.2."},6,"Czy audyt wewnętrzny był przeprowadzany na podstawie pisemnego upoważnienia kierownika jednostki?",null,null,null,null,null,null,null,null,null,{"$f":"IF(J69=\"nie\",\"!\",\"\")","v":""}]
[]
[null,{"$f":"$B$59","v":"III.A.2."},7,"Czy w trakcie realizacji zadania zapewniającego dokonywano udokumentowanych zmian w programie zadania zapewniającego, a zmiany te zostały zaakceptowane przez kierownika komórki audytu wewnętrznego?  \n(jeżeli nie dokonywano zmiany programu, należy zaznaczyć tak i w kolumnie dowód/potwierdzenie wpisać nie dotyczy)",null,null,null,null,null,null,null,null,null,{"$f":"IF(J71=\"nie\",\"!\",\"\")","v":""}]
[]
[null,{"$f":"$B$59","v":"III.A.2."},8,"Czy w trakcie realizacji zadania zebrano informacje, które są wystarczające, wiarygodne i przydatne do osiągnięcia jego celów, a wnioski i wyniki zadania opierały się na odpowiednich i udokumentowanych analizach i ocenach?"]
[]
[null,{"$f":"$B$59","v":"III.A.2."},9,"Czy audyt wewnętrzny przez realizację zadania dokonał oceny adekwatności, skuteczności i efektywności kontroli zarządczej oraz przyczynił się do jej usprawnienia? \n(w przypadku, gdy audytor dokonał oceny ale nie wydał zaleceń należy w rubryce dowód/potwierdzenie opisać potwierdzenie wydania oceny i dodać adnotację brak zaleceń)",null,null,null,null,null,null,null,null,null,{"$f":"IF(J75=\"nie\",\"!\",\"\")","v":""}]
[]
[null,{"$f":"$B$59","v":"III.A.2."},10,"Czy zadanie zostało zrealizowane zgodnie z zakresem przedmiotowym i podmiotowym oraz czy został osiągnięty cel zadania?"]
[]
[null,{"$f":"$B$59","v":"III.A.2."},11,"Czy audytor wewnętrzny zebrał, analizował, oceniał i dokumentował informacje wystarczające do osiągnięcia celu zadania?"]
[null,null,null,null,null,null,null,null,null,"tak","nie","% udzielonych odpowiedzi"]
[null,"III.A.3."," Opracowanie, uzgadnianie i dystrybucja wyników zadania zapewniającego",null,null,null,null,null,null,{"$f":"COUNTIF(J84:J110,\"tak\")","v":0},{"$f":"COUNTIF(J84:J110,\"*\")-J81","v":0},{"$f":"COUNTIF(J84:J110,\"*\")/14","v":0}]
[null,null,"rozporządzenie: §17 - §19\nstandardy: 2400; 2600",null,null,null,null,null,null,null,null,null,null,null,"NALEŻY WSKAZAĆ ZAKRES ZIDENTYFIKOWANEJ NIEPRAWIDŁOWOŚCI ORAZ ZAPLANOWAĆ I ZREALIZOWAĆ \nDZIAŁANIA KORYGUJĄCE/NAPRAWCZE\nW tym celu proszę wypełnić poniższe komórki.\n"]
[null,null,null,null,null,null,null,null,null,"odpowiedź",null,"dowód/potwierdzenie dla pełnej \nlub częściowej zgodności/komentarz",null,null,"zakres zidentyfikowanej niezgodności\nw przypadku częściowej niezgodności należy wymienić i opisać te elementy, które wymagają działań korygujących/naprawczych",null,"planowane działania korygujące/naprawcze",null,null,null,"termin realizacji"]
[null,{"$f":"$B$81","v":"III.A.3."},1,"Czy audytor wewnętrzny po przeprowadzeniu czynności audytowych uzgodnił pisemnie \nz audytowanym wstępne wyniki audytu wewnętrznego, w tym w szczególności ustalenia \ni propozycje zaleceń lub przeprowadził naradę zamykającą?\n(w przypadku nieuzgodnienia wstępnych wyników audytu wewnętrznego czy audytowany mógł zgłosić pisemne zastrzeżenia, w terminie określonym przez audytora wewnętrznego, nie krótszym niż 7 dni kalendarzowych od dnia poinformowania audytowanego o wstępnych wynikach)",null,null,null,null,null,null,null,null,null,{"$f":"IF(J84=\"nie\",\"!\",\"\")","v":""}]
[]
[null,{"$f":"$B$81","v":"III.A.3."},2,"Czy audytor wewnętrzny, po uzgodnieniu wstępnych wyników audytu wewnętrznego lub po wniesieniu zastrzeżeń przez audytowanego sporządził sprawozdanie z zadania zapewniającego?",null,null,null,null,null,null,null,null,null,{"$f":"IF(J86=\"nie\",\"!\",\"\")","v":""}]
[]
[null,{"$f":"$B$81","v":"III.A.3."},3,"Czy sprawozdanie z zadania zapewniającego zawiera temat i cel zadania?",null,null,null,null,null,null,null,null,null,{"$f":"IF(J88=\"nie\",\"!\",\"\")","v":""}]
[]
[null,{"$f":"$B$81","v":"III.A.3."},4,"Czy sprawozdanie z zadania zapewniającego zawiera zakres podmiotowy i przedmiotowy zadania?",null,null,null,null,null,null,null,null,null,{"$f":"IF(J90=\"nie\",\"!\",\"\")","v":""}]
[]
[null,{"$f":"$B$81","v":"III.A.3."},5,"Czy sprawozdanie z zadania zapewniającego zawiera datę rozpoczęcia zadania?",null,null,null,null,null,null,null,null,null,{"$f":"IF(J92=\"nie\",\"!\",\"\")","v":""}]
[]
[null,{"$f":"$B$81","v":"III.A.3."},6,"Czy sprawozdanie z zadania zapewniającego zawiera ustalenia i ocenę według kryteriów przyjętych w programie?",null,null,null,null,null,null,null,null,null,{"$f":"IF(J94=\"nie\",\"!\",\"\")","v":""}]
[]
[null,{"$f":"$B$81","v":"III.A.3."},7,"Czy sprawozdanie z zadania zapewniającego zawiera zalecenia?\n(jeżeli w wyniku przeprowadzonego zadania nie wydano zaleceń, należy wybrać tak i w kolumnie dowód/potwierdzenie należy wpisać nie dotyczy)",null,null,null,null,null,null,null,null,null,{"$f":"IF(J96=\"nie\",\"!\",\"\")","v":""}]
[]
[null,{"$f":"$B$81","v":"III.A.3."},8,"Czy sprawozdanie z zadania zapewniającego zawiera odniesienie się audytora wewnętrznego do zastrzeżeń audytowanego do wstępnych wyników audytu wewnętrznego? \n(jeżeli nie były zgłoszone, należy wybrać tak i w kolumnie dowód/potwierdzenie należy wpisać nie dotyczy)",null,null,null,null,null,null,null,null,null,{"$f":"IF(J98=\"nie\",\"!\",\"\")","v":""}]
[]
[null,{"$f":"$B$81","v":"III.A.3."},9,"Czy sprawozdanie z zadania zapewniającego zawiera ogólną ocenę adekwatności, skuteczności i efektywności kontroli zarządczej w obszarze działalności jednostki objętym zadaniem?",null,null,null,null,null,null,null,null,null,{"$f":"IF(J100=\"nie\",\"!\",\"\")","v":""}]
[]
[null,{"$f":"$B$81","v":"III.A.3."},10,"Czy sprawozdanie z zadania zapewniającego zawiera datę sporządzenia sprawozdania?",null,null,null,null,null,null,null,null,null,{"$f":"IF(J102=\"nie\",\"!\",\"\")","v":""}]
[]
[null,{"$f":"$B$81","v":"III.A.3."},11,"Czy sprawozdanie z zadania zapewniającego zawiera imię i nazwisko audytora wewnętrznego przeprowadzającego zadanie oraz jego podpis? \n(w przypadku zadania zapewniającego realizowanego przez kilku audytorów wewnętrznych sprawozdanie mogą podpisać wszyscy audytorzy wewnętrzni realizujący zadanie albo audytor wewnętrzny odpowiedzialny za realizację tego zadania, wyznaczony przez kierownika komórki audytu spośród audytorów wewnętrznych realizujących zadanie)",null,null,null,null,null,null,null,null,null,{"$f":"IF(J104=\"nie\",\"!\",\"\")","v":""}]
[]
[null,{"$f":"$B$81","v":"III.A.3."},12,"Czy sprawozdanie z zadania zapewniającego jest jasne, zwięzłe, przejrzyste, obiektywne oraz kompletne?  \n(zgodnie ze Standardami przekazane informacje muszą być dokładne, obiektywne, jasne, zwięzłe, konstruktywne, kompletne oraz dostarczone na czas)",null,null,null,null,null,null,null,null,null,{"$f":"IF(J106=\"nie\",\"!\",\"\")","v":""}]
[]
[null,{"$f":"$B$81","v":"III.A.3."},13,"Czy kierownik komórki audytu wewnętrznego/audytor wewnętrzny przekazał sprawozdanie audytowanemu i kierownikowi jednostki?",null,null,null,null,null,null,null,null,null,{"$f":"IF(J108=\"nie\",\"!\",\"\")","v":""}]
[]
[null,{"$f":"$B$81","v":"III.A.3."},14,"Czy kierownik komórki audytu wewnętrznego/audytor wewnętrzny poinformował kierownika jednostki, że przyjęto poziom ryzyka, który może być nie do zaakceptowania dla jednostki? \n(jeżeli była taka potrzeba, w przeciwnym razie należy zaznaczyć tak i w kolumnie dowód/potwierdzenie należy wpisać nie dotyczy)"]
[null,null,null,null,null,null,null,null,null,"tak","nie","% udzielonych odpowiedzi"]
[null,"III.A.4."," Monitoring wdrożenia zaleceń i czynność sprawdzająca",null,null,null,null,null,null,{"$f":"COUNTIF(J115:J121,\"tak\")","v":0},{"$f":"COUNTIF(J115:J121,\"*\")-J112","v":0},{"$f":"COUNTIF(J115:J121,\"*\")/4","v":0}]
[null,null,"rozporządzenie: §20 - §21\nstandardy: 2500",null,null,null,null,null,null,null,null,null,null,null,"NALEŻY WSKAZAĆ ZAKRES ZIDENTYFIKOWANEJ NIEPRAWIDŁOWOŚCI ORAZ ZAPLANOWAĆ I ZREALIZOWAĆ \nDZIAŁANIA KORYGUJĄCE/NAPRAWCZE\nW tym celu proszę wypełnić poniższe komórki.\n"]
[null,null,null,null,null,null,null,null,null,"odpowiedź",null,"dowód/potwierdzenie dla pełnej \nlub częściowej zgodności/komentarz",null,null,"zakres zidentyfikowanej niezgodności\nw przypadku częściowej niezgodności należy wymienić i opisać te elementy, które wymagają działań korygujących/naprawczych",null,"planowane działania korygujące/naprawcze",null,null,null,"termin realizacji"]
[null,{"$f":"$B$112","v":"III.A.4."},1,"Czy audytor wewnętrzny monitorował realizację wydanych i zaakceptowanych do wdrożenia zaleceń?",null,null,null,null,null,null,null,null,null,{"$f":"IF(J115=\"nie\",\"!\",\"\")","v":""}]
[]
[null,{"$f":"$B$112","v":"III.A.4."},2,"Czy audytor wewnętrzny po upływie terminów realizacji zaleceń przeprowadził czynności sprawdzające?\n/jeżeli nie były przeprowadzane czynności sprawdzające, bo nie upłynęły jeszcze terminy realizacji zaleceń należy wybrać tak i w kolumnie dowód napisać nie dotyczy/",null,null,null,null,null,null,null,null,null,{"$f":"IF(J117=\"nie\",\"!\",\"\")","v":""}]
[]
[null,{"$f":"$B$112","v":"III.A.4."},3,"Czy wynik czynności sprawdzających audytor wewnętrzny przedstawił w notatce informacyjnej kierownikowi jednostki i audytowanemu?\n/jeżeli nie były przeprowadzane czynności sprawdzające, bo nie upłynęły jeszcze terminy realizacji zaleceń należy wybrać tak i w kolumnie dowód napisać nie dotyczy/",null,null,null,null,null,null,null,null,null,{"$f":"IF(J119=\"nie\",\"!\",\"\")","v":""}]
[]
[null,{"$f":"$B$112","v":"III.A.4."},4,"Czy system monitorowania wyników audytu jest skuteczny i adekwatny?"]

{"sheet":"III. Realizacja ZZ 2","index":6,"n_rows":121,"n_cols":25,"rows_kept":121,"cut":false,"hidden":true,"merged":[[11,3,11,8],[11,11,11,12],[11,14,14,20],[13,11,13,12],[14,2,14,8],[14,11,14,12],[1,1,1,11],[3,1,6,21],[7,3,7,10],[7,14,7,20],[8,2,9,10],[8,11,9,11],[8,12,9,12],[8,14,10,20],[10,3,10,8],[10,11,10,12],[12,3,12,8],[13,3,13,8],[15,2,15,12],[15,14,15,20],[16,9,16,10],[16,11,16,12],[16,16,16,18],[17,3,17,8],[17,9,17,10],[17,11,17,12],[17,16,17,18],[23,3,23,8],[23,9,23,10],[23,11,23,12],[23,16,23,18],[25,3,25,8],[25,9,25,10],[25,11,25,12],[25,16,25,18],[19,3,19,8],[19,9,19,10],[19,11,19,12],[19,16,19,18],[21,3,21,8],[21,9,21,10],[21,11,21,12],[21,16,21,18],[31,3,31,8],[31,9,31,10],[31,11,31,12],[31,16,31,18],[33,3,33,8],[33,9,33,10],[33,11,33,12],[33,16,33,18],[27,3,27,8],[27,9,27,10],[27,11,27,12],[27,16,27,18],[29,3,29,8],[29,9,29,10],[29,11,29,12],[29,16,29,18],[39,3,39,8],[39,9,39,10],[39,11,39,12],[39,16,39,18],[41,3,41,8],[41,9,41,10],[41,11,41,12],[41,16,41,18],[35,3,35,8],[35,9,35,10],[35,11,35,12],[35,16,35,18],[37,3,37,8],[37,9,37,10],[37,11,37,12],[37,16,37,18],[47,3,47,8],[47,9,47,10],[47,11,47,12],[47,16,47,18],[49,3,49,8],[49,9,49,10],[49,11,49,12],[49,16,49,18],[43,3,43,8],[43,9,43,10],[43,11,43,12],[43,16,43,18],[45,3,45,8],[45,9,45,10],[45,11,45,12],[45,16,45,18],[54,11,54,12],[55,2,55,8],[55,11,55,12],[56,2,56,12],[56,14,56,20],[57,9,57,10],[57,11,57,12],[57,16,57,18],[51,3,51,8],[51,9,51,10],[51,11,51,12],[51,16,51,18],[53,3,53,8],[53,9,53,10],[53,11,53,12],[53,16,53,18],[62,3,62,8],[62,9,62,10],[62,11,62,12],[62,16,62,18],[64,3,64,8],[64,9,64,10],[64,11,64,12],[64,16,64,18],[58,3,58,8],[58,9,58,10],[58,11,58,12],[58,16,58,18],[60,3,60,8],[60,9,60,10],[60,11,60,12],[60,16,60,18],[70,3,70,8],[70,9,70,10],[70,11,70,12],[70,16,70,18],[72,3,72,8],[72,9,72,10],[72,11,72,12],[72,16,72,18],[66,3,66,8],[66,9,66,10],[66,11,66,12],[66,16,66,18],[68,3,68,8],[68,9,68,10],[68,11,68,12],[68,16,68,18],[78,3,78,8],[78,9,78,10],[78,11,78,12],[78,16,78,18],[79,11,79,12],[80,2,80,8],[80,11,80,12],[74,3,74,8],[74,9,74,10],[74,11,74,12],[74,16,74,18],[76,3,76,8],[76,9,76,10],[76,11,76,12],[76,16,76,18],[81,2,81,12],[81,14,81,20],[82,9,82,10],[82,11,82,12],[82,16,82,18],[83,3,83,8],[83,9,83,10],[83,11,83,12],[83,16,83,18],[89,3,89,8],[89,9,89,10],[89,11,89,12],[89,16,89,18],[91,3,91,8],[91,9,91,10],[91,11,91,12],[91,16,91,18],[85,3,85,8],[85,9,85,10],[85,11,85,12],[85,16,85,18],[87,3,87,8],[87,9,87,10],[87,11,87,12],[87,16,87,18],[97,3,97,8],[97,9,97,10],[97,11,97,12],[97,16,97,18],[99,3,99,8],[99,9,99,10],[99,11,99,12],[99,16,99,18],[93,3,93,8],[93,9,93,10],[93,11,93,12],[93,16,93,18],[95,3,95,8],[95,9,95,10],[95,11,95,12],[95,16,95,18],[105,3,105,8],[105,9,105,10],[105,11,105,12],[105,16,105,18],[107,3,107,8],[107,9,107,10],[107,11,107,12],[107,16,107,18],[101,3,101,8],[101,9,101,10],[101,11,101,12],[101,16,101,18],[103,3,103,8],[103,9,103,10],[103,11,103,12],[103,16,103,18],[110,11,110,12],[111,2,111,8],[111,11,111,12],[112,2,112,12],[112,14,112,20],[113,9,113,10],[113,11,113,12],[113,16,113,18],[109,3,109,8],[109,9,109,10],[109,11,109,12],[109,16,109,18],[118,3,118,8],[118,9,118,10],[118,11,118,12],[118,16,118,18],[120,3,120,8],[120,9,120,10],[120,11,120,12],[120,16,120,18],[114,3,114,8],[114,9,114,10],[114,11,114,12],[114,16,114,18],[116,3,116,8],[116,9,116,10],[116,11,116,12],[116,16,116,18]]}
[]
[]
[]
[null,"Quality @w "]
[]
[]
[]
[null,null,null,null,null,null,null,null,null,null,null,null,null,"data rozpoczęcia wypełniania niniejszego arkusza","liczba uzyskanych punktów w bloku tematycznym"]
[null,null,{"$f":"'Strona tytułowa'!$H$16","v":0},null,null,null,null,null,null,null,null,{"$f":"'Strona tytułowa'!$F$16","v":0},{"$f":"'Strona tytułowa'!$B$2","v":"ver.2.0.2018"},null,{"$f":"J12","v":0}]
[null,null,null,null,null,null,null,null,null,null,null,null,null,null,null,null,null,null,null,null,null,null,null,null,{"$f":"J12+K12","v":0}]
[null,null,null,"blok tematyczny",null,null,null,null,null,"tak","nie","% udzielonych odpowiedzi"]
[null,null,"III.A","REALIZACJA ZADAŃ AUDYTOWYCH - ZADANIE ZAPEWNIAJĄCE",null,null,null,null,null,{"$f":"J15+J56+J81+J112","v":0},{"$f":"K15+K56+K81+K112","v":0},{"$f":"(J12+K12)/48","v":0},null,{"$f":"COUNTIF(N18:N121,\"!\")","v":0},"0                                                                                                                                                                                                                                                                                                              49 "]
[null,null,null,"temat zadania",null,null,null,null,null,{"$f":"J12/(J12+K12)","v":{"$error":"#DIV/0!"}},{"$f":"K12/(K12+J12)","v":{"$error":"#DIV/0!"}}]
[null,null,null,null,null,null,null,null,null,"ER5HYN","nie","% udzielonych odpowiedzi",null,"niezgodność z przepisami"]
[null,"III.A.1.","Przygotowanie i programowanie zadania zapewniającego",null,null,null,null,null,null,{"$f":"COUNTIF(J18:J54,\"tak\")","v":0},{"$f":"COUNTIF(J18:J54,\"*\")-J15","v":0},{"$f":"COUNTIF(J18:J54,\"*\")/19","v":0}]
[null,null,"rozporządzenie: §13 - §16.\nstandardy: 2050; 2200; 2201; 2210; 2220; 2230;2240",null,null,null,null,null,null,null,null,null,null,null,"NALEŻY WSKAZAĆ ZAKRES ZIDENTYFIKOWANEJ NIEPRAWIDŁOWOŚCI ORAZ ZAPLANOWAĆ I ZREALIZOWAĆ \nDZIAŁANIA KORYGUJĄCE/NAPRAWCZE\nW tym celu proszę wypełnić poniższe komórki.\n"]
[null,null,null,null,null,null,null,null,null,"odpowiedź",null,"dowód/potwierdzenie dla pełnej \nlub częściowej zgodności/komentarz",null,null,"zakres zidentyfikowanej niezgodności\nw przypadku częściowej niezgodności należy wymienić i opisać te elementy, które wymagają działań korygujących/naprawczych",null,"planowane działania korygujące/naprawcze",null,null,null,"termin realizacji"]
[null,{"$f":"$B$15","v":"III.A.1."},1,"Czy kierownik komórki audytu wewnętrznego/audytor wewnętrzny poinformował audytowanego o planowanej realizacji zadania?",null,null,null,null,null,null,null,null,null,{"$f":"IF(J18=\"nie\",\"!\",\"\")","v":""}]
[]
[null,{"$f":"$B$15","v":"III.A.1."},2,"Czy rozpoczynając realizację zadania zapewniającego audytor wewnętrzny przeprowadził przegląd wstępny?",null,null,null,null,null,null,null,null,null,{"$f":"IF(J20=\"nie\",\"!\",\"\")","v":""}]
[]
[null,{"$f":"$B$15","v":"III.A.1."},3,"Czy przegląd wstępny obejmował zapoznanie się z celami i obszarem działalności jednostki, w którym zostało zrealizowane zadanie?",null,null,null,null,null,null,null,null,null,{"$f":"IF(J22=\"nie\",\"!\",\"\")","v":""}]
[null,null,null,null,null,null,null,null,null,null,null,null,null,null,"w"]
[null,{"$f":"$B$15","v":"III.A.1."},4,"Czy przegląd wstępny obejmował dokonanie identyfikacji i oceny ryzyka, po uwzględnieniu istniejących mechanizmów kontrolnych?",null,null,null,null,null,null,null,null,null,{"$f":"IF(J24=\"nie\",\"!\",\"\")","v":""}]
[]
[null,{"$f":"$B$15","v":"III.A.1."},5,"Czy przegląd wstępny obejmował uzgodnienie z audytowanym kryteriów oceny mechanizmów kontrolnych w obszarze działalności jednostki objętym zadaniem lub \nw przypadku braku uzgodnienia kryteriów z audytowanym kryteria zostały uzgodnione \nz kierownikiem jednostki?",null,null,null,null,null,null,null,null,null,{"$f":"IF(J26=\"nie\",\"!\",\"\")","v":""}]
[]
[null,{"$f":"$B$15","v":"III.A.1."},6,"Czy audytor wewnętrzny przygotował program zadania zapewniającego?",null,null,null,null,null,null,null,null,null,{"$f":"IF(J28=\"nie\",\"!\",\"\")","v":""}]
[]
[null,{"$f":"$B$15","v":"III.A.1."},7,"Czy program zadania zapewniającego uwzględniał wynik przeglądu wstępnego?",null,null,null,null,null,null,null,null,null,{"$f":"IF(J30=\"nie\",\"!\",\"\")","v":""}]
[]
[null,{"$f":"$B$15","v":"III.A.1."},8,"Czy program zadania zapewniającego uwzględniał uwagi kierownika jednostki \ni audytowanego?",null,null,null,null,null,null,null,null,null,{"$f":"IF(J32=\"nie\",\"!\",\"\")","v":""}]
[]
[null,{"$f":"$B$15","v":"III.A.1."},9,"Czy program zadania zapewniającego uwzględniał zasoby niezbędne do przeprowadzenia zadania, w tym ewentualną potrzebę uzyskania pomocy eksperta?",null,null,null,null,null,null,null,null,null,{"$f":"IF(J34=\"nie\",\"!\",\"\")","v":""}]
[]
[null,{"$f":"$B$15","v":"III.A.1."},10,"Czy program zadania zapewniającego uwzględniał przewidywany czas trwania zadania?",null,null,null,null,null,null,null,null,null,{"$f":"IF(J36=\"nie\",\"!\",\"\")","v":""}]
[]
[null,{"$f":"$B$15","v":"III.A.1."},11,"Czy program zadania zapewniającego określał temat zadania?",null,null,null,null,null,null,null,null,null,{"$f":"IF(J38=\"nie\",\"!\",\"\")","v":""}]
[]
[null,{"$f":"$B$15","v":"III.A.1."},12,"Czy program zadania zapewniającego określał cel zadania?",null,null,null,null,null,null,null,null,null,{"$f":"IF(J40=\"nie\",\"!\",\"\")","v":""}]
[]
[null,{"$f":"$B$15","v":"III.A.1."},13,"Czy program zadania zapewniającego określał zakres podmiotowy i przedmiotowy zadania?",null,null,null,null,null,null,null,null,null,{"$f":"IF(J42=\"nie\",\"!\",\"\")","v":""}]
[]
[null,{"$f":"$B$15","v":"III.A.1."},14,"Czy program zadania zapewniającego określał istotne ryzyka w obszarze działalności jednostki objętym zadaniem?",null,null,null,null,null,null,null,null,null,{"$f":"IF(J44=\"nie\",\"!\",\"\")","v":""}]
[]
[null,{"$f":"$B$15","v":"III.A.1."},15,"Czy program zadania zapewniającego określał sposób zrealizowania zadania, w szczególności opis doboru próby do badania oraz technik badania?",null,null,null,null,null,null,null,null,null,{"$f":"IF(J46=\"nie\",\"!\",\"\")","v":""}]
[]
[null,{"$f":"$B$15","v":"III.A.1."},16,"Czy program zadania zapewniającego zawierał uzgodnione kryteria oceny?",null,null,null,null,null,null,null,null,null,{"$f":"IF(J48=\"nie\",\"!\",\"\")","v":""}]
[]
[null,{"$f":"$B$15","v":"III.A.1."},17,"Czy program zadania zapewniającego zawierał datę rozpoczęcia i zakończenia zadania?",null,null,null,null,null,null,null,null,null,{"$f":"IF(J50=\"nie\",\"!\",\"\")","v":""}]
[]
[null,{"$f":"$B$15","v":"III.A.1."},18,"Czy program zadania zapewniającego zatwierdził kierownik komórki audytu wewnętrznego/audytor wewnętrzny?",null,null,null,null,null,null,null,null,null,{"$f":"IF(J52=\"nie\",\"!\",\"\")","v":""}]
[]
[null,{"$f":"$B$15","v":"III.A.1."},19,"Czy kierownik komórki audytu wewnętrznego w celu zapewnienia odpowiedniego zakresu audytu oraz niepowielania pracy korzystał z informacji i koordynował działania wewnętrznych i zewnętrznych wykonawców usług doradczych i zapewniających?"]
[null,null,null,null,null,null,null,null,null,"tak","nie","% udzielonych odpowiedzi"]
[null,"III.A.2.","Realizacja zadania zapewniającego ",null,null,null,null,null,null,{"$f":"COUNTIF(J59:J79,\"tak\")","v":0},{"$f":"COUNTIF(J59:J79,\"*\")-J56","v":0},{"$f":"COUNTIF(J59:J79,\"*\")/11","v":0}]
[null,null,"ustawa: art. 273 ust. 2; art. 280; art. 282 ust.2 i 282 ust.3\nrozporządzenie: §4 ust. 1; §16 ust. 2; §16 ust. 3\nstandardy: 1130; 2000; 2100; 2300; 2310; 2320; 2330; 2340",null,null,null,null,null,null,null,null,null,null,null,"NALEŻY WSKAZAĆ ZAKRES ZIDENTYFIKOWANEJ NIEPRAWIDŁOWOŚCI ORAZ ZAPLANOWAĆ I ZREALIZOWAĆ \nDZIAŁANIA KORYGUJĄCE/NAPRAWCZE\nW tym celu proszę wypełnić poniższe komórki.\n"]
[null,null,null,null,null,null,null,null,null,"odpowiedź",null,"dowód/potwierdzenie dla pełnej \nlub częściowej zgodności/komentarz",null,null,"zakres zidentyfikowanej niezgodności\nw przypadku częściowej niezgodności należy wymienić i opisać te elementy, które wymagają działań korygujących/naprawczych",null,"planowane działania korygujące/naprawcze",null,null,null,"termin realizacji"]
[null,{"$f":"$B$56","v":"III.A.2."},1,"W trakcie realizacji zadania nie wystąpił przypadek ograniczenia audytorowi prawa wstępu do pomieszczeń jednostki lub prawa do wglądu do dokumentów, informacji i danych oraz do innych materiałów związanych z funkcjonowaniem jednostki?",null,null,null,null,null,null,null,null,null,{"$f":"IF(J59=\"nie\",\"!\",\"\")","v":""}]
[]
[null,{"$f":"$B$59","v":"III.A.2."},2,"W trakcie realizacji zadania nie wystąpił przypadek by pracownicy jednostki nie udzielili informacji i wyjaśnień, a także by nie sporządzili i nie potwierdzili kopii, odpisów, wyciągów lub zestawień, na potrzeby realizacji zadań przez audytora wewnętrznego?",null,null,null,null,null,null,null,null,null,{"$f":"IF(J61=\"nie\",\"!\",\"\")","v":""}]
[]
[null,{"$f":"$B$59","v":"III.A.2."},3,"Czy kierownik komórki audytu wewnętrznego miał bezpośredni dostęp do kierownika jednostki, a w urzędzie administracji rządowej, w którym tworzy się stanowisko dyrektora generalnego urzędu do dyrektora generalnego w zakresie określonym odrębnymi ustawami na każdym etapie realizacji zadania zapewniającego?",null,null,null,null,null,null,null,null,null,{"$f":"IF(J63=\"nie\",\"!\",\"\")","v":""}]
[]
[null,{"$f":"$B$59","v":"III.A.2."},4,"Czy audytor wewnętrzny realizując zadanie zapewniające kierował się wskazówkami zawartymi w standardach audytu wewnętrznego, o których mowa w art. 273 ust. 1 ustawy?",null,null,null,null,null,null,null,null,null,{"$f":"IF(J65=\"nie\",\"!\",\"\")","v":""}]
[]
[null,{"$f":"$B$59","v":"III.A.2."},5,"Czy w  trakcie realizacji zadania zapewniono warunki niezbędne do niezależnego, obiektywnego i efektywnego prowadzenia audytu wewnętrznego?",null,null,null,null,null,null,null,null,null,{"$f":"IF(J67=\"nie\",\"!\",\"\")","v":""}]
[]
[null,{"$f":"$B$59","v":"III.A.2."},6,"Czy audyt wewnętrzny był przeprowadzany na podstawie pisemnego upoważnienia kierownika jednostki?",null,null,null,null,null,null,null,null,null,{"$f":"IF(J69=\"nie\",\"!\",\"\")","v":""}]
[]
[null,{"$f":"$B$59","v":"III.A.2."},7,"Czy w trakcie realizacji zadania zapewniającego dokonywano udokumentowanych zmian w programie zadania zapewniającego, a zmiany te zostały zaakceptowane przez kierownika komórki audytu wewnętrznego?  \n(jeżeli nie dokonywano zmiany programu, należy zaznaczyć tak i w kolumnie dowód/potwierdzenie wpisać nie dotyczy)",null,null,null,null,null,null,null,null,null,{"$f":"IF(J71=\"nie\",\"!\",\"\")","v":""}]
[]
[null,{"$f":"$B$59","v":"III.A.2."},8,"Czy w trakcie realizacji zadania zebrano informacje, które są wystarczające, wiarygodne i przydatne do osiągnięcia jego celów, a wnioski i wyniki zadania opierały się na odpowiednich i udokumentowanych analizach i ocenach?"]
[]
[null,{"$f":"$B$59","v":"III.A.2."},9,"Czy audyt wewnętrzny przez realizację zadania dokonał oceny adekwatności, skuteczności i efektywności kontroli zarządczej oraz przyczynił się do jej usprawnienia? \n(w przypadku, gdy audytor dokonał oceny ale nie wydał zaleceń należy w rubryce dowód/potwierdzenie opisać potwierdzenie wydania oceny i dodać adnotację brak zaleceń)",null,null,null,null,null,null,null,null,null,{"$f":"IF(J75=\"nie\",\"!\",\"\")","v":""}]
[]
[null,{"$f":"$B$59","v":"III.A.2."},10,"Czy zadanie zostało zrealizowane zgodnie z zakresem przedmiotowym i podmiotowym oraz czy został osiągnięty cel zadania?"]
[]
[null,{"$f":"$B$59","v":"III.A.2."},11,"Czy audytor wewnętrzny zebrał, analizował, oceniał i dokumentował informacje wystarczające do osiągnięcia celu zadania?"]
[null,null,null,null,null,null,null,null,null,"tak","nie","% udzielonych odpowiedzi"]
[null,"III.A.3."," Opracowanie, uzgadnianie i dystrybucja wyników zadania zapewniającego",null,null,null,null,null,null,{"$f":"COUNTIF(J84:J110,\"tak\")","v":0},{"$f":"COUNTIF(J84:J110,\"*\")-J81","v":0},{"$f":"COUNTIF(J84:J110,\"*\")/14","v":0}]
[null,null,"rozporządzenie: §17 - §19\nstandardy: 2400; 2600",null,null,null,null,null,null,null,null,null,null,null,"NALEŻY WSKAZAĆ ZAKRES ZIDENTYFIKOWANEJ NIEPRAWIDŁOWOŚCI ORAZ ZAPLANOWAĆ I ZREALIZOWAĆ \nDZIAŁANIA KORYGUJĄCE/NAPRAWCZE\nW tym celu proszę wypełnić poniższe komórki.\n"]
[null,null,null,null,null,null,null,null,null,"odpowiedź",null,"dowód/potwierdzenie dla pełnej \nlub częściowej zgodności/komentarz",null,null,"zakres zidentyfikowanej niezgodności\nw przypadku częściowej niezgodności należy wymienić i opisać te elementy, które wymagają działań korygujących/naprawczych",null,"planowane działania korygujące/naprawcze",null,null,null,"termin realizacji"]
[null,{"$f":"$B$81","v":"III.A.3."},1,"Czy audytor wewnętrzny po przeprowadzeniu czynności audytowych uzgodnił pisemnie \nz audytowanym wstępne wyniki audytu wewnętrznego, w tym w szczególności ustalenia \ni propozycje zaleceń lub przeprowadził naradę zamykającą?\n(w przypadku nieuzgodnienia wstępnych wyników audytu wewnętrznego czy audytowany mógł zgłosić pisemne zastrzeżenia, w terminie określonym przez audytora wewnętrznego, nie krótszym niż 7 dni kalendarzowych od dnia poinformowania audytowanego o wstępnych wynikach)",null,null,null,null,null,null,null,null,null,{"$f":"IF(J84=\"nie\",\"!\",\"\")","v":""}]
[]
[null,{"$f":"$B$81","v":"III.A.3."},2,"Czy audytor wewnętrzny, po uzgodnieniu wstępnych wyników audytu wewnętrznego lub po wniesieniu zastrzeżeń przez audytowanego sporządził sprawozdanie z zadania zapewniającego?",null,null,null,null,null,null,null,null,null,{"$f":"IF(J86=\"nie\",\"!\",\"\")","v":""}]
[]
[null,{"$f":"$B$81","v":"III.A.3."},3,"Czy sprawozdanie z zadania zapewniającego zawiera temat i cel zadania?",null,null,null,null,null,null,null,null,null,{"$f":"IF(J88=\"nie\",\"!\",\"\")","v":""}]
[]
[null,{"$f":"$B$81","v":"III.A.3."},4,"Czy sprawozdanie z zadania zapewniającego zawiera zakres podmiotowy i przedmiotowy zadania?",null,null,null,null,null,null,null,null,null,{"$f":"IF(J90=\"nie\",\"!\",\"\")","v":""}]
[]
[null,{"$f":"$B$81","v":"III.A.3."},5,"Czy sprawozdanie z zadania zapewniającego zawiera datę rozpoczęcia zadania?",null,null,null,null,null,null,null,null,null,{"$f":"IF(J92=\"nie\",\"!\",\"\")","v":""}]
[]
[null,{"$f":"$B$81","v":"III.A.3."},6,"Czy sprawozdanie z zadania zapewniającego zawiera ustalenia i ocenę według kryteriów przyjętych w programie?",null,null,null,null,null,null,null,null,null,{"$f":"IF(J94=\"nie\",\"!\",\"\")","v":""}]
[]
[null,{"$f":"$B$81","v":"III.A.3."},7,"Czy sprawozdanie z zadania zapewniającego zawiera zalecenia?\n(jeżeli w wyniku przeprowadzonego zadania nie wydano zaleceń, należy wybrać tak i w kolumnie dowód/potwierdzenie należy wpisać nie dotyczy)",null,null,null,null,null,null,null,null,null,{"$f":"IF(J96=\"nie\",\"!\",\"\")","v":""}]
[]
[null,{"$f":"$B$81","v":"III.A.3."},8,"Czy sprawozdanie z zadania zapewniającego zawiera odniesienie się audytora wewnętrznego do zastrzeżeń audytowanego do wstępnych wyników audytu wewnętrznego? \n(jeżeli nie były zgłoszone, należy wybrać tak i w kolumnie dowód/potwierdzenie należy wpisać nie dotyczy)",null,null,null,null,null,null,null,null,null,{"$f":"IF(J98=\"nie\",\"!\",\"\")","v":""}]
[]
[null,{"$f":"$B$81","v":"III.A.3."},9,"Czy sprawozdanie z zadania zapewniającego zawiera ogólną ocenę adekwatności, skuteczności i efektywności kontroli zarządczej w obszarze działalności jednostki objętym zadaniem?",null,null,null,null,null,null,null,null,null,{"$f":"IF(J100=\"nie\",\"!\",\"\")","v":""}]
[]
[null,{"$f":"$B$81","v":"III.A.3."},10,"Czy sprawozdanie z zadania zapewniającego zawiera datę sporządzenia sprawozdania?",null,null,null,null,null,null,null,null,null,{"$f":"IF(J102=\"nie\",\"!\",\"\")","v":""}]
[]
[null,{"$f":"$B$81","v":"III.A.3."},11,"Czy sprawozdanie z zadania zapewniającego zawiera imię i nazwisko audytora wewnętrznego przeprowadzającego zadanie oraz jego podpis? \n(w przypadku zadania zapewniającego realizowanego przez kilku audytorów wewnętrznych sprawozdanie mogą podpisać wszyscy audytorzy wewnętrzni realizujący zadanie albo audytor wewnętrzny odpowiedzialny za realizację tego zadania, wyznaczony przez kierownika komórki audytu spośród audytorów wewnętrznych realizujących zadanie)",null,null,null,null,null,null,null,null,null,{"$f":"IF(J104=\"nie\",\"!\",\"\")","v":""}]
[]
[null,{"$f":"$B$81","v":"III.A.3."},12,"Czy sprawozdanie z zadania zapewniającego jest jasne, zwięzłe, przejrzyste, obiektywne oraz kompletne?  \n(zgodnie ze Standardami przekazane informacje muszą być dokładne, obiektywne, jasne, zwięzłe, konstruktywne, kompletne oraz dostarczone na czas)",null,null,null,null,null,null,null,null,null,{"$f":"IF(J106=\"nie\",\"!\",\"\")","v":""}]
[]
[null,{"$f":"$B$81","v":"III.A.3."},13,"Czy kierownik komórki audytu wewnętrznego/audytor wewnętrzny przekazał sprawozdanie audytowanemu i kierownikowi jednostki?",null,null,null,null,null,null,null,null,null,{"$f":"IF(J108=\"nie\",\"!\",\"\")","v":""}]
[]
[null,{"$f":"$B$81","v":"III.A.3."},14,"Czy kierownik komórki audytu wewnętrznego/audytor wewnętrzny poinformował kierownika jednostki, że przyjęto poziom ryzyka, który może być nie do zaakceptowania dla jednostki? \n(jeżeli była taka potrzeba, w przeciwnym razie należy zaznaczyć tak i w kolumnie dowód/potwierdzenie należy wpisać nie dotyczy)"]
[null,null,null,null,null,null,null,null,null,"tak","nie","% udzielonych odpowiedzi"]
[null,"III.A.4."," Monitoring wdrożenia zaleceń i czynność sprawdzająca",null,null,null,null,null,null,{"$f":"COUNTIF(J115:J121,\"tak\")","v":0},{"$f":"COUNTIF(J115:J121,\"*\")-J112","v":0},{"$f":"COUNTIF(J115:J121,\"*\")/4","v":0}]
[null,null,"rozporządzenie: §20 - §21\nstandardy: 2500",null,null,null,null,null,null,null,null,null,null,null,"NALEŻY WSKAZAĆ ZAKRES ZIDENTYFIKOWANEJ NIEPRAWIDŁOWOŚCI ORAZ ZAPLANOWAĆ I ZREALIZOWAĆ \nDZIAŁANIA KORYGUJĄCE/NAPRAWCZE\nW tym celu proszę wypełnić poniższe komórki.\n"]
[null,null,null,null,null,null,null,null,null,"odpowiedź",null,"dowód/potwierdzenie dla pełnej \nlub częściowej zgodności/komentarz",null,null,"zakres zidentyfikowanej niezgodności\nw przypadku częściowej niezgodności należy wymienić i opisać te elementy, które wymagają działań korygujących/naprawczych",null,"planowane działania korygujące/naprawcze",null,null,null,"termin realizacji"]
[null,{"$f":"$B$112","v":"III.A.4."},1,"Czy audytor wewnętrzny monitorował realizację wydanych i zaakceptowanych do wdrożenia zaleceń?",null,null,null,null,null,null,null,null,null,{"$f":"IF(J115=\"nie\",\"!\",\"\")","v":""}]
[]
[null,{"$f":"$B$112","v":"III.A.4."},2,"Czy audytor wewnętrzny po upływie terminów realizacji zaleceń przeprowadził czynności sprawdzające?\n/jeżeli nie były przeprowadzane czynności sprawdzające, bo nie upłynęły jeszcze terminy realizacji zaleceń należy wybrać tak i w kolumnie dowód napisać nie dotyczy/",null,null,null,null,null,null,null,null,null,{"$f":"IF(J117=\"nie\",\"!\",\"\")","v":""}]
[]
[null,{"$f":"$B$112","v":"III.A.4."},3,"Czy wynik czynności sprawdzających audytor wewnętrzny przedstawił w notatce informacyjnej kierownikowi jednostki i audytowanemu?\n/jeżeli nie były przeprowadzane czynności sprawdzające, bo nie upłynęły jeszcze terminy realizacji zaleceń należy wybrać tak i w kolumnie dowód napisać nie dotyczy/",null,null,null,null,null,null,null,null,null,{"$f":"IF(J119=\"nie\",\"!\",\"\")","v":""}]
[]
[null,{"$f":"$B$112","v":"III.A.4."},4,"Czy system monitorowania wyników audytu jest skuteczny i adekwatny?"]

{"sheet":"III. Realizacja ZZ 3","index":7,"n_rows":121,"n_cols":25,"rows_kept":121,"cut":false,"hidden":true,"merged":[[11,3,11,8],[11,11,11,12],[11,14,14,20],[13,11,13,12],[14,2,14,8],[14,11,14,12],[1,1,1,11],[3,1,6,21],[7,3,7,10],[7,14,7,20],[8,2,9,10],[8,11,9,11],[8,12,9,12],[8,14,10,20],[10,3,10,8],[10,11,10,12],[12,3,12,8],[13,3,13,8],[15,2,15,12],[15,14,15,20],[16,9,16,10],[16,11,16,12],[16,16,16,18],[17,3,17,8],[17,9,17,10],[17,11,17,12],[17,16,17,18],[23,3,23,8],[23,9,23,10],[23,11,23,12],[23,16,23,18],[25,3,25,8],[25,9,25,10],[25,11,25,12],[25,16,25,18],[19,3,19,8],[19,9,19,10],[19,11,19,12],[19,16,19,18],[21,3,21,8],[21,9,21,10],[21,11,21,12],[21,16,21,18],[31,3,31,8],[31,9,31,10],[31,11,31,12],[31,16,31,18],[33,3,33,8],[33,9,33,10],[33,11,33,12],[33,16,33,18],[27,3,27,8],[27,9,27,10],[27,11,27,12],[27,16,27,18],[29,3,29,8],[29,9,29,10],[29,11,29,12],[29,16,29,18],[39,3,39,8],[39,9,39,10],[39,11,39,12],[39,16,39,18],[41,3,41,8],[41,9,41,10],[41,11,41,12],[41,16,41,18],[35,3,35,8],[35,9,35,10],[35,11,35,12],[35,16,35,18],[37,3,37,8],[37,9,37,10],[37,11,37,12],[37,16,37,18],[47,3,47,8],[47,9,47,10],[47,11,47,12],[47,16,47,18],[49,3,49,8],[49,9,49,10],[49,11,49,12],[49,16,49,18],[43,3,43,8],[43,9,43,10],[43,11,43,12],[43,16,43,18],[45,3,45,8],[45,9,45,10],[45,11,45,12],[45,16,45,18],[54,11,54,12],[55,2,55,8],[55,11,55,12],[56,2,56,12],[56,14,56,20],[57,9,57,10],[57,11,57,12],[57,16,57,18],[51,3,51,8],[51,9,51,10],[51,11,51,12],[51,16,51,18],[53,3,53,8],[53,9,53,10],[53,11,53,12],[53,16,53,18],[62,3,62,8],[62,9,62,10],[62,11,62,12],[62,16,62,18],[64,3,64,8],[64,9,64,10],[64,11,64,12],[64,16,64,18],[58,3,58,8],[58,9,58,10],[58,11,58,12],[58,16,58,18],[60,3,60,8],[60,9,60,10],[60,11,60,12],[60,16,60,18],[70,3,70,8],[70,9,70,10],[70,11,70,12],[70,16,70,18],[72,3,72,8],[72,9,72,10],[72,11,72,12],[72,16,72,18],[66,3,66,8],[66,9,66,10],[66,11,66,12],[66,16,66,18],[68,3,68,8],[68,9,68,10],[68,11,68,12],[68,16,68,18],[78,3,78,8],[78,9,78,10],[78,11,78,12],[78,16,78,18],[79,11,79,12],[80,2,80,8],[80,11,80,12],[74,3,74,8],[74,9,74,10],[74,11,74,12],[74,16,74,18],[76,3,76,8],[76,9,76,10],[76,11,76,12],[76,16,76,18],[81,2,81,12],[81,14,81,20],[82,9,82,10],[82,11,82,12],[82,16,82,18],[83,3,83,8],[83,9,83,10],[83,11,83,12],[83,16,83,18],[89,3,89,8],[89,9,89,10],[89,11,89,12],[89,16,89,18],[91,3,91,8],[91,9,91,10],[91,11,91,12],[91,16,91,18],[85,3,85,8],[85,9,85,10],[85,11,85,12],[85,16,85,18],[87,3,87,8],[87,9,87,10],[87,11,87,12],[87,16,87,18],[97,3,97,8],[97,9,97,10],[97,11,97,12],[97,16,97,18],[99,3,99,8],[99,9,99,10],[99,11,99,12],[99,16,99,18],[93,3,93,8],[93,9,93,10],[93,11,93,12],[93,16,93,18],[95,3,95,8],[95,9,95,10],[95,11,95,12],[95,16,95,18],[105,3,105,8],[105,9,105,10],[105,11,105,12],[105,16,105,18],[107,3,107,8],[107,9,107,10],[107,11,107,12],[107,16,107,18],[101,3,101,8],[101,9,101,10],[101,11,101,12],[101,16,101,18],[103,3,103,8],[103,9,103,10],[103,11,103,12],[103,16,103,18],[110,11,110,12],[111,2,111,8],[111,11,111,12],[112,2,112,12],[112,14,112,20],[113,9,113,10],[113,11,113,12],[113,16,113,18],[109,3,109,8],[109,9,109,10],[109,11,109,12],[109,16,109,18],[118,3,118,8],[118,9,118,10],[118,11,118,12],[118,16,118,18],[120,3,120,8],[120,9,120,10],[120,11,120,12],[120,16,120,18],[114,3,114,8],[114,9,114,10],[114,11,114,12],[114,16,114,18],[116,3,116,8],[116,9,116,10],[116,11,116,12],[116,16,116,18]]}
[]
[]
[]
[null,"Quality @w "]
[]
[]
[]
[null,null,null,null,null,null,null,null,null,null,null,null,null,"data rozpoczęcia wypełniania niniejszego arkusza","liczba uzyskanych punktów w bloku tematycznym"]
[null,null,{"$f":"'Strona tytułowa'!$H$16","v":0},null,null,null,null,null,null,null,null,{"$f":"'Strona tytułowa'!$F$16","v":0},{"$f":"'Strona tytułowa'!$B$2","v":"ver.2.0.2018"},null,{"$f":"J12","v":0}]
[null,null,null,null,null,null,null,null,null,null,null,null,null,null,null,null,null,null,null,null,null,null,null,null,{"$f":"J12+K12","v":0}]
[null,null,null,"blok tematyczny",null,null,null,null,null,"tak","nie","% udzielonych odpowiedzi"]
[null,null,"III.A","REALIZACJA ZADAŃ AUDYTOWYCH - ZADANIE ZAPEWNIAJĄCE",null,null,null,null,null,{"$f":"J15+J56+J81+J112","v":0},{"$f":"K15+K56+K81+K112","v":0},{"$f":"(J12+K12)/48","v":0},null,{"$f":"COUNTIF(N18:N121,\"!\")","v":0},"0                                                                                                                                                                                                                                                                                                              49 "]
[null,null,null,"temat zadania",null,null,null,null,null,{"$f":"J12/(J12+K12)","v":{"$error":"#DIV/0!"}},{"$f":"K12/(K12+J12)","v":{"$error":"#DIV/0!"}}]
[null,null,null,null,null,null,null,null,null,"ER5HYN","nie","% udzielonych odpowiedzi",null,"niezgodność z przepisami"]
[null,"III.A.1.","Przygotowanie i programowanie zadania zapewniającego",null,null,null,null,null,null,{"$f":"COUNTIF(J18:J54,\"tak\")","v":0},{"$f":"COUNTIF(J18:J54,\"*\")-J15","v":0},{"$f":"COUNTIF(J18:J54,\"*\")/19","v":0}]
[null,null,"rozporządzenie: §13 - §16.\nstandardy: 2050; 2200; 2201; 2210; 2220; 2230;2240",null,null,null,null,null,null,null,null,null,null,null,"NALEŻY WSKAZAĆ ZAKRES ZIDENTYFIKOWANEJ NIEPRAWIDŁOWOŚCI ORAZ ZAPLANOWAĆ I ZREALIZOWAĆ \nDZIAŁANIA KORYGUJĄCE/NAPRAWCZE\nW tym celu proszę wypełnić poniższe komórki.\n"]
[null,null,null,null,null,null,null,null,null,"odpowiedź",null,"dowód/potwierdzenie dla pełnej \nlub częściowej zgodności/komentarz",null,null,"zakres zidentyfikowanej niezgodności\nw przypadku częściowej niezgodności należy wymienić i opisać te elementy, które wymagają działań korygujących/naprawczych",null,"planowane działania korygujące/naprawcze",null,null,null,"termin realizacji"]
[null,{"$f":"$B$15","v":"III.A.1."},1,"Czy kierownik komórki audytu wewnętrznego/audytor wewnętrzny poinformował audytowanego o planowanej realizacji zadania?",null,null,null,null,null,null,null,null,null,{"$f":"IF(J18=\"nie\",\"!\",\"\")","v":""}]
[]
[null,{"$f":"$B$15","v":"III.A.1."},2,"Czy rozpoczynając realizację zadania zapewniającego audytor wewnętrzny przeprowadził przegląd wstępny?",null,null,null,null,null,null,null,null,null,{"$f":"IF(J20=\"nie\",\"!\",\"\")","v":""}]
[]
[null,{"$f":"$B$15","v":"III.A.1."},3,"Czy przegląd wstępny obejmował zapoznanie się z celami i obszarem działalności jednostki, w którym zostało zrealizowane zadanie?",null,null,null,null,null,null,null,null,null,{"$f":"IF(J22=\"nie\",\"!\",\"\")","v":""}]
[null,null,null,null,null,null,null,null,null,null,null,null,null,null,"w"]
[null,{"$f":"$B$15","v":"III.A.1."},4,"Czy przegląd wstępny obejmował dokonanie identyfikacji i oceny ryzyka, po uwzględnieniu istniejących mechanizmów kontrolnych?",null,null,null,null,null,null,null,null,null,{"$f":"IF(J24=\"nie\",\"!\",\"\")","v":""}]
[]
[null,{"$f":"$B$15","v":"III.A.1."},5,"Czy przegląd wstępny obejmował uzgodnienie z audytowanym kryteriów oceny mechanizmów kontrolnych w obszarze działalności jednostki objętym zadaniem lub \nw przypadku braku uzgodnienia kryteriów z audytowanym kryteria zostały uzgodnione \nz kierownikiem jednostki?",null,null,null,null,null,null,null,null,null,{"$f":"IF(J26=\"nie\",\"!\",\"\")","v":""}]
[]
[null,{"$f":"$B$15","v":"III.A.1."},6,"Czy audytor wewnętrzny przygotował program zadania zapewniającego?",null,null,null,null,null,null,null,null,null,{"$f":"IF(J28=\"nie\",\"!\",\"\")","v":""}]
[]
[null,{"$f":"$B$15","v":"III.A.1."},7,"Czy program zadania zapewniającego uwzględniał wynik przeglądu wstępnego?",null,null,null,null,null,null,null,null,null,{"$f":"IF(J30=\"nie\",\"!\",\"\")","v":""}]
[]
[null,{"$f":"$B$15","v":"III.A.1."},8,"Czy program zadania zapewniającego uwzględniał uwagi kierownika jednostki \ni audytowanego?",null,null,null,null,null,null,null,null,null,{"$f":"IF(J32=\"nie\",\"!\",\"\")","v":""}]
[]
[null,{"$f":"$B$15","v":"III.A.1."},9,"Czy program zadania zapewniającego uwzględniał zasoby niezbędne do przeprowadzenia zadania, w tym ewentualną potrzebę uzyskania pomocy eksperta?",null,null,null,null,null,null,null,null,null,{"$f":"IF(J34=\"nie\",\"!\",\"\")","v":""}]
[]
[null,{"$f":"$B$15","v":"III.A.1."},10,"Czy program zadania zapewniającego uwzględniał przewidywany czas trwania zadania?",null,null,null,null,null,null,null,null,null,{"$f":"IF(J36=\"nie\",\"!\",\"\")","v":""}]
[]
[null,{"$f":"$B$15","v":"III.A.1."},11,"Czy program zadania zapewniającego określał temat zadania?",null,null,null,null,null,null,null,null,null,{"$f":"IF(J38=\"nie\",\"!\",\"\")","v":""}]
[]
[null,{"$f":"$B$15","v":"III.A.1."},12,"Czy program zadania zapewniającego określał cel zadania?",null,null,null,null,null,null,null,null,null,{"$f":"IF(J40=\"nie\",\"!\",\"\")","v":""}]
[]
[null,{"$f":"$B$15","v":"III.A.1."},13,"Czy program zadania zapewniającego określał zakres podmiotowy i przedmiotowy zadania?",null,null,null,null,null,null,null,null,null,{"$f":"IF(J42=\"nie\",\"!\",\"\")","v":""}]
[]
[null,{"$f":"$B$15","v":"III.A.1."},14,"Czy program zadania zapewniającego określał istotne ryzyka w obszarze działalności jednostki objętym zadaniem?",null,null,null,null,null,null,null,null,null,{"$f":"IF(J44=\"nie\",\"!\",\"\")","v":""}]
[]
[null,{"$f":"$B$15","v":"III.A.1."},15,"Czy program zadania zapewniającego określał sposób zrealizowania zadania, w szczególności opis doboru próby do badania oraz technik badania?",null,null,null,null,null,null,null,null,null,{"$f":"IF(J46=\"nie\",\"!\",\"\")","v":""}]
[]
[null,{"$f":"$B$15","v":"III.A.1."},16,"Czy program zadania zapewniającego zawierał uzgodnione kryteria oceny?",null,null,null,null,null,null,null,null,null,{"$f":"IF(J48=\"nie\",\"!\",\"\")","v":""}]
[]
[null,{"$f":"$B$15","v":"III.A.1."},17,"Czy program zadania zapewniającego zawierał datę rozpoczęcia i zakończenia zadania?",null,null,null,null,null,null,null,null,null,{"$f":"IF(J50=\"nie\",\"!\",\"\")","v":""}]
[]
[null,{"$f":"$B$15","v":"III.A.1."},18,"Czy program zadania zapewniającego zatwierdził kierownik komórki audytu wewnętrznego/audytor wewnętrzny?",null,null,null,null,null,null,null,null,null,{"$f":"IF(J52=\"nie\",\"!\",\"\")","v":""}]
[]
[null,{"$f":"$B$15","v":"III.A.1."},19,"Czy kierownik komórki audytu wewnętrznego w celu zapewnienia odpowiedniego zakresu audytu oraz niepowielania pracy korzystał z informacji i koordynował działania wewnętrznych i zewnętrznych wykonawców usług doradczych i zapewniających?"]
[null,null,null,null,null,null,null,null,null,"tak","nie","% udzielonych odpowiedzi"]
[null,"III.A.2.","Realizacja zadania zapewniającego ",null,null,null,null,null,null,{"$f":"COUNTIF(J59:J79,\"tak\")","v":0},{"$f":"COUNTIF(J59:J79,\"*\")-J56","v":0},{"$f":"COUNTIF(J59:J79,\"*\")/11","v":0}]
[null,null,"ustawa: art. 273 ust. 2; art. 280; art. 282 ust.2 i 282 ust.3\nrozporządzenie: §4 ust. 1; §16 ust. 2; §16 ust. 3\nstandardy: 1130; 2000; 2100; 2300; 2310; 2320; 2330; 2340",null,null,null,null,null,null,null,null,null,null,null,"NALEŻY WSKAZAĆ ZAKRES ZIDENTYFIKOWANEJ NIEPRAWIDŁOWOŚCI ORAZ ZAPLANOWAĆ I ZREALIZOWAĆ \nDZIAŁANIA KORYGUJĄCE/NAPRAWCZE\nW tym celu proszę wypełnić poniższe komórki.\n"]
[null,null,null,null,null,null,null,null,null,"odpowiedź",null,"dowód/potwierdzenie dla pełnej \nlub częściowej zgodności/komentarz",null,null,"zakres zidentyfikowanej niezgodności\nw przypadku częściowej niezgodności należy wymienić i opisać te elementy, które wymagają działań korygujących/naprawczych",null,"planowane działania korygujące/naprawcze",null,null,null,"termin realizacji"]
[null,{"$f":"$B$56","v":"III.A.2."},1,"W trakcie realizacji zadania nie wystąpił przypadek ograniczenia audytorowi prawa wstępu do pomieszczeń jednostki lub prawa do wglądu do dokumentów, informacji i danych oraz do innych materiałów związanych z funkcjonowaniem jednostki?",null,null,null,null,null,null,null,null,null,{"$f":"IF(J59=\"nie\",\"!\",\"\")","v":""}]
[]
[null,{"$f":"$B$59","v":"III.A.2."},2,"W trakcie realizacji zadania nie wystąpił przypadek by pracownicy jednostki nie udzielili informacji i wyjaśnień, a także by nie sporządzili i nie potwierdzili kopii, odpisów, wyciągów lub zestawień, na potrzeby realizacji zadań przez audytora wewnętrznego?",null,null,null,null,null,null,null,null,null,{"$f":"IF(J61=\"nie\",\"!\",\"\")","v":""}]
[]
[null,{"$f":"$B$59","v":"III.A.2."},3,"Czy kierownik komórki audytu wewnętrznego miał bezpośredni dostęp do kierownika jednostki, a w urzędzie administracji rządowej, w którym tworzy się stanowisko dyrektora generalnego urzędu do dyrektora generalnego w zakresie określonym odrębnymi ustawami na każdym etapie realizacji zadania zapewniającego?",null,null,null,null,null,null,null,null,null,{"$f":"IF(J63=\"nie\",\"!\",\"\")","v":""}]
[]
[null,{"$f":"$B$59","v":"III.A.2."},4,"Czy audytor wewnętrzny realizując zadanie zapewniające kierował się wskazówkami zawartymi w standardach audytu wewnętrznego, o których mowa w art. 273 ust. 1 ustawy?",null,null,null,null,null,null,null,null,null,{"$f":"IF(J65=\"nie\",\"!\",\"\")","v":""}]
[]
[null,{"$f":"$B$59","v":"III.A.2."},5,"Czy w  trakcie realizacji zadania zapewniono warunki niezbędne do niezależnego, obiektywnego i efektywnego prowadzenia audytu wewnętrznego?",null,null,null,null,null,null,null,null,null,{"$f":"IF(J67=\"nie\",\"!\",\"\")","v":""}]
[]
[null,{"$f":"$B$59","v":"III.A.2."},6,"Czy audyt wewnętrzny był przeprowadzany na podstawie pisemnego upoważnienia kierownika jednostki?",null,null,null,null,null,null,null,null,null,{"$f":"IF(J69=\"nie\",\"!\",\"\")","v":""}]
[]
[null,{"$f":"$B$59","v":"III.A.2."},7,"Czy w trakcie realizacji zadania zapewniającego dokonywano udokumentowanych zmian w programie zadania zapewniającego, a zmiany te zostały zaakceptowane przez kierownika komórki audytu wewnętrznego?  \n(jeżeli nie dokonywano zmiany programu, należy zaznaczyć tak i w kolumnie dowód/potwierdzenie wpisać nie dotyczy)",null,null,null,null,null,null,null,null,null,{"$f":"IF(J71=\"nie\",\"!\",\"\")","v":""}]
[]
[null,{"$f":"$B$59","v":"III.A.2."},8,"Czy w trakcie realizacji zadania zebrano informacje, które są wystarczające, wiarygodne i przydatne do osiągnięcia jego celów, a wnioski i wyniki zadania opierały się na odpowiednich i udokumentowanych analizach i ocenach?"]
[]
[null,{"$f":"$B$59","v":"III.A.2."},9,"Czy audyt wewnętrzny przez realizację zadania dokonał oceny adekwatności, skuteczności i efektywności kontroli zarządczej oraz przyczynił się do jej usprawnienia? \n(w przypadku, gdy audytor dokonał oceny ale nie wydał zaleceń należy w rubryce dowód/potwierdzenie opisać potwierdzenie wydania oceny i dodać adnotację brak zaleceń)",null,null,null,null,null,null,null,null,null,{"$f":"IF(J75=\"nie\",\"!\",\"\")","v":""}]
[]
[null,{"$f":"$B$59","v":"III.A.2."},10,"Czy zadanie zostało zrealizowane zgodnie z zakresem przedmiotowym i podmiotowym oraz czy został osiągnięty cel zadania?"]
[]
[null,{"$f":"$B$59","v":"III.A.2."},11,"Czy audytor wewnętrzny zebrał, analizował, oceniał i dokumentował informacje wystarczające do osiągnięcia celu zadania?"]
[null,null,null,null,null,null,null,null,null,"tak","nie","% udzielonych odpowiedzi"]
[null,"III.A.3."," Opracowanie, uzgadnianie i dystrybucja wyników zadania zapewniającego",null,null,null,null,null,null,{"$f":"COUNTIF(J84:J110,\"tak\")","v":0},{"$f":"COUNTIF(J84:J110,\"*\")-J81","v":0},{"$f":"COUNTIF(J84:J110,\"*\")/14","v":0}]
[null,null,"rozporządzenie: §17 - §19\nstandardy: 2400; 2600",null,null,null,null,null,null,null,null,null,null,null,"NALEŻY WSKAZAĆ ZAKRES ZIDENTYFIKOWANEJ NIEPRAWIDŁOWOŚCI ORAZ ZAPLANOWAĆ I ZREALIZOWAĆ \nDZIAŁANIA KORYGUJĄCE/NAPRAWCZE\nW tym celu proszę wypełnić poniższe komórki.\n"]
[null,null,null,null,null,null,null,null,null,"odpowiedź",null,"dowód/potwierdzenie dla pełnej \nlub częściowej zgodności/komentarz",null,null,"zakres zidentyfikowanej niezgodności\nw przypadku częściowej niezgodności należy wymienić i opisać te elementy, które wymagają działań korygujących/naprawczych",null,"planowane działania korygujące/naprawcze",null,null,null,"termin realizacji"]
[null,{"$f":"$B$81","v":"III.A.3."},1,"Czy audytor wewnętrzny po przeprowadzeniu czynności audytowych uzgodnił pisemnie \nz audytowanym wstępne wyniki audytu wewnętrznego, w tym w szczególności ustalenia \ni propozycje zaleceń lub przeprowadził naradę zamykającą?\n(w przypadku nieuzgodnienia wstępnych wyników audytu wewnętrznego czy audytowany mógł zgłosić pisemne zastrzeżenia, w terminie określonym przez audytora wewnętrznego, nie krótszym niż 7 dni kalendarzowych od dnia poinformowania audytowanego o wstępnych wynikach)",null,null,null,null,null,null,null,null,null,{"$f":"IF(J84=\"nie\",\"!\",\"\")","v":""}]
[]
[null,{"$f":"$B$81","v":"III.A.3."},2,"Czy audytor wewnętrzny, po uzgodnieniu wstępnych wyników audytu wewnętrznego lub po wniesieniu zastrzeżeń przez audytowanego sporządził sprawozdanie z zadania zapewniającego?",null,null,null,null,null,null,null,null,null,{"$f":"IF(J86=\"nie\",\"!\",\"\")","v":""}]
[]
[null,{"$f":"$B$81","v":"III.A.3."},3,"Czy sprawozdanie z zadania zapewniającego zawiera temat i cel zadania?",null,null,null,null,null,null,null,null,null,{"$f":"IF(J88=\"nie\",\"!\",\"\")","v":""}]
[]
[null,{"$f":"$B$81","v":"III.A.3."},4,"Czy sprawozdanie z zadania zapewniającego zawiera zakres podmiotowy i przedmiotowy zadania?",null,null,null,null,null,null,null,null,null,{"$f":"IF(J90=\"nie\",\"!\",\"\")","v":""}]
[]
[null,{"$f":"$B$81","v":"III.A.3."},5,"Czy sprawozdanie z zadania zapewniającego zawiera datę rozpoczęcia zadania?",null,null,null,null,null,null,null,null,null,{"$f":"IF(J92=\"nie\",\"!\",\"\")","v":""}]
[]
[null,{"$f":"$B$81","v":"III.A.3."},6,"Czy sprawozdanie z zadania zapewniającego zawiera ustalenia i ocenę według kryteriów przyjętych w programie?",null,null,null,null,null,null,null,null,null,{"$f":"IF(J94=\"nie\",\"!\",\"\")","v":""}]
[]
[null,{"$f":"$B$81","v":"III.A.3."},7,"Czy sprawozdanie z zadania zapewniającego zawiera zalecenia?\n(jeżeli w wyniku przeprowadzonego zadania nie wydano zaleceń, należy wybrać tak i w kolumnie dowód/potwierdzenie należy wpisać nie dotyczy)",null,null,null,null,null,null,null,null,null,{"$f":"IF(J96=\"nie\",\"!\",\"\")","v":""}]
[]
[null,{"$f":"$B$81","v":"III.A.3."},8,"Czy sprawozdanie z zadania zapewniającego zawiera odniesienie się audytora wewnętrznego do zastrzeżeń audytowanego do wstępnych wyników audytu wewnętrznego? \n(jeżeli nie były zgłoszone, należy wybrać tak i w kolumnie dowód/potwierdzenie należy wpisać nie dotyczy)",null,null,null,null,null,null,null,null,null,{"$f":"IF(J98=\"nie\",\"!\",\"\")","v":""}]
[]
[null,{"$f":"$B$81","v":"III.A.3."},9,"Czy sprawozdanie z zadania zapewniającego zawiera ogólną ocenę adekwatności, skuteczności i efektywności kontroli zarządczej w obszarze działalności jednostki objętym zadaniem?",null,null,null,null,null,null,null,null,null,{"$f":"IF(J100=\"nie\",\"!\",\"\")","v":""}]
[]
[null,{"$f":"$B$81","v":"III.A.3."},10,"Czy sprawozdanie z zadania zapewniającego zawiera datę sporządzenia sprawozdania?",null,null,null,null,null,null,null,null,null,{"$f":"IF(J102=\"nie\",\"!\",\"\")","v":""}]
[]
[null,{"$f":"$B$81","v":"III.A.3."},11,"Czy sprawozdanie z zadania zapewniającego zawiera imię i nazwisko audytora wewnętrznego przeprowadzającego zadanie oraz jego podpis? \n(w przypadku zadania zapewniającego realizowanego przez kilku audytorów wewnętrznych sprawozdanie mogą podpisać wszyscy audytorzy wewnętrzni realizujący zadanie albo audytor wewnętrzny odpowiedzialny za realizację tego zadania, wyznaczony przez kierownika komórki audytu spośród audytorów wewnętrznych realizujących zadanie)",null,null,null,null,null,null,null,null,null,{"$f":"IF(J104=\"nie\",\"!\",\"\")","v":""}]
[]
[null,{"$f":"$B$81","v":"III.A.3."},12,"Czy sprawozdanie z zadania zapewniającego jest jasne, zwięzłe, przejrzyste, obiektywne oraz kompletne?  \n(zgodnie ze Standardami przekazane informacje muszą być dokładne, obiektywne, jasne, zwięzłe, konstruktywne, kompletne oraz dostarczone na czas)",null,null,null,null,null,null,null,null,null,{"$f":"IF(J106=\"nie\",\"!\",\"\")","v":""}]
[]
[null,{"$f":"$B$81","v":"III.A.3."},13,"Czy kierownik komórki audytu wewnętrznego/audytor wewnętrzny przekazał sprawozdanie audytowanemu i kierownikowi jednostki?",null,null,null,null,null,null,null,null,null,{"$f":"IF(J108=\"nie\",\"!\",\"\")","v":""}]
[]
[null,{"$f":"$B$81","v":"III.A.3."},14,"Czy kierownik komórki audytu wewnętrznego/audytor wewnętrzny poinformował kierownika jednostki, że przyjęto poziom ryzyka, który może być nie do zaakceptowania dla jednostki? \n(jeżeli była taka potrzeba, w przeciwnym razie należy zaznaczyć tak i w kolumnie dowód/potwierdzenie należy wpisać nie dotyczy)"]
[null,null,null,null,null,null,null,null,null,"tak","nie","% udzielonych odpowiedzi"]
[null,"III.A.4."," Monitoring wdrożenia zaleceń i czynność sprawdzająca",null,null,null,null,null,null,{"$f":"COUNTIF(J115:J121,\"tak\")","v":0},{"$f":"COUNTIF(J115:J121,\"*\")-J112","v":0},{"$f":"COUNTIF(J115:J121,\"*\")/4","v":0}]
[null,null,"rozporządzenie: §20 - §21\nstandardy: 2500",null,null,null,null,null,null,null,null,null,null,null,"NALEŻY WSKAZAĆ ZAKRES ZIDENTYFIKOWANEJ NIEPRAWIDŁOWOŚCI ORAZ ZAPLANOWAĆ I ZREALIZOWAĆ \nDZIAŁANIA KORYGUJĄCE/NAPRAWCZE\nW tym celu proszę wypełnić poniższe komórki.\n"]
[null,null,null,null,null,null,null,null,null,"odpowiedź",null,"dowód/potwierdzenie dla pełnej \nlub częściowej zgodności/komentarz",null,null,"zakres zidentyfikowanej niezgodności\nw przypadku częściowej niezgodności należy wymienić i opisać te elementy, które wymagają działań korygujących/naprawczych",null,"planowane działania korygujące/naprawcze",null,null,null,"termin realizacji"]
[null,{"$f":"$B$112","v":"III.A.4."},1,"Czy audytor wewnętrzny monitorował realizację wydanych i zaakceptowanych do wdrożenia zaleceń?",null,null,null,null,null,null,null,null,null,{"$f":"IF(J115=\"nie\",\"!\",\"\")","v":""}]
[]
[null,{"$f":"$B$112","v":"III.A.4."},2,"Czy audytor wewnętrzny po upływie terminów realizacji zaleceń przeprowadził czynności sprawdzające?\n/jeżeli nie były przeprowadzane czynności sprawdzające, bo nie upłynęły jeszcze terminy realizacji zaleceń należy wybrać tak i w kolumnie dowód napisać nie dotyczy/",null,null,null,null,null,null,null,null,null,{"$f":"IF(J117=\"nie\",\"!\",\"\")","v":""}]
[]
[null,{"$f":"$B$112","v":"III.A.4."},3,"Czy wynik czynności sprawdzających audytor wewnętrzny przedstawił w notatce informacyjnej kierownikowi jednostki i audytowanemu?\n/jeżeli nie były przeprowadzane czynności sprawdzające, bo nie upłynęły jeszcze terminy realizacji zaleceń należy wybrać tak i w kolumnie dowód napisać nie dotyczy/",null,null,null,null,null,null,null,null,null,{"$f":"IF(J119=\"nie\",\"!\",\"\")","v":""}]
[]
[null,{"$f":"$B$112","v":"III.A.4."},4,"Czy system monitorowania wyników audytu jest skuteczny i adekwatny?"]

{"sheet":"III. Realizacja ZZ 4","index":8,"n_rows":121,"n_cols":25,"rows_kept":121,"cut":false,"hidden":true,"merged":[[11,3,11,8],[11,11,11,12],[11,14,14,20],[13,11,13,12],[14,2,14,8],[14,11,14,12],[1,1,1,11],[3,1,6,21],[7,3,7,10],[7,14,7,20],[8,2,9,10],[8,11,9,11],[8,12,9,12],[8,14,10,20],[10,3,10,8],[10,11,10,12],[12,3,12,8],[13,3,13,8],[15,2,15,12],[15,14,15,20],[16,9,16,10],[16,11,16,12],[16,16,16,18],[17,3,17,8],[17,9,17,10],[17,11,17,12],[17,16,17,18],[23,3,23,8],[23,9,23,10],[23,11,23,12],[23,16,23,18],[25,3,25,8],[25,9,25,10],[25,11,25,12],[25,16,25,18],[19,3,19,8],[19,9,19,10],[19,11,19,12],[19,16,19,18],[21,3,21,8],[21,9,21,10],[21,11,21,12],[21,16,21,18],[31,3,31,8],[31,9,31,10],[31,11,31,12],[31,16,31,18],[33,3,33,8],[33,9,33,10],[33,11,33,12],[33,16,33,18],[27,3,27,8],[27,9,27,10],[27,11,27,12],[27,16,27,18],[29,3,29,8],[29,9,29,10],[29,11,29,12],[29,16,29,18],[39,3,39,8],[39,9,39,10],[39,11,39,12],[39,16,39,18],[41,3,41,8],[41,9,41,10],[41,11,41,12],[41,16,41,18],[35,3,35,8],[35,9,35,10],[35,11,35,12],[35,16,35,18],[37,3,37,8],[37,9,37,10],[37,11,37,12],[37,16,37,18],[47,3,47,8],[47,9,47,10],[47,11,47,12],[47,16,47,18],[49,3,49,8],[49,9,49,10],[49,11,49,12],[49,16,49,18],[43,3,43,8],[43,9,43,10],[43,11,43,12],[43,16,43,18],[45,3,45,8],[45,9,45,10],[45,11,45,12],[45,16,45,18],[54,11,54,12],[55,2,55,8],[55,11,55,12],[56,2,56,12],[56,14,56,20],[57,9,57,10],[57,11,57,12],[57,16,57,18],[51,3,51,8],[51,9,51,10],[51,11,51,12],[51,16,51,18],[53,3,53,8],[53,9,53,10],[53,11,53,12],[53,16,53,18],[62,3,62,8],[62,9,62,10],[62,11,62,12],[62,16,62,18],[64,3,64,8],[64,9,64,10],[64,11,64,12],[64,16,64,18],[58,3,58,8],[58,9,58,10],[58,11,58,12],[58,16,58,18],[60,3,60,8],[60,9,60,10],[60,11,60,12],[60,16,60,18],[70,3,70,8],[70,9,70,10],[70,11,70,12],[70,16,70,18],[72,3,72,8],[72,9,72,10],[72,11,72,12],[72,16,72,18],[66,3,66,8],[66,9,66,10],[66,11,66,12],[66,16,66,18],[68,3,68,8],[68,9,68,10],[68,11,68,12],[68,16,68,18],[78,3,78,8],[78,9,78,10],[78,11,78,12],[78,16,78,18],[79,11,79,12],[80,2,80,8],[80,11,80,12],[74,3,74,8],[74,9,74,10],[74,11,74,12],[74,16,74,18],[76,3,76,8],[76,9,76,10],[76,11,76,12],[76,16,76,18],[81,2,81,12],[81,14,81,20],[82,9,82,10],[82,11,82,12],[82,16,82,18],[83,3,83,8],[83,9,83,10],[83,11,83,12],[83,16,83,18],[89,3,89,8],[89,9,89,10],[89,11,89,12],[89,16,89,18],[91,3,91,8],[91,9,91,10],[91,11,91,12],[91,16,91,18],[85,3,85,8],[85,9,85,10],[85,11,85,12],[85,16,85,18],[87,3,87,8],[87,9,87,10],[87,11,87,12],[87,16,87,18],[97,3,97,8],[97,9,97,10],[97,11,97,12],[97,16,97,18],[99,3,99,8],[99,9,99,10],[99,11,99,12],[99,16,99,18],[93,3,93,8],[93,9,93,10],[93,11,93,12],[93,16,93,18],[95,3,95,8],[95,9,95,10],[95,11,95,12],[95,16,95,18],[105,3,105,8],[105,9,105,10],[105,11,105,12],[105,16,105,18],[107,3,107,8],[107,9,107,10],[107,11,107,12],[107,16,107,18],[101,3,101,8],[101,9,101,10],[101,11,101,12],[101,16,101,18],[103,3,103,8],[103,9,103,10],[103,11,103,12],[103,16,103,18],[110,11,110,12],[111,2,111,8],[111,11,111,12],[112,2,112,12],[112,14,112,20],[113,9,113,10],[113,11,113,12],[113,16,113,18],[109,3,109,8],[109,9,109,10],[109,11,109,12],[109,16,109,18],[118,3,118,8],[118,9,118,10],[118,11,118,12],[118,16,118,18],[120,3,120,8],[120,9,120,10],[120,11,120,12],[120,16,120,18],[114,3,114,8],[114,9,114,10],[114,11,114,12],[114,16,114,18],[116,3,116,8],[116,9,116,10],[116,11,116,12],[116,16,116,18]]}
[]
[]
[]
[null,"Quality @w "]
[]
[]
[]
[null,null,null,null,null,null,null,null,null,null,null,null,null,"data rozpoczęcia wypełniania niniejszego arkusza","liczba uzyskanych punktów w bloku tematycznym"]
[null,null,{"$f":"'Strona tytułowa'!$H$16","v":0},null,null,null,null,null,null,null,null,{"$f":"'Strona tytułowa'!$F$16","v":0},{"$f":"'Strona tytułowa'!$B$2","v":"ver.2.0.2018"},null,{"$f":"J12","v":0}]
[null,null,null,null,null,null,null,null,null,null,null,null,null,null,null,null,null,null,null,null,null,null,null,null,{"$f":"J12+K12","v":0}]
[null,null,null,"blok tematyczny",null,null,null,null,null,"tak","nie","% udzielonych odpowiedzi"]
[null,null,"III.A","REALIZACJA ZADAŃ AUDYTOWYCH - ZADANIE ZAPEWNIAJĄCE",null,null,null,null,null,{"$f":"J15+J56+J81+J112","v":0},{"$f":"K15+K56+K81+K112","v":0},{"$f":"(J12+K12)/48","v":0},null,{"$f":"COUNTIF(N18:N121,\"!\")","v":0},"0                                                                                                                                                                                                                                                                                                              49 "]
[null,null,null,"temat zadania",null,null,null,null,null,{"$f":"J12/(J12+K12)","v":{"$error":"#DIV/0!"}},{"$f":"K12/(K12+J12)","v":{"$error":"#DIV/0!"}}]
[null,null,null,null,null,null,null,null,null,"ER5HYN","nie","% udzielonych odpowiedzi",null,"niezgodność z przepisami"]
[null,"III.A.1.","Przygotowanie i programowanie zadania zapewniającego",null,null,null,null,null,null,{"$f":"COUNTIF(J18:J54,\"tak\")","v":0},{"$f":"COUNTIF(J18:J54,\"*\")-J15","v":0},{"$f":"COUNTIF(J18:J54,\"*\")/19","v":0}]
[null,null,"rozporządzenie: §13 - §16.\nstandardy: 2050; 2200; 2201; 2210; 2220; 2230;2240",null,null,null,null,null,null,null,null,null,null,null,"NALEŻY WSKAZAĆ ZAKRES ZIDENTYFIKOWANEJ NIEPRAWIDŁOWOŚCI ORAZ ZAPLANOWAĆ I ZREALIZOWAĆ \nDZIAŁANIA KORYGUJĄCE/NAPRAWCZE\nW tym celu proszę wypełnić poniższe komórki.\n"]
[null,null,null,null,null,null,null,null,null,"odpowiedź",null,"dowód/potwierdzenie dla pełnej \nlub częściowej zgodności/komentarz",null,null,"zakres zidentyfikowanej niezgodności\nw przypadku częściowej niezgodności należy wymienić i opisać te elementy, które wymagają działań korygujących/naprawczych",null,"planowane działania korygujące/naprawcze",null,null,null,"termin realizacji"]
[null,{"$f":"$B$15","v":"III.A.1."},1,"Czy kierownik komórki audytu wewnętrznego/audytor wewnętrzny poinformował audytowanego o planowanej realizacji zadania?",null,null,null,null,null,null,null,null,null,{"$f":"IF(J18=\"nie\",\"!\",\"\")","v":""}]
[]
[null,{"$f":"$B$15","v":"III.A.1."},2,"Czy rozpoczynając realizację zadania zapewniającego audytor wewnętrzny przeprowadził przegląd wstępny?",null,null,null,null,null,null,null,null,null,{"$f":"IF(J20=\"nie\",\"!\",\"\")","v":""}]
[]
[null,{"$f":"$B$15","v":"III.A.1."},3,"Czy przegląd wstępny obejmował zapoznanie się z celami i obszarem działalności jednostki, w którym zostało zrealizowane zadanie?",null,null,null,null,null,null,null,null,null,{"$f":"IF(J22=\"nie\",\"!\",\"\")","v":""}]
[null,null,null,null,null,null,null,null,null,null,null,null,null,null,"w"]
[null,{"$f":"$B$15","v":"III.A.1."},4,"Czy przegląd wstępny obejmował dokonanie identyfikacji i oceny ryzyka, po uwzględnieniu istniejących mechanizmów kontrolnych?",null,null,null,null,null,null,null,null,null,{"$f":"IF(J24=\"nie\",\"!\",\"\")","v":""}]
[]
[null,{"$f":"$B$15","v":"III.A.1."},5,"Czy przegląd wstępny obejmował uzgodnienie z audytowanym kryteriów oceny mechanizmów kontrolnych w obszarze działalności jednostki objętym zadaniem lub \nw przypadku braku uzgodnienia kryteriów z audytowanym kryteria zostały uzgodnione \nz kierownikiem jednostki?",null,null,null,null,null,null,null,null,null,{"$f":"IF(J26=\"nie\",\"!\",\"\")","v":""}]
[]
[null,{"$f":"$B$15","v":"III.A.1."},6,"Czy audytor wewnętrzny przygotował program zadania zapewniającego?",null,null,null,null,null,null,null,null,null,{"$f":"IF(J28=\"nie\",\"!\",\"\")","v":""}]
[]
[null,{"$f":"$B$15","v":"III.A.1."},7,"Czy program zadania zapewniającego uwzględniał wynik przeglądu wstępnego?",null,null,null,null,null,null,null,null,null,{"$f":"IF(J30=\"nie\",\"!\",\"\")","v":""}]
[]
[null,{"$f":"$B$15","v":"III.A.1."},8,"Czy program zadania zapewniającego uwzględniał uwagi kierownika jednostki \ni audytowanego?",null,null,null,null,null,null,null,null,null,{"$f":"IF(J32=\"nie\",\"!\",\"\")","v":""}]
[]
[null,{"$f":"$B$15","v":"III.A.1."},9,"Czy program zadania zapewniającego uwzględniał zasoby niezbędne do przeprowadzenia zadania, w tym ewentualną potrzebę uzyskania pomocy eksperta?",null,null,null,null,null,null,null,null,null,{"$f":"IF(J34=\"nie\",\"!\",\"\")","v":""}]
[]
[null,{"$f":"$B$15","v":"III.A.1."},10,"Czy program zadania zapewniającego uwzględniał przewidywany czas trwania zadania?",null,null,null,null,null,null,null,null,null,{"$f":"IF(J36=\"nie\",\"!\",\"\")","v":""}]
[]
[null,{"$f":"$B$15","v":"III.A.1."},11,"Czy program zadania zapewniającego określał temat zadania?",null,null,null,null,null,null,null,null,null,{"$f":"IF(J38=\"nie\",\"!\",\"\")","v":""}]
[]
[null,{"$f":"$B$15","v":"III.A.1."},12,"Czy program zadania zapewniającego określał cel zadania?",null,null,null,null,null,null,null,null,null,{"$f":"IF(J40=\"nie\",\"!\",\"\")","v":""}]
[]
[null,{"$f":"$B$15","v":"III.A.1."},13,"Czy program zadania zapewniającego określał zakres podmiotowy i przedmiotowy zadania?",null,null,null,null,null,null,null,null,null,{"$f":"IF(J42=\"nie\",\"!\",\"\")","v":""}]
[]
[null,{"$f":"$B$15","v":"III.A.1."},14,"Czy program zadania zapewniającego określał istotne ryzyka w obszarze działalności jednostki objętym zadaniem?",null,null,null,null,null,null,null,null,null,{"$f":"IF(J44=\"nie\",\"!\",\"\")","v":""}]
[]
[null,{"$f":"$B$15","v":"III.A.1."},15,"Czy program zadania zapewniającego określał sposób zrealizowania zadania, w szczególności opis doboru próby do badania oraz technik badania?",null,null,null,null,null,null,null,null,null,{"$f":"IF(J46=\"nie\",\"!\",\"\")","v":""}]
[]
[null,{"$f":"$B$15","v":"III.A.1."},16,"Czy program zadania zapewniającego zawierał uzgodnione kryteria oceny?",null,null,null,null,null,null,null,null,null,{"$f":"IF(J48=\"nie\",\"!\",\"\")","v":""}]
[]
[null,{"$f":"$B$15","v":"III.A.1."},17,"Czy program zadania zapewniającego zawierał datę rozpoczęcia i zakończenia zadania?",null,null,null,null,null,null,null,null,null,{"$f":"IF(J50=\"nie\",\"!\",\"\")","v":""}]
[]
[null,{"$f":"$B$15","v":"III.A.1."},18,"Czy program zadania zapewniającego zatwierdził kierownik komórki audytu wewnętrznego/audytor wewnętrzny?",null,null,null,null,null,null,null,null,null,{"$f":"IF(J52=\"nie\",\"!\",\"\")","v":""}]
[]
[null,{"$f":"$B$15","v":"III.A.1."},19,"Czy kierownik komórki audytu wewnętrznego w celu zapewnienia odpowiedniego zakresu audytu oraz niepowielania pracy korzystał z informacji i koordynował działania wewnętrznych i zewnętrznych wykonawców usług doradczych i zapewniających?"]
[null,null,null,null,null,null,null,null,null,"tak","nie","% udzielonych odpowiedzi"]
[null,"III.A.2.","Realizacja zadania zapewniającego ",null,null,null,null,null,null,{"$f":"COUNTIF(J59:J79,\"tak\")","v":0},{"$f":"COUNTIF(J59:J79,\"*\")-J56","v":0},{"$f":"COUNTIF(J59:J79,\"*\")/11","v":0}]
[null,null,"ustawa: art. 273 ust. 2; art. 280; art. 282 ust.2 i 282 ust.3\nrozporządzenie: §4 ust. 1; §16 ust. 2; §16 ust. 3\nstandardy: 1130; 2000; 2100; 2300; 2310; 2320; 2330; 2340",null,null,null,null,null,null,null,null,null,null,null,"NALEŻY WSKAZAĆ ZAKRES ZIDENTYFIKOWANEJ NIEPRAWIDŁOWOŚCI ORAZ ZAPLANOWAĆ I ZREALIZOWAĆ \nDZIAŁANIA KORYGUJĄCE/NAPRAWCZE\nW tym celu proszę wypełnić poniższe komórki.\n"]
[null,null,null,null,null,null,null,null,null,"odpowiedź",null,"dowód/potwierdzenie dla pełnej \nlub częściowej zgodności/komentarz",null,null,"zakres zidentyfikowanej niezgodności\nw przypadku częściowej niezgodności należy wymienić i opisać te elementy, które wymagają działań korygujących/naprawczych",null,"planowane działania korygujące/naprawcze",null,null,null,"termin realizacji"]
[null,{"$f":"$B$56","v":"III.A.2."},1,"W trakcie realizacji zadania nie wystąpił przypadek ograniczenia audytorowi prawa wstępu do pomieszczeń jednostki lub prawa do wglądu do dokumentów, informacji i danych oraz do innych materiałów związanych z funkcjonowaniem jednostki?",null,null,null,null,null,null,null,null,null,{"$f":"IF(J59=\"nie\",\"!\",\"\")","v":""}]
[]
[null,{"$f":"$B$59","v":"III.A.2."},2,"W trakcie realizacji zadania nie wystąpił przypadek by pracownicy jednostki nie udzielili informacji i wyjaśnień, a także by nie sporządzili i nie potwierdzili kopii, odpisów, wyciągów lub zestawień, na potrzeby realizacji zadań przez audytora wewnętrznego?",null,null,null,null,null,null,null,null,null,{"$f":"IF(J61=\"nie\",\"!\",\"\")","v":""}]
[]
[null,{"$f":"$B$59","v":"III.A.2."},3,"Czy kierownik komórki audytu wewnętrznego miał bezpośredni dostęp do kierownika jednostki, a w urzędzie administracji rządowej, w którym tworzy się stanowisko dyrektora generalnego urzędu do dyrektora generalnego w zakresie określonym odrębnymi ustawami na każdym etapie realizacji zadania zapewniającego?",null,null,null,null,null,null,null,null,null,{"$f":"IF(J63=\"nie\",\"!\",\"\")","v":""}]
[]
[null,{"$f":"$B$59","v":"III.A.2."},4,"Czy audytor wewnętrzny realizując zadanie zapewniające kierował się wskazówkami zawartymi w standardach audytu wewnętrznego, o których mowa w art. 273 ust. 1 ustawy?",null,null,null,null,null,null,null,null,null,{"$f":"IF(J65=\"nie\",\"!\",\"\")","v":""}]
[]
[null,{"$f":"$B$59","v":"III.A.2."},5,"Czy w  trakcie realizacji zadania zapewniono warunki niezbędne do niezależnego, obiektywnego i efektywnego prowadzenia audytu wewnętrznego?",null,null,null,null,null,null,null,null,null,{"$f":"IF(J67=\"nie\",\"!\",\"\")","v":""}]
[]
[null,{"$f":"$B$59","v":"III.A.2."},6,"Czy audyt wewnętrzny był przeprowadzany na podstawie pisemnego upoważnienia kierownika jednostki?",null,null,null,null,null,null,null,null,null,{"$f":"IF(J69=\"nie\",\"!\",\"\")","v":""}]
[]
[null,{"$f":"$B$59","v":"III.A.2."},7,"Czy w trakcie realizacji zadania zapewniającego dokonywano udokumentowanych zmian w programie zadania zapewniającego, a zmiany te zostały zaakceptowane przez kierownika komórki audytu wewnętrznego?  \n(jeżeli nie dokonywano zmiany programu, należy zaznaczyć tak i w kolumnie dowód/potwierdzenie wpisać nie dotyczy)",null,null,null,null,null,null,null,null,null,{"$f":"IF(J71=\"nie\",\"!\",\"\")","v":""}]
[]
[null,{"$f":"$B$59","v":"III.A.2."},8,"Czy w trakcie realizacji zadania zebrano informacje, które są wystarczające, wiarygodne i przydatne do osiągnięcia jego celów, a wnioski i wyniki zadania opierały się na odpowiednich i udokumentowanych analizach i ocenach?"]
[]
[null,{"$f":"$B$59","v":"III.A.2."},9,"Czy audyt wewnętrzny przez realizację zadania dokonał oceny adekwatności, skuteczności i efektywności kontroli zarządczej oraz przyczynił się do jej usprawnienia? \n(w przypadku, gdy audytor dokonał oceny ale nie wydał zaleceń należy w rubryce dowód/potwierdzenie opisać potwierdzenie wydania oceny i dodać adnotację brak zaleceń)",null,null,null,null,null,null,null,null,null,{"$f":"IF(J75=\"nie\",\"!\",\"\")","v":""}]
[]
[null,{"$f":"$B$59","v":"III.A.2."},10,"Czy zadanie zostało zrealizowane zgodnie z zakresem przedmiotowym i podmiotowym oraz czy został osiągnięty cel zadania?"]
[]
[null,{"$f":"$B$59","v":"III.A.2."},11,"Czy audytor wewnętrzny zebrał, analizował, oceniał i dokumentował informacje wystarczające do osiągnięcia celu zadania?"]
[null,null,null,null,null,null,null,null,null,"tak","nie","% udzielonych odpowiedzi"]
[null,"III.A.3."," Opracowanie, uzgadnianie i dystrybucja wyników zadania zapewniającego",null,null,null,null,null,null,{"$f":"COUNTIF(J84:J110,\"tak\")","v":0},{"$f":"COUNTIF(J84:J110,\"*\")-J81","v":0},{"$f":"COUNTIF(J84:J110,\"*\")/14","v":0}]
[null,null,"rozporządzenie: §17 - §19\nstandardy: 2400; 2600",null,null,null,null,null,null,null,null,null,null,null,"NALEŻY WSKAZAĆ ZAKRES ZIDENTYFIKOWANEJ NIEPRAWIDŁOWOŚCI ORAZ ZAPLANOWAĆ I ZREALIZOWAĆ \nDZIAŁANIA KORYGUJĄCE/NAPRAWCZE\nW tym celu proszę wypełnić poniższe komórki.\n"]
[null,null,null,null,null,null,null,null,null,"odpowiedź",null,"dowód/potwierdzenie dla pełnej \nlub częściowej zgodności/komentarz",null,null,"zakres zidentyfikowanej niezgodności\nw przypadku częściowej niezgodności należy wymienić i opisać te elementy, które wymagają działań korygujących/naprawczych",null,"planowane działania korygujące/naprawcze",null,null,null,"termin realizacji"]
[null,{"$f":"$B$81","v":"III.A.3."},1,"Czy audytor wewnętrzny po przeprowadzeniu czynności audytowych uzgodnił pisemnie \nz audytowanym wstępne wyniki audytu wewnętrznego, w tym w szczególności ustalenia \ni propozycje zaleceń lub przeprowadził naradę zamykającą?\n(w przypadku nieuzgodnienia wstępnych wyników audytu wewnętrznego czy audytowany mógł zgłosić pisemne zastrzeżenia, w terminie określonym przez audytora wewnętrznego, nie krótszym niż 7 dni kalendarzowych od dnia poinformowania audytowanego o wstępnych wynikach)",null,null,null,null,null,null,null,null,null,{"$f":"IF(J84=\"nie\",\"!\",\"\")","v":""}]
[]
[null,{"$f":"$B$81","v":"III.A.3."},2,"Czy audytor wewnętrzny, po uzgodnieniu wstępnych wyników audytu wewnętrznego lub po wniesieniu zastrzeżeń przez audytowanego sporządził sprawozdanie z zadania zapewniającego?",null,null,null,null,null,null,null,null,null,{"$f":"IF(J86=\"nie\",\"!\",\"\")","v":""}]
[]
[null,{"$f":"$B$81","v":"III.A.3."},3,"Czy sprawozdanie z zadania zapewniającego zawiera temat i cel zadania?",null,null,null,null,null,null,null,null,null,{"$f":"IF(J88=\"nie\",\"!\",\"\")","v":""}]
[]
[null,{"$f":"$B$81","v":"III.A.3."},4,"Czy sprawozdanie z zadania zapewniającego zawiera zakres podmiotowy i przedmiotowy zadania?",null,null,null,null,null,null,null,null,null,{"$f":"IF(J90=\"nie\",\"!\",\"\")","v":""}]
[]
[null,{"$f":"$B$81","v":"III.A.3."},5,"Czy sprawozdanie z zadania zapewniającego zawiera datę rozpoczęcia zadania?",null,null,null,null,null,null,null,null,null,{"$f":"IF(J92=\"nie\",\"!\",\"\")","v":""}]
[]
[null,{"$f":"$B$81","v":"III.A.3."},6,"Czy sprawozdanie z zadania zapewniającego zawiera ustalenia i ocenę według kryteriów przyjętych w programie?",null,null,null,null,null,null,null,null,null,{"$f":"IF(J94=\"nie\",\"!\",\"\")","v":""}]
[]
[null,{"$f":"$B$81","v":"III.A.3."},7,"Czy sprawozdanie z zadania zapewniającego zawiera zalecenia?\n(jeżeli w wyniku przeprowadzonego zadania nie wydano zaleceń, należy wybrać tak i w kolumnie dowód/potwierdzenie należy wpisać nie dotyczy)",null,null,null,null,null,null,null,null,null,{"$f":"IF(J96=\"nie\",\"!\",\"\")","v":""}]
[]
[null,{"$f":"$B$81","v":"III.A.3."},8,"Czy sprawozdanie z zadania zapewniającego zawiera odniesienie się audytora wewnętrznego do zastrzeżeń audytowanego do wstępnych wyników audytu wewnętrznego? \n(jeżeli nie były zgłoszone, należy wybrać tak i w kolumnie dowód/potwierdzenie należy wpisać nie dotyczy)",null,null,null,null,null,null,null,null,null,{"$f":"IF(J98=\"nie\",\"!\",\"\")","v":""}]
[]
[null,{"$f":"$B$81","v":"III.A.3."},9,"Czy sprawozdanie z zadania zapewniającego zawiera ogólną ocenę adekwatności, skuteczności i efektywności kontroli zarządczej w obszarze działalności jednostki objętym zadaniem?",null,null,null,null,null,null,null,null,null,{"$f":"IF(J100=\"nie\",\"!\",\"\")","v":""}]
[]
[null,{"$f":"$B$81","v":"III.A.3."},10,"Czy sprawozdanie z zadania zapewniającego zawiera datę sporządzenia sprawozdania?",null,null,null,null,null,null,null,null,null,{"$f":"IF(J102=\"nie\",\"!\",\"\")","v":""}]
[]
[null,{"$f":"$B$81","v":"III.A.3."},11,"Czy sprawozdanie z zadania zapewniającego zawiera imię i nazwisko audytora wewnętrznego przeprowadzającego zadanie oraz jego podpis? \n(w przypadku zadania zapewniającego realizowanego przez kilku audytorów wewnętrznych sprawozdanie mogą podpisać wszyscy audytorzy wewnętrzni realizujący zadanie albo audytor wewnętrzny odpowiedzialny za realizację tego zadania, wyznaczony przez kierownika komórki audytu spośród audytorów wewnętrznych realizujących zadanie)",null,null,null,null,null,null,null,null,null,{"$f":"IF(J104=\"nie\",\"!\",\"\")","v":""}]
[]
[null,{"$f":"$B$81","v":"III.A.3."},12,"Czy sprawozdanie z zadania zapewniającego jest jasne, zwięzłe, przejrzyste, obiektywne oraz kompletne?  \n(zgodnie ze Standardami przekazane informacje muszą być dokładne, obiektywne, jasne, zwięzłe, konstruktywne, kompletne oraz dostarczone na czas)",null,null,null,null,null,null,null,null,null,{"$f":"IF(J106=\"nie\",\"!\",\"\")","v":""}]
[]
[null,{"$f":"$B$81","v":"III.A.3."},13,"Czy kierownik komórki audytu wewnętrznego/audytor wewnętrzny przekazał sprawozdanie audytowanemu i kierownikowi jednostki?",null,null,null,null,null,null,null,null,null,{"$f":"IF(J108=\"nie\",\"!\",\"\")","v":""}]
[]
[null,{"$f":"$B$81","v":"III.A.3."},14,"Czy kierownik komórki audytu wewnętrznego/audytor wewnętrzny poinformował kierownika jednostki, że przyjęto poziom ryzyka, który może być nie do zaakceptowania dla jednostki? \n(jeżeli była taka potrzeba, w przeciwnym razie należy zaznaczyć tak i w kolumnie dowód/potwierdzenie należy wpisać nie dotyczy)"]
[null,null,null,null,null,null,null,null,null,"tak","nie","% udzielonych odpowiedzi"]
[null,"III.A.4."," Monitoring wdrożenia zaleceń i czynność sprawdzająca",null,null,null,null,null,null,{"$f":"COUNTIF(J115:J121,\"tak\")","v":0},{"$f":"COUNTIF(J115:J121,\"*\")-J112","v":0},{"$f":"COUNTIF(J115:J121,\"*\")/4","v":0}]
[null,null,"rozporządzenie: §20 - §21\nstandardy: 2500",null,null,null,null,null,null,null,null,null,null,null,"NALEŻY WSKAZAĆ ZAKRES ZIDENTYFIKOWANEJ NIEPRAWIDŁOWOŚCI ORAZ ZAPLANOWAĆ I ZREALIZOWAĆ \nDZIAŁANIA KORYGUJĄCE/NAPRAWCZE\nW tym celu proszę wypełnić poniższe komórki.\n"]
[null,null,null,null,null,null,null,null,null,"odpowiedź",null,"dowód/potwierdzenie dla pełnej \nlub częściowej zgodności/komentarz",null,null,"zakres zidentyfikowanej niezgodności\nw przypadku częściowej niezgodności należy wymienić i opisać te elementy, które wymagają działań korygujących/naprawczych",null,"planowane działania korygujące/naprawcze",null,null,null,"termin realizacji"]
[null,{"$f":"$B$112","v":"III.A.4."},1,"Czy audytor wewnętrzny monitorował realizację wydanych i zaakceptowanych do wdrożenia zaleceń?",null,null,null,null,null,null,null,null,null,{"$f":"IF(J115=\"nie\",\"!\",\"\")","v":""}]
[]
[null,{"$f":"$B$112","v":"III.A.4."},2,"Czy audytor wewnętrzny po upływie terminów realizacji zaleceń przeprowadził czynności sprawdzające?\n/jeżeli nie były przeprowadzane czynności sprawdzające, bo nie upłynęły jeszcze terminy realizacji zaleceń należy wybrać tak i w kolumnie dowód napisać nie dotyczy/",null,null,null,null,null,null,null,null,null,{"$f":"IF(J117=\"nie\",\"!\",\"\")","v":""}]
[]
[null,{"$f":"$B$112","v":"III.A.4."},3,"Czy wynik czynności sprawdzających audytor wewnętrzny przedstawił w notatce informacyjnej kierownikowi jednostki i audytowanemu?\n/jeżeli nie były przeprowadzane czynności sprawdzające, bo nie upłynęły jeszcze terminy realizacji zaleceń należy wybrać tak i w kolumnie dowód napisać nie dotyczy/",null,null,null,null,null,null,null,null,null,{"$f":"IF(J119=\"nie\",\"!\",\"\")","v":""}]
[]
[null,{"$f":"$B$112","v":"III.A.4."},4,"Czy system monitorowania wyników audytu jest skuteczny i adekwatny?"]

{"sheet":"III. Realizacja ZZ 5","index":9,"n_rows":121,"n_cols":25,"rows_kept":121,"cut":false,"hidden":true,"merged":[[11,3,11,8],[11,11,11,12],[11,14,14,20],[13,11,13,12],[14,2,14,8],[14,11,14,12],[1,1,1,11],[3,1,6,21],[7,3,7,10],[7,14,7,20],[8,2,9,10],[8,11,9,11],[8,12,9,12],[8,14,10,20],[10,3,10,8],[10,11,10,12],[12,3,12,8],[13,3,13,8],[15,2,15,12],[15,14,15,20],[16,9,16,10],[16,11,16,12],[16,16,16,18],[17,3,17,8],[17,9,17,10],[17,11,17,12],[17,16,17,18],[23,3,23,8],[23,9,23,10],[23,11,23,12],[23,16,23,18],[25,3,25,8],[25,9,25,10],[25,11,25,12],[25,16,25,18],[19,3,19,8],[19,9,19,10],[19,11,19,12],[19,16,19,18],[21,3,21,8],[21,9,21,10],[21,11,21,12],[21,16,21,18],[31,3,31,8],[31,9,31,10],[31,11,31,12],[31,16,31,18],[33,3,33,8],[33,9,33,10],[33,11,33,12],[33,16,33,18],[27,3,27,8],[27,9,27,10],[27,11,27,12],[27,16,27,18],[29,3,29,8],[29,9,29,10],[29,11,29,12],[29,16,29,18],[39,3,39,8],[39,9,39,10],[39,11,39,12],[39,16,39,18],[41,3,41,8],[41,9,41,10],[41,11,41,12],[41,16,41,18],[35,3,35,8],[35,9,35,10],[35,11,35,12],[35,16,35,18],[37,3,37,8],[37,9,37,10],[37,11,37,12],[37,16,37,18],[47,3,47,8],[47,9,47,10],[47,11,47,12],[47,16,47,18],[49,3,49,8],[49,9,49,10],[49,11,49,12],[49,16,49,18],[43,3,43,8],[43,9,43,10],[43,11,43,12],[43,16,43,18],[45,3,45,8],[45,9,45,10],[45,11,45,12],[45,16,45,18],[54,11,54,12],[55,2,55,8],[55,11,55,12],[56,2,56,12],[56,14,56,20],[57,9,57,10],[57,11,57,12],[57,16,57,18],[51,3,51,8],[51,9,51,10],[51,11,51,12],[51,16,51,18],[53,3,53,8],[53,9,53,10],[53,11,53,12],[53,16,53,18],[62,3,62,8],[62,9,62,10],[62,11,62,12],[62,16,62,18],[64,3,64,8],[64,9,64,10],[64,11,64,12],[64,16,64,18],[58,3,58,8],[58,9,58,10],[58,11,58,12],[58,16,58,18],[60,3,60,8],[60,9,60,10],[60,11,60,12],[60,16,60,18],[70,3,70,8],[70,9,70,10],[70,11,70,12],[70,16,70,18],[72,3,72,8],[72,9,72,10],[72,11,72,12],[72,16,72,18],[66,3,66,8],[66,9,66,10],[66,11,66,12],[66,16,66,18],[68,3,68,8],[68,9,68,10],[68,11,68,12],[68,16,68,18],[78,3,78,8],[78,9,78,10],[78,11,78,12],[78,16,78,18],[79,11,79,12],[80,2,80,8],[80,11,80,12],[74,3,74,8],[74,9,74,10],[74,11,74,12],[74,16,74,18],[76,3,76,8],[76,9,76,10],[76,11,76,12],[76,16,76,18],[81,2,81,12],[81,14,81,20],[82,9,82,10],[82,11,82,12],[82,16,82,18],[83,3,83,8],[83,9,83,10],[83,11,83,12],[83,16,83,18],[89,3,89,8],[89,9,89,10],[89,11,89,12],[89,16,89,18],[91,3,91,8],[91,9,91,10],[91,11,91,12],[91,16,91,18],[85,3,85,8],[85,9,85,10],[85,11,85,12],[85,16,85,18],[87,3,87,8],[87,9,87,10],[87,11,87,12],[87,16,87,18],[97,3,97,8],[97,9,97,10],[97,11,97,12],[97,16,97,18],[99,3,99,8],[99,9,99,10],[99,11,99,12],[99,16,99,18],[93,3,93,8],[93,9,93,10],[93,11,93,12],[93,16,93,18],[95,3,95,8],[95,9,95,10],[95,11,95,12],[95,16,95,18],[105,3,105,8],[105,9,105,10],[105,11,105,12],[105,16,105,18],[107,3,107,8],[107,9,107,10],[107,11,107,12],[107,16,107,18],[101,3,101,8],[101,9,101,10],[101,11,101,12],[101,16,101,18],[103,3,103,8],[103,9,103,10],[103,11,103,12],[103,16,103,18],[110,11,110,12],[111,2,111,8],[111,11,111,12],[112,2,112,12],[112,14,112,20],[113,9,113,10],[113,11,113,12],[113,16,113,18],[109,3,109,8],[109,9,109,10],[109,11,109,12],[109,16,109,18],[118,3,118,8],[118,9,118,10],[118,11,118,12],[118,16,118,18],[120,3,120,8],[120,9,120,10],[120,11,120,12],[120,16,120,18],[114,3,114,8],[114,9,114,10],[114,11,114,12],[114,16,114,18],[116,3,116,8],[116,9,116,10],[116,11,116,12],[116,16,116,18]]}
[]
[]
[]
[null,"Quality @w "]
[]
[]
[]
[null,null,null,null,null,null,null,null,null,null,null,null,null,"data rozpoczęcia wypełniania niniejszego arkusza","liczba uzyskanych punktów w bloku tematycznym"]
[null,null,{"$f":"'Strona tytułowa'!$H$16","v":0},null,null,null,null,null,null,null,null,{"$f":"'Strona tytułowa'!$F$16","v":0},{"$f":"'Strona tytułowa'!$B$2","v":"ver.2.0.2018"},null,{"$f":"J12","v":0}]
[null,null,null,null,null,null,null,null,null,null,null,null,null,null,null,null,null,null,null,null,null,null,null,null,{"$f":"J12+K12","v":0}]
[null,null,null,"blok tematyczny",null,null,null,null,null,"tak","nie","% udzielonych odpowiedzi"]
[null,null,"III.A","REALIZACJA ZADAŃ AUDYTOWYCH - ZADANIE ZAPEWNIAJĄCE",null,null,null,null,null,{"$f":"J15+J56+J81+J112","v":0},{"$f":"K15+K56+K81+K112","v":0},{"$f":"(J12+K12)/48","v":0},null,{"$f":"COUNTIF(N18:N121,\"!\")","v":0},"0                                                                                                                                                                                                                                                                                                              49 "]
[null,null,null,"temat zadania",null,null,null,null,null,{"$f":"J12/(J12+K12)","v":{"$error":"#DIV/0!"}},{"$f":"K12/(K12+J12)","v":{"$error":"#DIV/0!"}}]
[null,null,null,null,null,null,null,null,null,"ER5HYN","nie","% udzielonych odpowiedzi",null,"niezgodność z przepisami"]
[null,"III.A.1.","Przygotowanie i programowanie zadania zapewniającego",null,null,null,null,null,null,{"$f":"COUNTIF(J18:J54,\"tak\")","v":0},{"$f":"COUNTIF(J18:J54,\"*\")-J15","v":0},{"$f":"COUNTIF(J18:J54,\"*\")/19","v":0}]
[null,null,"rozporządzenie: §13 - §16.\nstandardy: 2050; 2200; 2201; 2210; 2220; 2230;2240",null,null,null,null,null,null,null,null,null,null,null,"NALEŻY WSKAZAĆ ZAKRES ZIDENTYFIKOWANEJ NIEPRAWIDŁOWOŚCI ORAZ ZAPLANOWAĆ I ZREALIZOWAĆ \nDZIAŁANIA KORYGUJĄCE/NAPRAWCZE\nW tym celu proszę wypełnić poniższe komórki.\n"]
[null,null,null,null,null,null,null,null,null,"odpowiedź",null,"dowód/potwierdzenie dla pełnej \nlub częściowej zgodności/komentarz",null,null,"zakres zidentyfikowanej niezgodności\nw przypadku częściowej niezgodności należy wymienić i opisać te elementy, które wymagają działań korygujących/naprawczych",null,"planowane działania korygujące/naprawcze",null,null,null,"termin realizacji"]
[null,{"$f":"$B$15","v":"III.A.1."},1,"Czy kierownik komórki audytu wewnętrznego/audytor wewnętrzny poinformował audytowanego o planowanej realizacji zadania?",null,null,null,null,null,null,null,null,null,{"$f":"IF(J18=\"nie\",\"!\",\"\")","v":""}]
[]
[null,{"$f":"$B$15","v":"III.A.1."},2,"Czy rozpoczynając realizację zadania zapewniającego audytor wewnętrzny przeprowadził przegląd wstępny?",null,null,null,null,null,null,null,null,null,{"$f":"IF(J20=\"nie\",\"!\",\"\")","v":""}]
[]
[null,{"$f":"$B$15","v":"III.A.1."},3,"Czy przegląd wstępny obejmował zapoznanie się z celami i obszarem działalności jednostki, w którym zostało zrealizowane zadanie?",null,null,null,null,null,null,null,null,null,{"$f":"IF(J22=\"nie\",\"!\",\"\")","v":""}]
[null,null,null,null,null,null,null,null,null,null,null,null,null,null,"w"]
[null,{"$f":"$B$15","v":"III.A.1."},4,"Czy przegląd wstępny obejmował dokonanie identyfikacji i oceny ryzyka, po uwzględnieniu istniejących mechanizmów kontrolnych?",null,null,null,null,null,null,null,null,null,{"$f":"IF(J24=\"nie\",\"!\",\"\")","v":""}]
[]
[null,{"$f":"$B$15","v":"III.A.1."},5,"Czy przegląd wstępny obejmował uzgodnienie z audytowanym kryteriów oceny mechanizmów kontrolnych w obszarze działalności jednostki objętym zadaniem lub \nw przypadku braku uzgodnienia kryteriów z audytowanym kryteria zostały uzgodnione \nz kierownikiem jednostki?",null,null,null,null,null,null,null,null,null,{"$f":"IF(J26=\"nie\",\"!\",\"\")","v":""}]
[]
[null,{"$f":"$B$15","v":"III.A.1."},6,"Czy audytor wewnętrzny przygotował program zadania zapewniającego?",null,null,null,null,null,null,null,null,null,{"$f":"IF(J28=\"nie\",\"!\",\"\")","v":""}]
[]
[null,{"$f":"$B$15","v":"III.A.1."},7,"Czy program zadania zapewniającego uwzględniał wynik przeglądu wstępnego?",null,null,null,null,null,null,null,null,null,{"$f":"IF(J30=\"nie\",\"!\",\"\")","v":""}]
[]
[null,{"$f":"$B$15","v":"III.A.1."},8,"Czy program zadania zapewniającego uwzględniał uwagi kierownika jednostki \ni audytowanego?",null,null,null,null,null,null,null,null,null,{"$f":"IF(J32=\"nie\",\"!\",\"\")","v":""}]
[]
[null,{"$f":"$B$15","v":"III.A.1."},9,"Czy program zadania zapewniającego uwzględniał zasoby niezbędne do przeprowadzenia zadania, w tym ewentualną potrzebę uzyskania pomocy eksperta?",null,null,null,null,null,null,null,null,null,{"$f":"IF(J34=\"nie\",\"!\",\"\")","v":""}]
[]
[null,{"$f":"$B$15","v":"III.A.1."},10,"Czy program zadania zapewniającego uwzględniał przewidywany czas trwania zadania?",null,null,null,null,null,null,null,null,null,{"$f":"IF(J36=\"nie\",\"!\",\"\")","v":""}]
[]
[null,{"$f":"$B$15","v":"III.A.1."},11,"Czy program zadania zapewniającego określał temat zadania?",null,null,null,null,null,null,null,null,null,{"$f":"IF(J38=\"nie\",\"!\",\"\")","v":""}]
[]
[null,{"$f":"$B$15","v":"III.A.1."},12,"Czy program zadania zapewniającego określał cel zadania?",null,null,null,null,null,null,null,null,null,{"$f":"IF(J40=\"nie\",\"!\",\"\")","v":""}]
[]
[null,{"$f":"$B$15","v":"III.A.1."},13,"Czy program zadania zapewniającego określał zakres podmiotowy i przedmiotowy zadania?",null,null,null,null,null,null,null,null,null,{"$f":"IF(J42=\"nie\",\"!\",\"\")","v":""}]
[]
[null,{"$f":"$B$15","v":"III.A.1."},14,"Czy program zadania zapewniającego określał istotne ryzyka w obszarze działalności jednostki objętym zadaniem?",null,null,null,null,null,null,null,null,null,{"$f":"IF(J44=\"nie\",\"!\",\"\")","v":""}]
[]
[null,{"$f":"$B$15","v":"III.A.1."},15,"Czy program zadania zapewniającego określał sposób zrealizowania zadania, w szczególności opis doboru próby do badania oraz technik badania?",null,null,null,null,null,null,null,null,null,{"$f":"IF(J46=\"nie\",\"!\",\"\")","v":""}]
[]
[null,{"$f":"$B$15","v":"III.A.1."},16,"Czy program zadania zapewniającego zawierał uzgodnione kryteria oceny?",null,null,null,null,null,null,null,null,null,{"$f":"IF(J48=\"nie\",\"!\",\"\")","v":""}]
[]
[null,{"$f":"$B$15","v":"III.A.1."},17,"Czy program zadania zapewniającego zawierał datę rozpoczęcia i zakończenia zadania?",null,null,null,null,null,null,null,null,null,{"$f":"IF(J50=\"nie\",\"!\",\"\")","v":""}]
[]
[null,{"$f":"$B$15","v":"III.A.1."},18,"Czy program zadania zapewniającego zatwierdził kierownik komórki audytu wewnętrznego/audytor wewnętrzny?",null,null,null,null,null,null,null,null,null,{"$f":"IF(J52=\"nie\",\"!\",\"\")","v":""}]
[]
[null,{"$f":"$B$15","v":"III.A.1."},19,"Czy kierownik komórki audytu wewnętrznego w celu zapewnienia odpowiedniego zakresu audytu oraz niepowielania pracy korzystał z informacji i koordynował działania wewnętrznych i zewnętrznych wykonawców usług doradczych i zapewniających?"]
[null,null,null,null,null,null,null,null,null,"tak","nie","% udzielonych odpowiedzi"]
[null,"III.A.2.","Realizacja zadania zapewniającego ",null,null,null,null,null,null,{"$f":"COUNTIF(J59:J79,\"tak\")","v":0},{"$f":"COUNTIF(J59:J79,\"*\")-J56","v":0},{"$f":"COUNTIF(J59:J79,\"*\")/11","v":0}]
[null,null,"ustawa: art. 273 ust. 2; art. 280; art. 282 ust.2 i 282 ust.3\nrozporządzenie: §4 ust. 1; §16 ust. 2; §16 ust. 3\nstandardy: 1130; 2000; 2100; 2300; 2310; 2320; 2330; 2340",null,null,null,null,null,null,null,null,null,null,null,"NALEŻY WSKAZAĆ ZAKRES ZIDENTYFIKOWANEJ NIEPRAWIDŁOWOŚCI ORAZ ZAPLANOWAĆ I ZREALIZOWAĆ \nDZIAŁANIA KORYGUJĄCE/NAPRAWCZE\nW tym celu proszę wypełnić poniższe komórki.\n"]
[null,null,null,null,null,null,null,null,null,"odpowiedź",null,"dowód/potwierdzenie dla pełnej \nlub częściowej zgodności/komentarz",null,null,"zakres zidentyfikowanej niezgodności\nw przypadku częściowej niezgodności należy wymienić i opisać te elementy, które wymagają działań korygujących/naprawczych",null,"planowane działania korygujące/naprawcze",null,null,null,"termin realizacji"]
[null,{"$f":"$B$56","v":"III.A.2."},1,"W trakcie realizacji zadania nie wystąpił przypadek ograniczenia audytorowi prawa wstępu do pomieszczeń jednostki lub prawa do wglądu do dokumentów, informacji i danych oraz do innych materiałów związanych z funkcjonowaniem jednostki?",null,null,null,null,null,null,null,null,null,{"$f":"IF(J59=\"nie\",\"!\",\"\")","v":""}]
[]
[null,{"$f":"$B$59","v":"III.A.2."},2,"W trakcie realizacji zadania nie wystąpił przypadek by pracownicy jednostki nie udzielili informacji i wyjaśnień, a także by nie sporządzili i nie potwierdzili kopii, odpisów, wyciągów lub zestawień, na potrzeby realizacji zadań przez audytora wewnętrznego?",null,null,null,null,null,null,null,null,null,{"$f":"IF(J61=\"nie\",\"!\",\"\")","v":""}]
[]
[null,{"$f":"$B$59","v":"III.A.2."},3,"Czy kierownik komórki audytu wewnętrznego miał bezpośredni dostęp do kierownika jednostki, a w urzędzie administracji rządowej, w którym tworzy się stanowisko dyrektora generalnego urzędu do dyrektora generalnego w zakresie określonym odrębnymi ustawami na każdym etapie realizacji zadania zapewniającego?",null,null,null,null,null,null,null,null,null,{"$f":"IF(J63=\"nie\",\"!\",\"\")","v":""}]
[]
[null,{"$f":"$B$59","v":"III.A.2."},4,"Czy audytor wewnętrzny realizując zadanie zapewniające kierował się wskazówkami zawartymi w standardach audytu wewnętrznego, o których mowa w art. 273 ust. 1 ustawy?",null,null,null,null,null,null,null,null,null,{"$f":"IF(J65=\"nie\",\"!\",\"\")","v":""}]
[]
[null,{"$f":"$B$59","v":"III.A.2."},5,"Czy w  trakcie realizacji zadania zapewniono warunki niezbędne do niezależnego, obiektywnego i efektywnego prowadzenia audytu wewnętrznego?",null,null,null,null,null,null,null,null,null,{"$f":"IF(J67=\"nie\",\"!\",\"\")","v":""}]
[]
[null,{"$f":"$B$59","v":"III.A.2."},6,"Czy audyt wewnętrzny był przeprowadzany na podstawie pisemnego upoważnienia kierownika jednostki?",null,null,null,null,null,null,null,null,null,{"$f":"IF(J69=\"nie\",\"!\",\"\")","v":""}]
[]
[null,{"$f":"$B$59","v":"III.A.2."},7,"Czy w trakcie realizacji zadania zapewniającego dokonywano udokumentowanych zmian w programie zadania zapewniającego, a zmiany te zostały zaakceptowane przez kierownika komórki audytu wewnętrznego?  \n(jeżeli nie dokonywano zmiany programu, należy zaznaczyć tak i w kolumnie dowód/potwierdzenie wpisać nie dotyczy)",null,null,null,null,null,null,null,null,null,{"$f":"IF(J71=\"nie\",\"!\",\"\")","v":""}]
[]
[null,{"$f":"$B$59","v":"III.A.2."},8,"Czy w trakcie realizacji zadania zebrano informacje, które są wystarczające, wiarygodne i przydatne do osiągnięcia jego celów, a wnioski i wyniki zadania opierały się na odpowiednich i udokumentowanych analizach i ocenach?"]
[]
[null,{"$f":"$B$59","v":"III.A.2."},9,"Czy audyt wewnętrzny przez realizację zadania dokonał oceny adekwatności, skuteczności i efektywności kontroli zarządczej oraz przyczynił się do jej usprawnienia? \n(w przypadku, gdy audytor dokonał oceny ale nie wydał zaleceń należy w rubryce dowód/potwierdzenie opisać potwierdzenie wydania oceny i dodać adnotację brak zaleceń)",null,null,null,null,null,null,null,null,null,{"$f":"IF(J75=\"nie\",\"!\",\"\")","v":""}]
[]
[null,{"$f":"$B$59","v":"III.A.2."},10,"Czy zadanie zostało zrealizowane zgodnie z zakresem przedmiotowym i podmiotowym oraz czy został osiągnięty cel zadania?"]
[]
[null,{"$f":"$B$59","v":"III.A.2."},11,"Czy audytor wewnętrzny zebrał, analizował, oceniał i dokumentował informacje wystarczające do osiągnięcia celu zadania?"]
[null,null,null,null,null,null,null,null,null,"tak","nie","% udzielonych odpowiedzi"]
[null,"III.A.3."," Opracowanie, uzgadnianie i dystrybucja wyników zadania zapewniającego",null,null,null,null,null,null,{"$f":"COUNTIF(J84:J110,\"tak\")","v":0},{"$f":"COUNTIF(J84:J110,\"*\")-J81","v":0},{"$f":"COUNTIF(J84:J110,\"*\")/14","v":0}]
[null,null,"rozporządzenie: §17 - §19\nstandardy: 2400; 2600",null,null,null,null,null,null,null,null,null,null,null,"NALEŻY WSKAZAĆ ZAKRES ZIDENTYFIKOWANEJ NIEPRAWIDŁOWOŚCI ORAZ ZAPLANOWAĆ I ZREALIZOWAĆ \nDZIAŁANIA KORYGUJĄCE/NAPRAWCZE\nW tym celu proszę wypełnić poniższe komórki.\n"]
[null,null,null,null,null,null,null,null,null,"odpowiedź",null,"dowód/potwierdzenie dla pełnej \nlub częściowej zgodności/komentarz",null,null,"zakres zidentyfikowanej niezgodności\nw przypadku częściowej niezgodności należy wymienić i opisać te elementy, które wymagają działań korygujących/naprawczych",null,"planowane działania korygujące/naprawcze",null,null,null,"termin realizacji"]
[null,{"$f":"$B$81","v":"III.A.3."},1,"Czy audytor wewnętrzny po przeprowadzeniu czynności audytowych uzgodnił pisemnie \nz audytowanym wstępne wyniki audytu wewnętrznego, w tym w szczególności ustalenia \ni propozycje zaleceń lub przeprowadził naradę zamykającą?\n(w przypadku nieuzgodnienia wstępnych wyników audytu wewnętrznego czy audytowany mógł zgłosić pisemne zastrzeżenia, w terminie określonym przez audytora wewnętrznego, nie krótszym niż 7 dni kalendarzowych od dnia poinformowania audytowanego o wstępnych wynikach)",null,null,null,null,null,null,null,null,null,{"$f":"IF(J84=\"nie\",\"!\",\"\")","v":""}]
[]
[null,{"$f":"$B$81","v":"III.A.3."},2,"Czy audytor wewnętrzny, po uzgodnieniu wstępnych wyników audytu wewnętrznego lub po wniesieniu zastrzeżeń przez audytowanego sporządził sprawozdanie z zadania zapewniającego?",null,null,null,null,null,null,null,null,null,{"$f":"IF(J86=\"nie\",\"!\",\"\")","v":""}]
[]
[null,{"$f":"$B$81","v":"III.A.3."},3,"Czy sprawozdanie z zadania zapewniającego zawiera temat i cel zadania?",null,null,null,null,null,null,null,null,null,{"$f":"IF(J88=\"nie\",\"!\",\"\")","v":""}]
[]
[null,{"$f":"$B$81","v":"III.A.3."},4,"Czy sprawozdanie z zadania zapewniającego zawiera zakres podmiotowy i przedmiotowy zadania?",null,null,null,null,null,null,null,null,null,{"$f":"IF(J90=\"nie\",\"!\",\"\")","v":""}]
[]
[null,{"$f":"$B$81","v":"III.A.3."},5,"Czy sprawozdanie z zadania zapewniającego zawiera datę rozpoczęcia zadania?",null,null,null,null,null,null,null,null,null,{"$f":"IF(J92=\"nie\",\"!\",\"\")","v":""}]
[]
[null,{"$f":"$B$81","v":"III.A.3."},6,"Czy sprawozdanie z zadania zapewniającego zawiera ustalenia i ocenę według kryteriów przyjętych w programie?",null,null,null,null,null,null,null,null,null,{"$f":"IF(J94=\"nie\",\"!\",\"\")","v":""}]
[]
[null,{"$f":"$B$81","v":"III.A.3."},7,"Czy sprawozdanie z zadania zapewniającego zawiera zalecenia?\n(jeżeli w wyniku przeprowadzonego zadania nie wydano zaleceń, należy wybrać tak i w kolumnie dowód/potwierdzenie należy wpisać nie dotyczy)",null,null,null,null,null,null,null,null,null,{"$f":"IF(J96=\"nie\",\"!\",\"\")","v":""}]
[]
[null,{"$f":"$B$81","v":"III.A.3."},8,"Czy sprawozdanie z zadania zapewniającego zawiera odniesienie się audytora wewnętrznego do zastrzeżeń audytowanego do wstępnych wyników audytu wewnętrznego? \n(jeżeli nie były zgłoszone, należy wybrać tak i w kolumnie dowód/potwierdzenie należy wpisać nie dotyczy)",null,null,null,null,null,null,null,null,null,{"$f":"IF(J98=\"nie\",\"!\",\"\")","v":""}]
[]
[null,{"$f":"$B$81","v":"III.A.3."},9,"Czy sprawozdanie z zadania zapewniającego zawiera ogólną ocenę adekwatności, skuteczności i efektywności kontroli zarządczej w obszarze działalności jednostki objętym zadaniem?",null,null,null,null,null,null,null,null,null,{"$f":"IF(J100=\"nie\",\"!\",\"\")","v":""}]
[]
[null,{"$f":"$B$81","v":"III.A.3."},10,"Czy sprawozdanie z zadania zapewniającego zawiera datę sporządzenia sprawozdania?",null,null,null,null,null,null,null,null,null,{"$f":"IF(J102=\"nie\",\"!\",\"\")","v":""}]
[]
[null,{"$f":"$B$81","v":"III.A.3."},11,"Czy sprawozdanie z zadania zapewniającego zawiera imię i nazwisko audytora wewnętrznego przeprowadzającego zadanie oraz jego podpis? \n(w przypadku zadania zapewniającego realizowanego przez kilku audytorów wewnętrznych sprawozdanie mogą podpisać wszyscy audytorzy wewnętrzni realizujący zadanie albo audytor wewnętrzny odpowiedzialny za realizację tego zadania, wyznaczony przez kierownika komórki audytu spośród audytorów wewnętrznych realizujących zadanie)",null,null,null,null,null,null,null,null,null,{"$f":"IF(J104=\"nie\",\"!\",\"\")","v":""}]
[]
[null,{"$f":"$B$81","v":"III.A.3."},12,"Czy sprawozdanie z zadania zapewniającego jest jasne, zwięzłe, przejrzyste, obiektywne oraz kompletne?  \n(zgodnie ze Standardami przekazane informacje muszą być dokładne, obiektywne, jasne, zwięzłe, konstruktywne, kompletne oraz dostarczone na czas)",null,null,null,null,null,null,null,null,null,{"$f":"IF(J106=\"nie\",\"!\",\"\")","v":""}]
[]
[null,{"$f":"$B$81","v":"III.A.3."},13,"Czy kierownik komórki audytu wewnętrznego/audytor wewnętrzny przekazał sprawozdanie audytowanemu i kierownikowi jednostki?",null,null,null,null,null,null,null,null,null,{"$f":"IF(J108=\"nie\",\"!\",\"\")","v":""}]
[]
[null,{"$f":"$B$81","v":"III.A.3."},14,"Czy kierownik komórki audytu wewnętrznego/audytor wewnętrzny poinformował kierownika jednostki, że przyjęto poziom ryzyka, który może być nie do zaakceptowania dla jednostki? \n(jeżeli była taka potrzeba, w przeciwnym razie należy zaznaczyć tak i w kolumnie dowód/potwierdzenie należy wpisać nie dotyczy)"]
[null,null,null,null,null,null,null,null,null,"tak","nie","% udzielonych odpowiedzi"]
[null,"III.A.4."," Monitoring wdrożenia zaleceń i czynność sprawdzająca",null,null,null,null,null,null,{"$f":"COUNTIF(J115:J121,\"tak\")","v":0},{"$f":"COUNTIF(J115:J121,\"*\")-J112","v":0},{"$f":"COUNTIF(J115:J121,\"*\")/4","v":0}]
[null,null,"rozporządzenie: §20 - §21\nstandardy: 2500",null,null,null,null,null,null,null,null,null,null,null,"NALEŻY WSKAZAĆ ZAKRES ZIDENTYFIKOWANEJ NIEPRAWIDŁOWOŚCI ORAZ ZAPLANOWAĆ I ZREALIZOWAĆ \nDZIAŁANIA KORYGUJĄCE/NAPRAWCZE\nW tym celu proszę wypełnić poniższe komórki.\n"]
[null,null,null,null,null,null,null,null,null,"odpowiedź",null,"dowód/potwierdzenie dla pełnej \nlub częściowej zgodności/komentarz",null,null,"zakres zidentyfikowanej niezgodności\nw przypadku częściowej niezgodności należy wymienić i opisać te elementy, które wymagają działań korygujących/naprawczych",null,"planowane działania korygujące/naprawcze",null,null,null,"termin realizacji"]
[null,{"$f":"$B$112","v":"III.A.4."},1,"Czy audytor wewnętrzny monitorował realizację wydanych i zaakceptowanych do wdrożenia zaleceń?",null,null,null,null,null,null,null,null,null,{"$f":"IF(J115=\"nie\",\"!\",\"\")","v":""}]
[]
[null,{"$f":"$B$112","v":"III.A.4."},2,"Czy audytor wewnętrzny po upływie terminów realizacji zaleceń przeprowadził czynności sprawdzające?\n/jeżeli nie były przeprowadzane czynności sprawdzające, bo nie upłynęły jeszcze terminy realizacji zaleceń należy wybrać tak i w kolumnie dowód napisać nie dotyczy/",null,null,null,null,null,null,null,null,null,{"$f":"IF(J117=\"nie\",\"!\",\"\")","v":""}]
[]
[null,{"$f":"$B$112","v":"III.A.4."},3,"Czy wynik czynności sprawdzających audytor wewnętrzny przedstawił w notatce informacyjnej kierownikowi jednostki i audytowanemu?\n/jeżeli nie były przeprowadzane czynności sprawdzające, bo nie upłynęły jeszcze terminy realizacji zaleceń należy wybrać tak i w kolumnie dowód napisać nie dotyczy/",null,null,null,null,null,null,null,null,null,{"$f":"IF(J119=\"nie\",\"!\",\"\")","v":""}]
[]
[null,{"$f":"$B$112","v":"III.A.4."},4,"Czy system monitorowania wyników audytu jest skuteczny i adekwatny?"]

{"sheet":"III. Realizacja ZZ 6","index":10,"n_rows":121,"n_cols":25,"rows_kept":121,"cut":false,"hidden":true,"merged":[[11,3,11,8],[11,11,11,12],[11,14,14,20],[13,11,13,12],[14,2,14,8],[14,11,14,12],[1,1,1,11],[3,1,6,21],[7,3,7,10],[7,14,7,20],[8,2,9,10],[8,11,9,11],[8,12,9,12],[8,14,10,20],[10,3,10,8],[10,11,10,12],[12,3,12,8],[13,3,13,8],[15,2,15,12],[15,14,15,20],[16,9,16,10],[16,11,16,12],[16,16,16,18],[17,3,17,8],[17,9,17,10],[17,11,17,12],[17,16,17,18],[23,3,23,8],[23,9,23,10],[23,11,23,12],[23,16,23,18],[25,3,25,8],[25,9,25,10],[25,11,25,12],[25,16,25,18],[19,3,19,8],[19,9,19,10],[19,11,19,12],[19,16,19,18],[21,3,21,8],[21,9,21,10],[21,11,21,12],[21,16,21,18],[31,3,31,8],[31,9,31,10],[31,11,31,12],[31,16,31,18],[33,3,33,8],[33,9,33,10],[33,11,33,12],[33,16,33,18],[27,3,27,8],[27,9,27,10],[27,11,27,12],[27,16,27,18],[29,3,29,8],[29,9,29,10],[29,11,29,12],[29,16,29,18],[39,3,39,8],[39,9,39,10],[39,11,39,12],[39,16,39,18],[41,3,41,8],[41,9,41,10],[41,11,41,12],[41,16,41,18],[35,3,35,8],[35,9,35,10],[35,11,35,12],[35,16,35,18],[37,3,37,8],[37,9,37,10],[37,11,37,12],[37,16,37,18],[47,3,47,8],[47,9,47,10],[47,11,47,12],[47,16,47,18],[49,3,49,8],[49,9,49,10],[49,11,49,12],[49,16,49,18],[43,3,43,8],[43,9,43,10],[43,11,43,12],[43,16,43,18],[45,3,45,8],[45,9,45,10],[45,11,45,12],[45,16,45,18],[54,11,54,12],[55,2,55,8],[55,11,55,12],[56,2,56,12],[56,14,56,20],[57,9,57,10],[57,11,57,12],[57,16,57,18],[51,3,51,8],[51,9,51,10],[51,11,51,12],[51,16,51,18],[53,3,53,8],[53,9,53,10],[53,11,53,12],[53,16,53,18],[62,3,62,8],[62,9,62,10],[62,11,62,12],[62,16,62,18],[64,3,64,8],[64,9,64,10],[64,11,64,12],[64,16,64,18],[58,3,58,8],[58,9,58,10],[58,11,58,12],[58,16,58,18],[60,3,60,8],[60,9,60,10],[60,11,60,12],[60,16,60,18],[70,3,70,8],[70,9,70,10],[70,11,70,12],[70,16,70,18],[72,3,72,8],[72,9,72,10],[72,11,72,12],[72,16,72,18],[66,3,66,8],[66,9,66,10],[66,11,66,12],[66,16,66,18],[68,3,68,8],[68,9,68,10],[68,11,68,12],[68,16,68,18],[78,3,78,8],[78,9,78,10],[78,11,78,12],[78,16,78,18],[79,11,79,12],[80,2,80,8],[80,11,80,12],[74,3,74,8],[74,9,74,10],[74,11,74,12],[74,16,74,18],[76,3,76,8],[76,9,76,10],[76,11,76,12],[76,16,76,18],[81,2,81,12],[81,14,81,20],[82,9,82,10],[82,11,82,12],[82,16,82,18],[83,3,83,8],[83,9,83,10],[83,11,83,12],[83,16,83,18],[89,3,89,8],[89,9,89,10],[89,11,89,12],[89,16,89,18],[91,3,91,8],[91,9,91,10],[91,11,91,12],[91,16,91,18],[85,3,85,8],[85,9,85,10],[85,11,85,12],[85,16,85,18],[87,3,87,8],[87,9,87,10],[87,11,87,12],[87,16,87,18],[97,3,97,8],[97,9,97,10],[97,11,97,12],[97,16,97,18],[99,3,99,8],[99,9,99,10],[99,11,99,12],[99,16,99,18],[93,3,93,8],[93,9,93,10],[93,11,93,12],[93,16,93,18],[95,3,95,8],[95,9,95,10],[95,11,95,12],[95,16,95,18],[105,3,105,8],[105,9,105,10],[105,11,105,12],[105,16,105,18],[107,3,107,8],[107,9,107,10],[107,11,107,12],[107,16,107,18],[101,3,101,8],[101,9,101,10],[101,11,101,12],[101,16,101,18],[103,3,103,8],[103,9,103,10],[103,11,103,12],[103,16,103,18],[110,11,110,12],[111,2,111,8],[111,11,111,12],[112,2,112,12],[112,14,112,20],[113,9,113,10],[113,11,113,12],[113,16,113,18],[109,3,109,8],[109,9,109,10],[109,11,109,12],[109,16,109,18],[118,3,118,8],[118,9,118,10],[118,11,118,12],[118,16,118,18],[120,3,120,8],[120,9,120,10],[120,11,120,12],[120,16,120,18],[114,3,114,8],[114,9,114,10],[114,11,114,12],[114,16,114,18],[116,3,116,8],[116,9,116,10],[116,11,116,12],[116,16,116,18]]}
[]
[]
[]
[null,"Quality @w "]
[]
[]
[]
[null,null,null,null,null,null,null,null,null,null,null,null,null,"data rozpoczęcia wypełniania niniejszego arkusza","liczba uzyskanych punktów w bloku tematycznym"]
[null,null,{"$f":"'Strona tytułowa'!$H$16","v":0},null,null,null,null,null,null,null,null,{"$f":"'Strona tytułowa'!$F$16","v":0},{"$f":"'Strona tytułowa'!$B$2","v":"ver.2.0.2018"},null,{"$f":"J12","v":0}]
[null,null,null,null,null,null,null,null,null,null,null,null,null,null,null,null,null,null,null,null,null,null,null,null,{"$f":"J12+K12","v":0}]
[null,null,null,"blok tematyczny",null,null,null,null,null,"tak","nie","% udzielonych odpowiedzi"]
[null,null,"III.A","REALIZACJA ZADAŃ AUDYTOWYCH - ZADANIE ZAPEWNIAJĄCE",null,null,null,null,null,{"$f":"J15+J56+J81+J112","v":0},{"$f":"K15+K56+K81+K112","v":0},{"$f":"(J12+K12)/48","v":0},null,{"$f":"COUNTIF(N18:N121,\"!\")","v":0},"0                                                                                                                                                                                                                                                                                                              49 "]
[null,null,null,"temat zadania",null,null,null,null,null,{"$f":"J12/(J12+K12)","v":{"$error":"#DIV/0!"}},{"$f":"K12/(K12+J12)","v":{"$error":"#DIV/0!"}}]
[null,null,null,null,null,null,null,null,null,"ER5HYN","nie","% udzielonych odpowiedzi",null,"niezgodność z przepisami"]
[null,"III.A.1.","Przygotowanie i programowanie zadania zapewniającego",null,null,null,null,null,null,{"$f":"COUNTIF(J18:J54,\"tak\")","v":0},{"$f":"COUNTIF(J18:J54,\"*\")-J15","v":0},{"$f":"COUNTIF(J18:J54,\"*\")/19","v":0}]
[null,null,"rozporządzenie: §13 - §16.\nstandardy: 2050; 2200; 2201; 2210; 2220; 2230;2240",null,null,null,null,null,null,null,null,null,null,null,"NALEŻY WSKAZAĆ ZAKRES ZIDENTYFIKOWANEJ NIEPRAWIDŁOWOŚCI ORAZ ZAPLANOWAĆ I ZREALIZOWAĆ \nDZIAŁANIA KORYGUJĄCE/NAPRAWCZE\nW tym celu proszę wypełnić poniższe komórki.\n"]
[null,null,null,null,null,null,null,null,null,"odpowiedź",null,"dowód/potwierdzenie dla pełnej \nlub częściowej zgodności/komentarz",null,null,"zakres zidentyfikowanej niezgodności\nw przypadku częściowej niezgodności należy wymienić i opisać te elementy, które wymagają działań korygujących/naprawczych",null,"planowane działania korygujące/naprawcze",null,null,null,"termin realizacji"]
[null,{"$f":"$B$15","v":"III.A.1."},1,"Czy kierownik komórki audytu wewnętrznego/audytor wewnętrzny poinformował audytowanego o planowanej realizacji zadania?",null,null,null,null,null,null,null,null,null,{"$f":"IF(J18=\"nie\",\"!\",\"\")","v":""}]
[]
[null,{"$f":"$B$15","v":"III.A.1."},2,"Czy rozpoczynając realizację zadania zapewniającego audytor wewnętrzny przeprowadził przegląd wstępny?",null,null,null,null,null,null,null,null,null,{"$f":"IF(J20=\"nie\",\"!\",\"\")","v":""}]
[]
[null,{"$f":"$B$15","v":"III.A.1."},3,"Czy przegląd wstępny obejmował zapoznanie się z celami i obszarem działalności jednostki, w którym zostało zrealizowane zadanie?",null,null,null,null,null,null,null,null,null,{"$f":"IF(J22=\"nie\",\"!\",\"\")","v":""}]
[null,null,null,null,null,null,null,null,null,null,null,null,null,null,"w"]
[null,{"$f":"$B$15","v":"III.A.1."},4,"Czy przegląd wstępny obejmował dokonanie identyfikacji i oceny ryzyka, po uwzględnieniu istniejących mechanizmów kontrolnych?",null,null,null,null,null,null,null,null,null,{"$f":"IF(J24=\"nie\",\"!\",\"\")","v":""}]
[]
[null,{"$f":"$B$15","v":"III.A.1."},5,"Czy przegląd wstępny obejmował uzgodnienie z audytowanym kryteriów oceny mechanizmów kontrolnych w obszarze działalności jednostki objętym zadaniem lub \nw przypadku braku uzgodnienia kryteriów z audytowanym kryteria zostały uzgodnione \nz kierownikiem jednostki?",null,null,null,null,null,null,null,null,null,{"$f":"IF(J26=\"nie\",\"!\",\"\")","v":""}]
[]
[null,{"$f":"$B$15","v":"III.A.1."},6,"Czy audytor wewnętrzny przygotował program zadania zapewniającego?",null,null,null,null,null,null,null,null,null,{"$f":"IF(J28=\"nie\",\"!\",\"\")","v":""}]
[]
[null,{"$f":"$B$15","v":"III.A.1."},7,"Czy program zadania zapewniającego uwzględniał wynik przeglądu wstępnego?",null,null,null,null,null,null,null,null,null,{"$f":"IF(J30=\"nie\",\"!\",\"\")","v":""}]
[]
[null,{"$f":"$B$15","v":"III.A.1."},8,"Czy program zadania zapewniającego uwzględniał uwagi kierownika jednostki \ni audytowanego?",null,null,null,null,null,null,null,null,null,{"$f":"IF(J32=\"nie\",\"!\",\"\")","v":""}]
[]
[null,{"$f":"$B$15","v":"III.A.1."},9,"Czy program zadania zapewniającego uwzględniał zasoby niezbędne do przeprowadzenia zadania, w tym ewentualną potrzebę uzyskania pomocy eksperta?",null,null,null,null,null,null,null,null,null,{"$f":"IF(J34=\"nie\",\"!\",\"\")","v":""}]
[]
[null,{"$f":"$B$15","v":"III.A.1."},10,"Czy program zadania zapewniającego uwzględniał przewidywany czas trwania zadania?",null,null,null,null,null,null,null,null,null,{"$f":"IF(J36=\"nie\",\"!\",\"\")","v":""}]
[]
[null,{"$f":"$B$15","v":"III.A.1."},11,"Czy program zadania zapewniającego określał temat zadania?",null,null,null,null,null,null,null,null,null,{"$f":"IF(J38=\"nie\",\"!\",\"\")","v":""}]
[]
[null,{"$f":"$B$15","v":"III.A.1."},12,"Czy program zadania zapewniającego określał cel zadania?",null,null,null,null,null,null,null,null,null,{"$f":"IF(J40=\"nie\",\"!\",\"\")","v":""}]
[]
[null,{"$f":"$B$15","v":"III.A.1."},13,"Czy program zadania zapewniającego określał zakres podmiotowy i przedmiotowy zadania?",null,null,null,null,null,null,null,null,null,{"$f":"IF(J42=\"nie\",\"!\",\"\")","v":""}]
[]
[null,{"$f":"$B$15","v":"III.A.1."},14,"Czy program zadania zapewniającego określał istotne ryzyka w obszarze działalności jednostki objętym zadaniem?",null,null,null,null,null,null,null,null,null,{"$f":"IF(J44=\"nie\",\"!\",\"\")","v":""}]
[]
[null,{"$f":"$B$15","v":"III.A.1."},15,"Czy program zadania zapewniającego określał sposób zrealizowania zadania, w szczególności opis doboru próby do badania oraz technik badania?",null,null,null,null,null,null,null,null,null,{"$f":"IF(J46=\"nie\",\"!\",\"\")","v":""}]
[]
[null,{"$f":"$B$15","v":"III.A.1."},16,"Czy program zadania zapewniającego zawierał uzgodnione kryteria oceny?",null,null,null,null,null,null,null,null,null,{"$f":"IF(J48=\"nie\",\"!\",\"\")","v":""}]
[]
[null,{"$f":"$B$15","v":"III.A.1."},17,"Czy program zadania zapewniającego zawierał datę rozpoczęcia i zakończenia zadania?",null,null,null,null,null,null,null,null,null,{"$f":"IF(J50=\"nie\",\"!\",\"\")","v":""}]
[]
[null,{"$f":"$B$15","v":"III.A.1."},18,"Czy program zadania zapewniającego zatwierdził kierownik komórki audytu wewnętrznego/audytor wewnętrzny?",null,null,null,null,null,null,null,null,null,{"$f":"IF(J52=\"nie\",\"!\",\"\")","v":""}]
[]
[null,{"$f":"$B$15","v":"III.A.1."},19,"Czy kierownik komórki audytu wewnętrznego w celu zapewnienia odpowiedniego zakresu audytu oraz niepowielania pracy korzystał z informacji i koordynował działania wewnętrznych i zewnętrznych wykonawców usług doradczych i zapewniających?"]
[null,null,null,null,null,null,null,null,null,"tak","nie","% udzielonych odpowiedzi"]
[null,"III.A.2.","Realizacja zadania zapewniającego ",null,null,null,null,null,null,{"$f":"COUNTIF(J59:J79,\"tak\")","v":0},{"$f":"COUNTIF(J59:J79,\"*\")-J56","v":0},{"$f":"COUNTIF(J59:J79,\"*\")/11","v":0}]
[null,null,"ustawa: art. 273 ust. 2; art. 280; art. 282 ust.2 i 282 ust.3\nrozporządzenie: §4 ust. 1; §16 ust. 2; §16 ust. 3\nstandardy: 1130; 2000; 2100; 2300; 2310; 2320; 2330; 2340",null,null,null,null,null,null,null,null,null,null,null,"NALEŻY WSKAZAĆ ZAKRES ZIDENTYFIKOWANEJ NIEPRAWIDŁOWOŚCI ORAZ ZAPLANOWAĆ I ZREALIZOWAĆ \nDZIAŁANIA KORYGUJĄCE/NAPRAWCZE\nW tym celu proszę wypełnić poniższe komórki.\n"]
[null,null,null,null,null,null,null,null,null,"odpowiedź",null,"dowód/potwierdzenie dla pełnej \nlub częściowej zgodności/komentarz",null,null,"zakres zidentyfikowanej niezgodności\nw przypadku częściowej niezgodności należy wymienić i opisać te elementy, które wymagają działań korygujących/naprawczych",null,"planowane działania korygujące/naprawcze",null,null,null,"termin realizacji"]
[null,{"$f":"$B$56","v":"III.A.2."},1,"W trakcie realizacji zadania nie wystąpił przypadek ograniczenia audytorowi prawa wstępu do pomieszczeń jednostki lub prawa do wglądu do dokumentów, informacji i danych oraz do innych materiałów związanych z funkcjonowaniem jednostki?",null,null,null,null,null,null,null,null,null,{"$f":"IF(J59=\"nie\",\"!\",\"\")","v":""}]
[]
[null,{"$f":"$B$59","v":"III.A.2."},2,"W trakcie realizacji zadania nie wystąpił przypadek by pracownicy jednostki nie udzielili informacji i wyjaśnień, a także by nie sporządzili i nie potwierdzili kopii, odpisów, wyciągów lub zestawień, na potrzeby realizacji zadań przez audytora wewnętrznego?",null,null,null,null,null,null,null,null,null,{"$f":"IF(J61=\"nie\",\"!\",\"\")","v":""}]
[]
[null,{"$f":"$B$59","v":"III.A.2."},3,"Czy kierownik komórki audytu wewnętrznego miał bezpośredni dostęp do kierownika jednostki, a w urzędzie administracji rządowej, w którym tworzy się stanowisko dyrektora generalnego urzędu do dyrektora generalnego w zakresie określonym odrębnymi ustawami na każdym etapie realizacji zadania zapewniającego?",null,null,null,null,null,null,null,null,null,{"$f":"IF(J63=\"nie\",\"!\",\"\")","v":""}]
[]
[null,{"$f":"$B$59","v":"III.A.2."},4,"Czy audytor wewnętrzny realizując zadanie zapewniające kierował się wskazówkami zawartymi w standardach audytu wewnętrznego, o których mowa w art. 273 ust. 1 ustawy?",null,null,null,null,null,null,null,null,null,{"$f":"IF(J65=\"nie\",\"!\",\"\")","v":""}]
[]
[null,{"$f":"$B$59","v":"III.A.2."},5,"Czy w  trakcie realizacji zadania zapewniono warunki niezbędne do niezależnego, obiektywnego i efektywnego prowadzenia audytu wewnętrznego?",null,null,null,null,null,null,null,null,null,{"$f":"IF(J67=\"nie\",\"!\",\"\")","v":""}]
[]
[null,{"$f":"$B$59","v":"III.A.2."},6,"Czy audyt wewnętrzny był przeprowadzany na podstawie pisemnego upoważnienia kierownika jednostki?",null,null,null,null,null,null,null,null,null,{"$f":"IF(J69=\"nie\",\"!\",\"\")","v":""}]
[]
[null,{"$f":"$B$59","v":"III.A.2."},7,"Czy w trakcie realizacji zadania zapewniającego dokonywano udokumentowanych zmian w programie zadania zapewniającego, a zmiany te zostały zaakceptowane przez kierownika komórki audytu wewnętrznego?  \n(jeżeli nie dokonywano zmiany programu, należy zaznaczyć tak i w kolumnie dowód/potwierdzenie wpisać nie dotyczy)",null,null,null,null,null,null,null,null,null,{"$f":"IF(J71=\"nie\",\"!\",\"\")","v":""}]
[]
[null,{"$f":"$B$59","v":"III.A.2."},8,"Czy w trakcie realizacji zadania zebrano informacje, które są wystarczające, wiarygodne i przydatne do osiągnięcia jego celów, a wnioski i wyniki zadania opierały się na odpowiednich i udokumentowanych analizach i ocenach?"]
[]
[null,{"$f":"$B$59","v":"III.A.2."},9,"Czy audyt wewnętrzny przez realizację zadania dokonał oceny adekwatności, skuteczności i efektywności kontroli zarządczej oraz przyczynił się do jej usprawnienia? \n(w przypadku, gdy audytor dokonał oceny ale nie wydał zaleceń należy w rubryce dowód/potwierdzenie opisać potwierdzenie wydania oceny i dodać adnotację brak zaleceń)",null,null,null,null,null,null,null,null,null,{"$f":"IF(J75=\"nie\",\"!\",\"\")","v":""}]
[]
[null,{"$f":"$B$59","v":"III.A.2."},10,"Czy zadanie zostało zrealizowane zgodnie z zakresem przedmiotowym i podmiotowym oraz czy został osiągnięty cel zadania?"]
[]
[null,{"$f":"$B$59","v":"III.A.2."},11,"Czy audytor wewnętrzny zebrał, analizował, oceniał i dokumentował informacje wystarczające do osiągnięcia celu zadania?"]
[null,null,null,null,null,null,null,null,null,"tak","nie","% udzielonych odpowiedzi"]
[null,"III.A.3."," Opracowanie, uzgadnianie i dystrybucja wyników zadania zapewniającego",null,null,null,null,null,null,{"$f":"COUNTIF(J84:J110,\"tak\")","v":0},{"$f":"COUNTIF(J84:J110,\"*\")-J81","v":0},{"$f":"COUNTIF(J84:J110,\"*\")/14","v":0}]
[null,null,"rozporządzenie: §17 - §19\nstandardy: 2400; 2600",null,null,null,null,null,null,null,null,null,null,null,"NALEŻY WSKAZAĆ ZAKRES ZIDENTYFIKOWANEJ NIEPRAWIDŁOWOŚCI ORAZ ZAPLANOWAĆ I ZREALIZOWAĆ \nDZIAŁANIA KORYGUJĄCE/NAPRAWCZE\nW tym celu proszę wypełnić poniższe komórki.\n"]
[null,null,null,null,null,null,null,null,null,"odpowiedź",null,"dowód/potwierdzenie dla pełnej \nlub częściowej zgodności/komentarz",null,null,"zakres zidentyfikowanej niezgodności\nw przypadku częściowej niezgodności należy wymienić i opisać te elementy, które wymagają działań korygujących/naprawczych",null,"planowane działania korygujące/naprawcze",null,null,null,"termin realizacji"]
[null,{"$f":"$B$81","v":"III.A.3."},1,"Czy audytor wewnętrzny po przeprowadzeniu czynności audytowych uzgodnił pisemnie \nz audytowanym wstępne wyniki audytu wewnętrznego, w tym w szczególności ustalenia \ni propozycje zaleceń lub przeprowadził naradę zamykającą?\n(w przypadku nieuzgodnienia wstępnych wyników audytu wewnętrznego czy audytowany mógł zgłosić pisemne zastrzeżenia, w terminie określonym przez audytora wewnętrznego, nie krótszym niż 7 dni kalendarzowych od dnia poinformowania audytowanego o wstępnych wynikach)",null,null,null,null,null,null,null,null,null,{"$f":"IF(J84=\"nie\",\"!\",\"\")","v":""}]
[]
[null,{"$f":"$B$81","v":"III.A.3."},2,"Czy audytor wewnętrzny, po uzgodnieniu wstępnych wyników audytu wewnętrznego lub po wniesieniu zastrzeżeń przez audytowanego sporządził sprawozdanie z zadania zapewniającego?",null,null,null,null,null,null,null,null,null,{"$f":"IF(J86=\"nie\",\"!\",\"\")","v":""}]
[]
[null,{"$f":"$B$81","v":"III.A.3."},3,"Czy sprawozdanie z zadania zapewniającego zawiera temat i cel zadania?",null,null,null,null,null,null,null,null,null,{"$f":"IF(J88=\"nie\",\"!\",\"\")","v":""}]
[]
[null,{"$f":"$B$81","v":"III.A.3."},4,"Czy sprawozdanie z zadania zapewniającego zawiera zakres podmiotowy i przedmiotowy zadania?",null,null,null,null,null,null,null,null,null,{"$f":"IF(J90=\"nie\",\"!\",\"\")","v":""}]
[]
[null,{"$f":"$B$81","v":"III.A.3."},5,"Czy sprawozdanie z zadania zapewniającego zawiera datę rozpoczęcia zadania?",null,null,null,null,null,null,null,null,null,{"$f":"IF(J92=\"nie\",\"!\",\"\")","v":""}]
[]
[null,{"$f":"$B$81","v":"III.A.3."},6,"Czy sprawozdanie z zadania zapewniającego zawiera ustalenia i ocenę według kryteriów przyjętych w programie?",null,null,null,null,null,null,null,null,null,{"$f":"IF(J94=\"nie\",\"!\",\"\")","v":""}]
[]
[null,{"$f":"$B$81","v":"III.A.3."},7,"Czy sprawozdanie z zadania zapewniającego zawiera zalecenia?\n(jeżeli w wyniku przeprowadzonego zadania nie wydano zaleceń, należy wybrać tak i w kolumnie dowód/potwierdzenie należy wpisać nie dotyczy)",null,null,null,null,null,null,null,null,null,{"$f":"IF(J96=\"nie\",\"!\",\"\")","v":""}]
[]
[null,{"$f":"$B$81","v":"III.A.3."},8,"Czy sprawozdanie z zadania zapewniającego zawiera odniesienie się audytora wewnętrznego do zastrzeżeń audytowanego do wstępnych wyników audytu wewnętrznego? \n(jeżeli nie były zgłoszone, należy wybrać tak i w kolumnie dowód/potwierdzenie należy wpisać nie dotyczy)",null,null,null,null,null,null,null,null,null,{"$f":"IF(J98=\"nie\",\"!\",\"\")","v":""}]
[]
[null,{"$f":"$B$81","v":"III.A.3."},9,"Czy sprawozdanie z zadania zapewniającego zawiera ogólną ocenę adekwatności, skuteczności i efektywności kontroli zarządczej w obszarze działalności jednostki objętym zadaniem?",null,null,null,null,null,null,null,null,null,{"$f":"IF(J100=\"nie\",\"!\",\"\")","v":""}]
[]
[null,{"$f":"$B$81","v":"III.A.3."},10,"Czy sprawozdanie z zadania zapewniającego zawiera datę sporządzenia sprawozdania?",null,null,null,null,null,null,null,null,null,{"$f":"IF(J102=\"nie\",\"!\",\"\")","v":""}]
[]
[null,{"$f":"$B$81","v":"III.A.3."},11,"Czy sprawozdanie z zadania zapewniającego zawiera imię i nazwisko audytora wewnętrznego przeprowadzającego zadanie oraz jego podpis? \n(w przypadku zadania zapewniającego realizowanego przez kilku audytorów wewnętrznych sprawozdanie mogą podpisać wszyscy audytorzy wewnętrzni realizujący zadanie albo audytor wewnętrzny odpowiedzialny za realizację tego zadania, wyznaczony przez kierownika komórki audytu spośród audytorów wewnętrznych realizujących zadanie)",null,null,null,null,null,null,null,null,null,{"$f":"IF(J104=\"nie\",\"!\",\"\")","v":""}]
[]
[null,{"$f":"$B$81","v":"III.A.3."},12,"Czy sprawozdanie z zadania zapewniającego jest jasne, zwięzłe, przejrzyste, obiektywne oraz kompletne?  \n(zgodnie ze Standardami przekazane informacje muszą być dokładne, obiektywne, jasne, zwięzłe, konstruktywne, kompletne oraz dostarczone na czas)",null,null,null,null,null,null,null,null,null,{"$f":"IF(J106=\"nie\",\"!\",\"\")","v":""}]
[]
[null,{"$f":"$B$81","v":"III.A.3."},13,"Czy kierownik komórki audytu wewnętrznego/audytor wewnętrzny przekazał sprawozdanie audytowanemu i kierownikowi jednostki?",null,null,null,null,null,null,null,null,null,{"$f":"IF(J108=\"nie\",\"!\",\"\")","v":""}]
[]
[null,{"$f":"$B$81","v":"III.A.3."},14,"Czy kierownik komórki audytu wewnętrznego/audytor wewnętrzny poinformował kierownika jednostki, że przyjęto poziom ryzyka, który może być nie do zaakceptowania dla jednostki? \n(jeżeli była taka potrzeba, w przeciwnym razie należy zaznaczyć tak i w kolumnie dowód/potwierdzenie należy wpisać nie dotyczy)"]
[null,null,null,null,null,null,null,null,null,"tak","nie","% udzielonych odpowiedzi"]
[null,"III.A.4."," Monitoring wdrożenia zaleceń i czynność sprawdzająca",null,null,null,null,null,null,{"$f":"COUNTIF(J115:J121,\"tak\")","v":0},{"$f":"COUNTIF(J115:J121,\"*\")-J112","v":0},{"$f":"COUNTIF(J115:J121,\"*\")/4","v":0}]
[null,null,"rozporządzenie: §20 - §21\nstandardy: 2500",null,null,null,null,null,null,null,null,null,null,null,"NALEŻY WSKAZAĆ ZAKRES ZIDENTYFIKOWANEJ NIEPRAWIDŁOWOŚCI ORAZ ZAPLANOWAĆ I ZREALIZOWAĆ \nDZIAŁANIA KORYGUJĄCE/NAPRAWCZE\nW tym celu proszę wypełnić poniższe komórki.\n"]
[null,null,null,null,null,null,null,null,null,"odpowiedź",null,"dowód/potwierdzenie dla pełnej \nlub częściowej zgodności/komentarz",null,null,"zakres zidentyfikowanej niezgodności\nw przypadku częściowej niezgodności należy wymienić i opisać te elementy, które wymagają działań korygujących/naprawczych",null,"planowane działania korygujące/naprawcze",null,null,null,"termin realizacji"]
[null,{"$f":"$B$112","v":"III.A.4."},1,"Czy audytor wewnętrzny monitorował realizację wydanych i zaakceptowanych do wdrożenia zaleceń?",null,null,null,null,null,null,null,null,null,{"$f":"IF(J115=\"nie\",\"!\",\"\")","v":""}]
[]
[null,{"$f":"$B$112","v":"III.A.4."},2,"Czy audytor wewnętrzny po upływie terminów realizacji zaleceń przeprowadził czynności sprawdzające?\n/jeżeli nie były przeprowadzane czynności sprawdzające, bo nie upłynęły jeszcze terminy realizacji zaleceń należy wybrać tak i w kolumnie dowód napisać nie dotyczy/",null,null,null,null,null,null,null,null,null,{"$f":"IF(J117=\"nie\",\"!\",\"\")","v":""}]
[]
[null,{"$f":"$B$112","v":"III.A.4."},3,"Czy wynik czynności sprawdzających audytor wewnętrzny przedstawił w notatce informacyjnej kierownikowi jednostki i audytowanemu?\n/jeżeli nie były przeprowadzane czynności sprawdzające, bo nie upłynęły jeszcze terminy realizacji zaleceń należy wybrać tak i w kolumnie dowód napisać nie dotyczy/",null,null,null,null,null,null,null,null,null,{"$f":"IF(J119=\"nie\",\"!\",\"\")","v":""}]
[]
[null,{"$f":"$B$112","v":"III.A.4."},4,"Czy system monitorowania wyników audytu jest skuteczny i adekwatny?"]

{"sheet":"III. Realizacja ZZ 7","index":11,"n_rows":121,"n_cols":25,"rows_kept":121,"cut":false,"hidden":true,"merged":[[11,3,11,8],[11,11,11,12],[11,14,14,20],[12,3,12,8],[13,3,13,8],[13,11,13,12],[14,2,14,8],[14,11,14,12],[1,1,1,11],[3,1,6,21],[7,3,7,10],[7,14,7,20],[8,2,9,10],[8,11,9,11],[8,12,9,12],[8,14,10,20],[10,3,10,8],[10,11,10,12],[15,2,15,12],[15,14,15,20],[16,9,16,10],[16,11,16,12],[16,16,16,18],[17,3,17,8],[17,9,17,10],[17,11,17,12],[17,16,17,18],[23,3,23,8],[23,9,23,10],[23,11,23,12],[23,16,23,18],[25,3,25,8],[25,9,25,10],[25,11,25,12],[25,16,25,18],[19,3,19,8],[19,9,19,10],[19,11,19,12],[19,16,19,18],[21,3,21,8],[21,9,21,10],[21,11,21,12],[21,16,21,18],[31,3,31,8],[31,9,31,10],[31,11,31,12],[31,16,31,18],[33,3,33,8],[33,9,33,10],[33,11,33,12],[33,16,33,18],[27,3,27,8],[27,9,27,10],[27,11,27,12],[27,16,27,18],[29,3,29,8],[29,9,29,10],[29,11,29,12],[29,16,29,18],[39,3,39,8],[39,9,39,10],[39,11,39,12],[39,16,39,18],[41,3,41,8],[41,9,41,10],[41,11,41,12],[41,16,41,18],[35,3,35,8],[35,9,35,10],[35,11,35,12],[35,16,35,18],[37,3,37,8],[37,9,37,10],[37,11,37,12],[37,16,37,18],[47,3,47,8],[47,9,47,10],[47,11,47,12],[47,16,47,18],[49,3,49,8],[49,9,49,10],[49,11,49,12],[49,16,49,18],[43,3,43,8],[43,9,43,10],[43,11,43,12],[43,16,43,18],[45,3,45,8],[45,9,45,10],[45,11,45,12],[45,16,45,18],[54,11,54,12],[55,2,55,8],[55,11,55,12],[56,2,56,12],[56,14,56,20],[57,9,57,10],[57,11,57,12],[57,16,57,18],[51,3,51,8],[51,9,51,10],[51,11,51,12],[51,16,51,18],[53,3,53,8],[53,9,53,10],[53,11,53,12],[53,16,53,18],[62,3,62,8],[62,9,62,10],[62,11,62,12],[62,16,62,18],[64,3,64,8],[64,9,64,10],[64,11,64,12],[64,16,64,18],[58,3,58,8],[58,9,58,10],[58,11,58,12],[58,16,58,18],[60,3,60,8],[60,9,60,10],[60,11,60,12],[60,16,60,18],[70,3,70,8],[70,9,70,10],[70,11,70,12],[70,16,70,18],[72,3,72,8],[72,9,72,10],[72,11,72,12],[72,16,72,18],[66,3,66,8],[66,9,66,10],[66,11,66,12],[66,16,66,18],[68,3,68,8],[68,9,68,10],[68,11,68,12],[68,16,68,18],[78,3,78,8],[78,9,78,10],[78,11,78,12],[78,16,78,18],[79,11,79,12],[80,2,80,8],[80,11,80,12],[74,3,74,8],[74,9,74,10],[74,11,74,12],[74,16,74,18],[76,3,76,8],[76,9,76,10],[76,11,76,12],[76,16,76,18],[81,2,81,12],[81,14,81,20],[82,9,82,10],[82,11,82,12],[82,16,82,18],[83,3,83,8],[83,9,83,10],[83,11,83,12],[83,16,83,18],[89,3,89,8],[89,9,89,10],[89,11,89,12],[89,16,89,18],[91,3,91,8],[91,9,91,10],[91,11,91,12],[91,16,91,18],[85,3,85,8],[85,9,85,10],[85,11,85,12],[85,16,85,18],[87,3,87,8],[87,9,87,10],[87,11,87,12],[87,16,87,18],[97,3,97,8],[97,9,97,10],[97,11,97,12],[97,16,97,18],[99,3,99,8],[99,9,99,10],[99,11,99,12],[99,16,99,18],[93,3,93,8],[93,9,93,10],[93,11,93,12],[93,16,93,18],[95,3,95,8],[95,9,95,10],[95,11,95,12],[95,16,95,18],[105,3,105,8],[105,9,105,10],[105,11,105,12],[105,16,105,18],[107,3,107,8],[107,9,107,10],[107,11,107,12],[107,16,107,18],[101,3,101,8],[101,9,101,10],[101,11,101,12],[101,16,101,18],[103,3,103,8],[103,9,103,10],[103,11,103,12],[103,16,103,18],[110,11,110,12],[111,2,111,8],[111,11,111,12],[112,2,112,12],[112,14,112,20],[113,9,113,10],[113,11,113,12],[113,16,113,18],[109,3,109,8],[109,9,109,10],[109,11,109,12],[109,16,109,18],[118,3,118,8],[118,9,118,10],[118,11,118,12],[118,16,118,18],[120,3,120,8],[120,9,120,10],[120,11,120,12],[120,16,120,18],[114,3,114,8],[114,9,114,10],[114,11,114,12],[114,16,114,18],[116,3,116,8],[116,9,116,10],[116,11,116,12],[116,16,116,18]]}
[]
[]
[]
[null,"Quality @w "]
[]
[]
[]
[null,null,null,null,null,null,null,null,null,null,null,null,null,"data rozpoczęcia wypełniania niniejszego arkusza","liczba uzyskanych punktów w bloku tematycznym"]
[null,null,{"$f":"'Strona tytułowa'!$H$16","v":0},null,null,null,null,null,null,null,null,{"$f":"'Strona tytułowa'!$F$16","v":0},{"$f":"'Strona tytułowa'!$B$2","v":"ver.2.0.2018"},null,{"$f":"J12","v":0}]
[null,null,null,null,null,null,null,null,null,null,null,null,null,null,null,null,null,null,null,null,null,null,null,null,{"$f":"J12+K12","v":0}]
[null,null,null,"blok tematyczny",null,null,null,null,null,"tak","nie","% udzielonych odpowiedzi"]
[null,null,"III.A","REALIZACJA ZADAŃ AUDYTOWYCH - ZADANIE ZAPEWNIAJĄCE",null,null,null,null,null,{"$f":"J15+J56+J81+J112","v":0},{"$f":"K15+K56+K81+K112","v":0},{"$f":"(J12+K12)/48","v":0},null,{"$f":"COUNTIF(N18:N121,\"!\")","v":0},"0                                                                                                                                                                                                                                                                                                              49 "]
[null,null,null,"temat zadania",null,null,null,null,null,{"$f":"J12/(J12+K12)","v":{"$error":"#DIV/0!"}},{"$f":"K12/(K12+J12)","v":{"$error":"#DIV/0!"}}]
[null,null,null,null,null,null,null,null,null,"ER5HYN","nie","% udzielonych odpowiedzi",null,"niezgodność z przepisami"]
[null,"III.A.1.","Przygotowanie i programowanie zadania zapewniającego",null,null,null,null,null,null,{"$f":"COUNTIF(J18:J54,\"tak\")","v":0},{"$f":"COUNTIF(J18:J54,\"*\")-J15","v":0},{"$f":"COUNTIF(J18:J54,\"*\")/19","v":0}]
[null,null,"rozporządzenie: §13 - §16.\nstandardy: 2050; 2200; 2201; 2210; 2220; 2230;2240",null,null,null,null,null,null,null,null,null,null,null,"NALEŻY WSKAZAĆ ZAKRES ZIDENTYFIKOWANEJ NIEPRAWIDŁOWOŚCI ORAZ ZAPLANOWAĆ I ZREALIZOWAĆ \nDZIAŁANIA KORYGUJĄCE/NAPRAWCZE\nW tym celu proszę wypełnić poniższe komórki.\n"]
[null,null,null,null,null,null,null,null,null,"odpowiedź",null,"dowód/potwierdzenie dla pełnej \nlub częściowej zgodności/komentarz",null,null,"zakres zidentyfikowanej niezgodności\nw przypadku częściowej niezgodności należy wymienić i opisać te elementy, które wymagają działań korygujących/naprawczych",null,"planowane działania korygujące/naprawcze",null,null,null,"termin realizacji"]
[null,{"$f":"$B$15","v":"III.A.1."},1,"Czy kierownik komórki audytu wewnętrznego/audytor wewnętrzny poinformował audytowanego o planowanej realizacji zadania?",null,null,null,null,null,null,null,null,null,{"$f":"IF(J18=\"nie\",\"!\",\"\")","v":""}]
[]
[null,{"$f":"$B$15","v":"III.A.1."},2,"Czy rozpoczynając realizację zadania zapewniającego audytor wewnętrzny przeprowadził przegląd wstępny?",null,null,null,null,null,null,null,null,null,{"$f":"IF(J20=\"nie\",\"!\",\"\")","v":""}]
[]
[null,{"$f":"$B$15","v":"III.A.1."},3,"Czy przegląd wstępny obejmował zapoznanie się z celami i obszarem działalności jednostki, w którym zostało zrealizowane zadanie?",null,null,null,null,null,null,null,null,null,{"$f":"IF(J22=\"nie\",\"!\",\"\")","v":""}]
[null,null,null,null,null,null,null,null,null,null,null,null,null,null,"w"]
[null,{"$f":"$B$15","v":"III.A.1."},4,"Czy przegląd wstępny obejmował dokonanie identyfikacji i oceny ryzyka, po uwzględnieniu istniejących mechanizmów kontrolnych?",null,null,null,null,null,null,null,null,null,{"$f":"IF(J24=\"nie\",\"!\",\"\")","v":""}]
[]
[null,{"$f":"$B$15","v":"III.A.1."},5,"Czy przegląd wstępny obejmował uzgodnienie z audytowanym kryteriów oceny mechanizmów kontrolnych w obszarze działalności jednostki objętym zadaniem lub \nw przypadku braku uzgodnienia kryteriów z audytowanym kryteria zostały uzgodnione \nz kierownikiem jednostki?",null,null,null,null,null,null,null,null,null,{"$f":"IF(J26=\"nie\",\"!\",\"\")","v":""}]
[]
[null,{"$f":"$B$15","v":"III.A.1."},6,"Czy audytor wewnętrzny przygotował program zadania zapewniającego?",null,null,null,null,null,null,null,null,null,{"$f":"IF(J28=\"nie\",\"!\",\"\")","v":""}]
[]
[null,{"$f":"$B$15","v":"III.A.1."},7,"Czy program zadania zapewniającego uwzględniał wynik przeglądu wstępnego?",null,null,null,null,null,null,null,null,null,{"$f":"IF(J30=\"nie\",\"!\",\"\")","v":""}]
[]
[null,{"$f":"$B$15","v":"III.A.1."},8,"Czy program zadania zapewniającego uwzględniał uwagi kierownika jednostki \ni audytowanego?",null,null,null,null,null,null,null,null,null,{"$f":"IF(J32=\"nie\",\"!\",\"\")","v":""}]
[]
[null,{"$f":"$B$15","v":"III.A.1."},9,"Czy program zadania zapewniającego uwzględniał zasoby niezbędne do przeprowadzenia zadania, w tym ewentualną potrzebę uzyskania pomocy eksperta?",null,null,null,null,null,null,null,null,null,{"$f":"IF(J34=\"nie\",\"!\",\"\")","v":""}]
[]
[null,{"$f":"$B$15","v":"III.A.1."},10,"Czy program zadania zapewniającego uwzględniał przewidywany czas trwania zadania?",null,null,null,null,null,null,null,null,null,{"$f":"IF(J36=\"nie\",\"!\",\"\")","v":""}]
[]
[null,{"$f":"$B$15","v":"III.A.1."},11,"Czy program zadania zapewniającego określał temat zadania?",null,null,null,null,null,null,null,null,null,{"$f":"IF(J38=\"nie\",\"!\",\"\")","v":""}]
[]
[null,{"$f":"$B$15","v":"III.A.1."},12,"Czy program zadania zapewniającego określał cel zadania?",null,null,null,null,null,null,null,null,null,{"$f":"IF(J40=\"nie\",\"!\",\"\")","v":""}]
[]
[null,{"$f":"$B$15","v":"III.A.1."},13,"Czy program zadania zapewniającego określał zakres podmiotowy i przedmiotowy zadania?",null,null,null,null,null,null,null,null,null,{"$f":"IF(J42=\"nie\",\"!\",\"\")","v":""}]
[]
[null,{"$f":"$B$15","v":"III.A.1."},14,"Czy program zadania zapewniającego określał istotne ryzyka w obszarze działalności jednostki objętym zadaniem?",null,null,null,null,null,null,null,null,null,{"$f":"IF(J44=\"nie\",\"!\",\"\")","v":""}]
[]
[null,{"$f":"$B$15","v":"III.A.1."},15,"Czy program zadania zapewniającego określał sposób zrealizowania zadania, w szczególności opis doboru próby do badania oraz technik badania?",null,null,null,null,null,null,null,null,null,{"$f":"IF(J46=\"nie\",\"!\",\"\")","v":""}]
[]
[null,{"$f":"$B$15","v":"III.A.1."},16,"Czy program zadania zapewniającego zawierał uzgodnione kryteria oceny?",null,null,null,null,null,null,null,null,null,{"$f":"IF(J48=\"nie\",\"!\",\"\")","v":""}]
[]
[null,{"$f":"$B$15","v":"III.A.1."},17,"Czy program zadania zapewniającego zawierał datę rozpoczęcia i zakończenia zadania?",null,null,null,null,null,null,null,null,null,{"$f":"IF(J50=\"nie\",\"!\",\"\")","v":""}]
[]
[null,{"$f":"$B$15","v":"III.A.1."},18,"Czy program zadania zapewniającego zatwierdził kierownik komórki audytu wewnętrznego/audytor wewnętrzny?",null,null,null,null,null,null,null,null,null,{"$f":"IF(J52=\"nie\",\"!\",\"\")","v":""}]
[]
[null,{"$f":"$B$15","v":"III.A.1."},19,"Czy kierownik komórki audytu wewnętrznego w celu zapewnienia odpowiedniego zakresu audytu oraz niepowielania pracy korzystał z informacji i koordynował działania wewnętrznych i zewnętrznych wykonawców usług doradczych i zapewniających?"]
[null,null,null,null,null,null,null,null,null,"tak","nie","% udzielonych odpowiedzi"]
[null,"III.A.2.","Realizacja zadania zapewniającego ",null,null,null,null,null,null,{"$f":"COUNTIF(J59:J79,\"tak\")","v":0},{"$f":"COUNTIF(J59:J79,\"*\")-J56","v":0},{"$f":"COUNTIF(J59:J79,\"*\")/11","v":0}]
[null,null,"ustawa: art. 273 ust. 2; art. 280; art. 282 ust.2 i 282 ust.3\nrozporządzenie: §4 ust. 1; §16 ust. 2; §16 ust. 3\nstandardy: 1130; 2000; 2100; 2300; 2310; 2320; 2330; 2340",null,null,null,null,null,null,null,null,null,null,null,"NALEŻY WSKAZAĆ ZAKRES ZIDENTYFIKOWANEJ NIEPRAWIDŁOWOŚCI ORAZ ZAPLANOWAĆ I ZREALIZOWAĆ \nDZIAŁANIA KORYGUJĄCE/NAPRAWCZE\nW tym celu proszę wypełnić poniższe komórki.\n"]
[null,null,null,null,null,null,null,null,null,"odpowiedź",null,"dowód/potwierdzenie dla pełnej \nlub częściowej zgodności/komentarz",null,null,"zakres zidentyfikowanej niezgodności\nw przypadku częściowej niezgodności należy wymienić i opisać te elementy, które wymagają działań korygujących/naprawczych",null,"planowane działania korygujące/naprawcze",null,null,null,"termin realizacji"]
[null,{"$f":"$B$56","v":"III.A.2."},1,"W trakcie realizacji zadania nie wystąpił przypadek ograniczenia audytorowi prawa wstępu do pomieszczeń jednostki lub prawa do wglądu do dokumentów, informacji i danych oraz do innych materiałów związanych z funkcjonowaniem jednostki?",null,null,null,null,null,null,null,null,null,{"$f":"IF(J59=\"nie\",\"!\",\"\")","v":""}]
[]
[null,{"$f":"$B$59","v":"III.A.2."},2,"W trakcie realizacji zadania nie wystąpił przypadek by pracownicy jednostki nie udzielili informacji i wyjaśnień, a także by nie sporządzili i nie potwierdzili kopii, odpisów, wyciągów lub zestawień, na potrzeby realizacji zadań przez audytora wewnętrznego?",null,null,null,null,null,null,null,null,null,{"$f":"IF(J61=\"nie\",\"!\",\"\")","v":""}]
[]
[null,{"$f":"$B$59","v":"III.A.2."},3,"Czy kierownik komórki audytu wewnętrznego miał bezpośredni dostęp do kierownika jednostki, a w urzędzie administracji rządowej, w którym tworzy się stanowisko dyrektora generalnego urzędu do dyrektora generalnego w zakresie określonym odrębnymi ustawami na każdym etapie realizacji zadania zapewniającego?",null,null,null,null,null,null,null,null,null,{"$f":"IF(J63=\"nie\",\"!\",\"\")","v":""}]
[]
[null,{"$f":"$B$59","v":"III.A.2."},4,"Czy audytor wewnętrzny realizując zadanie zapewniające kierował się wskazówkami zawartymi w standardach audytu wewnętrznego, o których mowa w art. 273 ust. 1 ustawy?",null,null,null,null,null,null,null,null,null,{"$f":"IF(J65=\"nie\",\"!\",\"\")","v":""}]
[]
[null,{"$f":"$B$59","v":"III.A.2."},5,"Czy w  trakcie realizacji zadania zapewniono warunki niezbędne do niezależnego, obiektywnego i efektywnego prowadzenia audytu wewnętrznego?",null,null,null,null,null,null,null,null,null,{"$f":"IF(J67=\"nie\",\"!\",\"\")","v":""}]
[]
[null,{"$f":"$B$59","v":"III.A.2."},6,"Czy audyt wewnętrzny był przeprowadzany na podstawie pisemnego upoważnienia kierownika jednostki?",null,null,null,null,null,null,null,null,null,{"$f":"IF(J69=\"nie\",\"!\",\"\")","v":""}]
[]
[null,{"$f":"$B$59","v":"III.A.2."},7,"Czy w trakcie realizacji zadania zapewniającego dokonywano udokumentowanych zmian w programie zadania zapewniającego, a zmiany te zostały zaakceptowane przez kierownika komórki audytu wewnętrznego?  \n(jeżeli nie dokonywano zmiany programu, należy zaznaczyć tak i w kolumnie dowód/potwierdzenie wpisać nie dotyczy)",null,null,null,null,null,null,null,null,null,{"$f":"IF(J71=\"nie\",\"!\",\"\")","v":""}]
[]
[null,{"$f":"$B$59","v":"III.A.2."},8,"Czy w trakcie realizacji zadania zebrano informacje, które są wystarczające, wiarygodne i przydatne do osiągnięcia jego celów, a wnioski i wyniki zadania opierały się na odpowiednich i udokumentowanych analizach i ocenach?"]
[]
[null,{"$f":"$B$59","v":"III.A.2."},9,"Czy audyt wewnętrzny przez realizację zadania dokonał oceny adekwatności, skuteczności i efektywności kontroli zarządczej oraz przyczynił się do jej usprawnienia? \n(w przypadku, gdy audytor dokonał oceny ale nie wydał zaleceń należy w rubryce dowód/potwierdzenie opisać potwierdzenie wydania oceny i dodać adnotację brak zaleceń)",null,null,null,null,null,null,null,null,null,{"$f":"IF(J75=\"nie\",\"!\",\"\")","v":""}]
[]
[null,{"$f":"$B$59","v":"III.A.2."},10,"Czy zadanie zostało zrealizowane zgodnie z zakresem przedmiotowym i podmiotowym oraz czy został osiągnięty cel zadania?"]
[]
[null,{"$f":"$B$59","v":"III.A.2."},11,"Czy audytor wewnętrzny zebrał, analizował, oceniał i dokumentował informacje wystarczające do osiągnięcia celu zadania?"]
[null,null,null,null,null,null,null,null,null,"tak","nie","% udzielonych odpowiedzi"]
[null,"III.A.3."," Opracowanie, uzgadnianie i dystrybucja wyników zadania zapewniającego",null,null,null,null,null,null,{"$f":"COUNTIF(J84:J110,\"tak\")","v":0},{"$f":"COUNTIF(J84:J110,\"*\")-J81","v":0},{"$f":"COUNTIF(J84:J110,\"*\")/14","v":0}]
[null,null,"rozporządzenie: §17 - §19\nstandardy: 2400; 2600",null,null,null,null,null,null,null,null,null,null,null,"NALEŻY WSKAZAĆ ZAKRES ZIDENTYFIKOWANEJ NIEPRAWIDŁOWOŚCI ORAZ ZAPLANOWAĆ I ZREALIZOWAĆ \nDZIAŁANIA KORYGUJĄCE/NAPRAWCZE\nW tym celu proszę wypełnić poniższe komórki.\n"]
[null,null,null,null,null,null,null,null,null,"odpowiedź",null,"dowód/potwierdzenie dla pełnej \nlub częściowej zgodności/komentarz",null,null,"zakres zidentyfikowanej niezgodności\nw przypadku częściowej niezgodności należy wymienić i opisać te elementy, które wymagają działań korygujących/naprawczych",null,"planowane działania korygujące/naprawcze",null,null,null,"termin realizacji"]
[null,{"$f":"$B$81","v":"III.A.3."},1,"Czy audytor wewnętrzny po przeprowadzeniu czynności audytowych uzgodnił pisemnie \nz audytowanym wstępne wyniki audytu wewnętrznego, w tym w szczególności ustalenia \ni propozycje zaleceń lub przeprowadził naradę zamykającą?\n(w przypadku nieuzgodnienia wstępnych wyników audytu wewnętrznego czy audytowany mógł zgłosić pisemne zastrzeżenia, w terminie określonym przez audytora wewnętrznego, nie krótszym niż 7 dni kalendarzowych od dnia poinformowania audytowanego o wstępnych wynikach)",null,null,null,null,null,null,null,null,null,{"$f":"IF(J84=\"nie\",\"!\",\"\")","v":""}]
[]
[null,{"$f":"$B$81","v":"III.A.3."},2,"Czy audytor wewnętrzny, po uzgodnieniu wstępnych wyników audytu wewnętrznego lub po wniesieniu zastrzeżeń przez audytowanego sporządził sprawozdanie z zadania zapewniającego?",null,null,null,null,null,null,null,null,null,{"$f":"IF(J86=\"nie\",\"!\",\"\")","v":""}]
[]
[null,{"$f":"$B$81","v":"III.A.3."},3,"Czy sprawozdanie z zadania zapewniającego zawiera temat i cel zadania?",null,null,null,null,null,null,null,null,null,{"$f":"IF(J88=\"nie\",\"!\",\"\")","v":""}]
[]
[null,{"$f":"$B$81","v":"III.A.3."},4,"Czy sprawozdanie z zadania zapewniającego zawiera zakres podmiotowy i przedmiotowy zadania?",null,null,null,null,null,null,null,null,null,{"$f":"IF(J90=\"nie\",\"!\",\"\")","v":""}]
[]
[null,{"$f":"$B$81","v":"III.A.3."},5,"Czy sprawozdanie z zadania zapewniającego zawiera datę rozpoczęcia zadania?",null,null,null,null,null,null,null,null,null,{"$f":"IF(J92=\"nie\",\"!\",\"\")","v":""}]
[]
[null,{"$f":"$B$81","v":"III.A.3."},6,"Czy sprawozdanie z zadania zapewniającego zawiera ustalenia i ocenę według kryteriów przyjętych w programie?",null,null,null,null,null,null,null,null,null,{"$f":"IF(J94=\"nie\",\"!\",\"\")","v":""}]
[]
[null,{"$f":"$B$81","v":"III.A.3."},7,"Czy sprawozdanie z zadania zapewniającego zawiera zalecenia?\n(jeżeli w wyniku przeprowadzonego zadania nie wydano zaleceń, należy wybrać tak i w kolumnie dowód/potwierdzenie należy wpisać nie dotyczy)",null,null,null,null,null,null,null,null,null,{"$f":"IF(J96=\"nie\",\"!\",\"\")","v":""}]
[]
[null,{"$f":"$B$81","v":"III.A.3."},8,"Czy sprawozdanie z zadania zapewniającego zawiera odniesienie się audytora wewnętrznego do zastrzeżeń audytowanego do wstępnych wyników audytu wewnętrznego? \n(jeżeli nie były zgłoszone, należy wybrać tak i w kolumnie dowód/potwierdzenie należy wpisać nie dotyczy)",null,null,null,null,null,null,null,null,null,{"$f":"IF(J98=\"nie\",\"!\",\"\")","v":""}]
[]
[null,{"$f":"$B$81","v":"III.A.3."},9,"Czy sprawozdanie z zadania zapewniającego zawiera ogólną ocenę adekwatności, skuteczności i efektywności kontroli zarządczej w obszarze działalności jednostki objętym zadaniem?",null,null,null,null,null,null,null,null,null,{"$f":"IF(J100=\"nie\",\"!\",\"\")","v":""}]
[]
[null,{"$f":"$B$81","v":"III.A.3."},10,"Czy sprawozdanie z zadania zapewniającego zawiera datę sporządzenia sprawozdania?",null,null,null,null,null,null,null,null,null,{"$f":"IF(J102=\"nie\",\"!\",\"\")","v":""}]
[]
[null,{"$f":"$B$81","v":"III.A.3."},11,"Czy sprawozdanie z zadania zapewniającego zawiera imię i nazwisko audytora wewnętrznego przeprowadzającego zadanie oraz jego podpis? \n(w przypadku zadania zapewniającego realizowanego przez kilku audytorów wewnętrznych sprawozdanie mogą podpisać wszyscy audytorzy wewnętrzni realizujący zadanie albo audytor wewnętrzny odpowiedzialny za realizację tego zadania, wyznaczony przez kierownika komórki audytu spośród audytorów wewnętrznych realizujących zadanie)",null,null,null,null,null,null,null,null,null,{"$f":"IF(J104=\"nie\",\"!\",\"\")","v":""}]
[]
[null,{"$f":"$B$81","v":"III.A.3."},12,"Czy sprawozdanie z zadania zapewniającego jest jasne, zwięzłe, przejrzyste, obiektywne oraz kompletne?  \n(zgodnie ze Standardami przekazane informacje muszą być dokładne, obiektywne, jasne, zwięzłe, konstruktywne, kompletne oraz dostarczone na czas)",null,null,null,null,null,null,null,null,null,{"$f":"IF(J106=\"nie\",\"!\",\"\")","v":""}]
[]
[null,{"$f":"$B$81","v":"III.A.3."},13,"Czy kierownik komórki audytu wewnętrznego/audytor wewnętrzny przekazał sprawozdanie audytowanemu i kierownikowi jednostki?",null,null,null,null,null,null,null,null,null,{"$f":"IF(J108=\"nie\",\"!\",\"\")","v":""}]
[]
[null,{"$f":"$B$81","v":"III.A.3."},14,"Czy kierownik komórki audytu wewnętrznego/audytor wewnętrzny poinformował kierownika jednostki, że przyjęto poziom ryzyka, który może być nie do zaakceptowania dla jednostki? \n(jeżeli była taka potrzeba, w przeciwnym razie należy zaznaczyć tak i w kolumnie dowód/potwierdzenie należy wpisać nie dotyczy)"]
[null,null,null,null,null,null,null,null,null,"tak","nie","% udzielonych odpowiedzi"]
[null,"III.A.4."," Monitoring wdrożenia zaleceń i czynność sprawdzająca",null,null,null,null,null,null,{"$f":"COUNTIF(J115:J121,\"tak\")","v":0},{"$f":"COUNTIF(J115:J121,\"*\")-J112","v":0},{"$f":"COUNTIF(J115:J121,\"*\")/4","v":0}]
[null,null,"rozporządzenie: §20 - §21\nstandardy: 2500",null,null,null,null,null,null,null,null,null,null,null,"NALEŻY WSKAZAĆ ZAKRES ZIDENTYFIKOWANEJ NIEPRAWIDŁOWOŚCI ORAZ ZAPLANOWAĆ I ZREALIZOWAĆ \nDZIAŁANIA KORYGUJĄCE/NAPRAWCZE\nW tym celu proszę wypełnić poniższe komórki.\n"]
[null,null,null,null,null,null,null,null,null,"odpowiedź",null,"dowód/potwierdzenie dla pełnej \nlub częściowej zgodności/komentarz",null,null,"zakres zidentyfikowanej niezgodności\nw przypadku częściowej niezgodności należy wymienić i opisać te elementy, które wymagają działań korygujących/naprawczych",null,"planowane działania korygujące/naprawcze",null,null,null,"termin realizacji"]
[null,{"$f":"$B$112","v":"III.A.4."},1,"Czy audytor wewnętrzny monitorował realizację wydanych i zaakceptowanych do wdrożenia zaleceń?",null,null,null,null,null,null,null,null,null,{"$f":"IF(J115=\"nie\",\"!\",\"\")","v":""}]
[]
[null,{"$f":"$B$112","v":"III.A.4."},2,"Czy audytor wewnętrzny po upływie terminów realizacji zaleceń przeprowadził czynności sprawdzające?\n/jeżeli nie były przeprowadzane czynności sprawdzające, bo nie upłynęły jeszcze terminy realizacji zaleceń należy wybrać tak i w kolumnie dowód napisać nie dotyczy/",null,null,null,null,null,null,null,null,null,{"$f":"IF(J117=\"nie\",\"!\",\"\")","v":""}]
[]
[null,{"$f":"$B$112","v":"III.A.4."},3,"Czy wynik czynności sprawdzających audytor wewnętrzny przedstawił w notatce informacyjnej kierownikowi jednostki i audytowanemu?\n/jeżeli nie były przeprowadzane czynności sprawdzające, bo nie upłynęły jeszcze terminy realizacji zaleceń należy wybrać tak i w kolumnie dowód napisać nie dotyczy/",null,null,null,null,null,null,null,null,null,{"$f":"IF(J119=\"nie\",\"!\",\"\")","v":""}]
[]
[null,{"$f":"$B$112","v":"III.A.4."},4,"Czy system monitorowania wyników audytu jest skuteczny i adekwatny?"]

{"sheet":"III. Realizacja ZZ 8","index":12,"n_rows":121,"n_cols":25,"rows_kept":121,"cut":false,"hidden":true,"merged":[[11,3,11,8],[11,11,11,12],[11,14,14,20],[12,3,12,8],[13,3,13,8],[13,11,13,12],[14,2,14,8],[14,11,14,12],[1,1,1,11],[3,1,6,21],[7,3,7,10],[7,14,7,20],[8,2,9,10],[8,11,9,11],[8,12,9,12],[8,14,10,20],[10,3,10,8],[10,11,10,12],[15,2,15,12],[15,14,15,20],[16,9,16,10],[16,11,16,12],[16,16,16,18],[17,3,17,8],[17,9,17,10],[17,11,17,12],[17,16,17,18],[23,3,23,8],[23,9,23,10],[23,11,23,12],[23,16,23,18],[25,3,25,8],[25,9,25,10],[25,11,25,12],[25,16,25,18],[19,3,19,8],[19,9,19,10],[19,11,19,12],[19,16,19,18],[21,3,21,8],[21,9,21,10],[21,11,21,12],[21,16,21,18],[31,3,31,8],[31,9,31,10],[31,11,31,12],[31,16,31,18],[33,3,33,8],[33,9,33,10],[33,11,33,12],[33,16,33,18],[27,3,27,8],[27,9,27,10],[27,11,27,12],[27,16,27,18],[29,3,29,8],[29,9,29,10],[29,11,29,12],[29,16,29,18],[39,3,39,8],[39,9,39,10],[39,11,39,12],[39,16,39,18],[41,3,41,8],[41,9,41,10],[41,11,41,12],[41,16,41,18],[35,3,35,8],[35,9,35,10],[35,11,35,12],[35,16,35,18],[37,3,37,8],[37,9,37,10],[37,11,37,12],[37,16,37,18],[47,3,47,8],[47,9,47,10],[47,11,47,12],[47,16,47,18],[49,3,49,8],[49,9,49,10],[49,11,49,12],[49,16,49,18],[43,3,43,8],[43,9,43,10],[43,11,43,12],[43,16,43,18],[45,3,45,8],[45,9,45,10],[45,11,45,12],[45,16,45,18],[54,11,54,12],[55,2,55,8],[55,11,55,12],[56,2,56,12],[56,14,56,20],[57,9,57,10],[57,11,57,12],[57,16,57,18],[51,3,51,8],[51,9,51,10],[51,11,51,12],[51,16,51,18],[53,3,53,8],[53,9,53,10],[53,11,53,12],[53,16,53,18],[62,3,62,8],[62,9,62,10],[62,11,62,12],[62,16,62,18],[64,3,64,8],[64,9,64,10],[64,11,64,12],[64,16,64,18],[58,3,58,8],[58,9,58,10],[58,11,58,12],[58,16,58,18],[60,3,60,8],[60,9,60,10],[60,11,60,12],[60,16,60,18],[70,3,70,8],[70,9,70,10],[70,11,70,12],[70,16,70,18],[72,3,72,8],[72,9,72,10],[72,11,72,12],[72,16,72,18],[66,3,66,8],[66,9,66,10],[66,11,66,12],[66,16,66,18],[68,3,68,8],[68,9,68,10],[68,11,68,12],[68,16,68,18],[78,3,78,8],[78,9,78,10],[78,11,78,12],[78,16,78,18],[79,11,79,12],[80,2,80,8],[80,11,80,12],[74,3,74,8],[74,9,74,10],[74,11,74,12],[74,16,74,18],[76,3,76,8],[76,9,76,10],[76,11,76,12],[76,16,76,18],[81,2,81,12],[81,14,81,20],[82,9,82,10],[82,11,82,12],[82,16,82,18],[83,3,83,8],[83,9,83,10],[83,11,83,12],[83,16,83,18],[89,3,89,8],[89,9,89,10],[89,11,89,12],[89,16,89,18],[91,3,91,8],[91,9,91,10],[91,11,91,12],[91,16,91,18],[85,3,85,8],[85,9,85,10],[85,11,85,12],[85,16,85,18],[87,3,87,8],[87,9,87,10],[87,11,87,12],[87,16,87,18],[97,3,97,8],[97,9,97,10],[97,11,97,12],[97,16,97,18],[99,3,99,8],[99,9,99,10],[99,11,99,12],[99,16,99,18],[93,3,93,8],[93,9,93,10],[93,11,93,12],[93,16,93,18],[95,3,95,8],[95,9,95,10],[95,11,95,12],[95,16,95,18],[105,3,105,8],[105,9,105,10],[105,11,105,12],[105,16,105,18],[107,3,107,8],[107,9,107,10],[107,11,107,12],[107,16,107,18],[101,3,101,8],[101,9,101,10],[101,11,101,12],[101,16,101,18],[103,3,103,8],[103,9,103,10],[103,11,103,12],[103,16,103,18],[110,11,110,12],[111,2,111,8],[111,11,111,12],[112,2,112,12],[112,14,112,20],[113,9,113,10],[113,11,113,12],[113,16,113,18],[109,3,109,8],[109,9,109,10],[109,11,109,12],[109,16,109,18],[118,3,118,8],[118,9,118,10],[118,11,118,12],[118,16,118,18],[120,3,120,8],[120,9,120,10],[120,11,120,12],[120,16,120,18],[114,3,114,8],[114,9,114,10],[114,11,114,12],[114,16,114,18],[116,3,116,8],[116,9,116,10],[116,11,116,12],[116,16,116,18]]}
[]
[]
[]
[null,"Quality @w "]
[]
[]
[]
[null,null,null,null,null,null,null,null,null,null,null,null,null,"data rozpoczęcia wypełniania niniejszego arkusza","liczba uzyskanych punktów w bloku tematycznym"]
[null,null,{"$f":"'Strona tytułowa'!$H$16","v":0},null,null,null,null,null,null,null,null,{"$f":"'Strona tytułowa'!$F$16","v":0},{"$f":"'Strona tytułowa'!$B$2","v":"ver.2.0.2018"},null,{"$f":"J12","v":0}]
[null,null,null,null,null,null,null,null,null,null,null,null,null,null,null,null,null,null,null,null,null,null,null,null,{"$f":"J12+K12","v":0}]
[null,null,null,"blok tematyczny",null,null,null,null,null,"tak","nie","% udzielonych odpowiedzi"]
[null,null,"III.A","REALIZACJA ZADAŃ AUDYTOWYCH - ZADANIE ZAPEWNIAJĄCE",null,null,null,null,null,{"$f":"J15+J56+J81+J112","v":0},{"$f":"K15+K56+K81+K112","v":0},{"$f":"(J12+K12)/48","v":0},null,{"$f":"COUNTIF(N18:N121,\"!\")","v":0},"0                                                                                                                                                                                                                                                                                                              49 "]
[null,null,null,"temat zadania",null,null,null,null,null,{"$f":"J12/(J12+K12)","v":{"$error":"#DIV/0!"}},{"$f":"K12/(K12+J12)","v":{"$error":"#DIV/0!"}}]
[null,null,null,null,null,null,null,null,null,"ER5HYN","nie","% udzielonych odpowiedzi",null,"niezgodność z przepisami"]
[null,"III.A.1.","Przygotowanie i programowanie zadania zapewniającego",null,null,null,null,null,null,{"$f":"COUNTIF(J18:J54,\"tak\")","v":0},{"$f":"COUNTIF(J18:J54,\"*\")-J15","v":0},{"$f":"COUNTIF(J18:J54,\"*\")/19","v":0}]
[null,null,"rozporządzenie: §13 - §16.\nstandardy: 2050; 2200; 2201; 2210; 2220; 2230;2240",null,null,null,null,null,null,null,null,null,null,null,"NALEŻY WSKAZAĆ ZAKRES ZIDENTYFIKOWANEJ NIEPRAWIDŁOWOŚCI ORAZ ZAPLANOWAĆ I ZREALIZOWAĆ \nDZIAŁANIA KORYGUJĄCE/NAPRAWCZE\nW tym celu proszę wypełnić poniższe komórki.\n"]
[null,null,null,null,null,null,null,null,null,"odpowiedź",null,"dowód/potwierdzenie dla pełnej \nlub częściowej zgodności/komentarz",null,null,"zakres zidentyfikowanej niezgodności\nw przypadku częściowej niezgodności należy wymienić i opisać te elementy, które wymagają działań korygujących/naprawczych",null,"planowane działania korygujące/naprawcze",null,null,null,"termin realizacji"]
[null,{"$f":"$B$15","v":"III.A.1."},1,"Czy kierownik komórki audytu wewnętrznego/audytor wewnętrzny poinformował audytowanego o planowanej realizacji zadania?",null,null,null,null,null,null,null,null,null,{"$f":"IF(J18=\"nie\",\"!\",\"\")","v":""}]
[]
[null,{"$f":"$B$15","v":"III.A.1."},2,"Czy rozpoczynając realizację zadania zapewniającego audytor wewnętrzny przeprowadził przegląd wstępny?",null,null,null,null,null,null,null,null,null,{"$f":"IF(J20=\"nie\",\"!\",\"\")","v":""}]
[]
[null,{"$f":"$B$15","v":"III.A.1."},3,"Czy przegląd wstępny obejmował zapoznanie się z celami i obszarem działalności jednostki, w którym zostało zrealizowane zadanie?",null,null,null,null,null,null,null,null,null,{"$f":"IF(J22=\"nie\",\"!\",\"\")","v":""}]
[null,null,null,null,null,null,null,null,null,null,null,null,null,null,"w"]
[null,{"$f":"$B$15","v":"III.A.1."},4,"Czy przegląd wstępny obejmował dokonanie identyfikacji i oceny ryzyka, po uwzględnieniu istniejących mechanizmów kontrolnych?",null,null,null,null,null,null,null,null,null,{"$f":"IF(J24=\"nie\",\"!\",\"\")","v":""}]
[]
[null,{"$f":"$B$15","v":"III.A.1."},5,"Czy przegląd wstępny obejmował uzgodnienie z audytowanym kryteriów oceny mechanizmów kontrolnych w obszarze działalności jednostki objętym zadaniem lub \nw przypadku braku uzgodnienia kryteriów z audytowanym kryteria zostały uzgodnione \nz kierownikiem jednostki?",null,null,null,null,null,null,null,null,null,{"$f":"IF(J26=\"nie\",\"!\",\"\")","v":""}]
[]
[null,{"$f":"$B$15","v":"III.A.1."},6,"Czy audytor wewnętrzny przygotował program zadania zapewniającego?",null,null,null,null,null,null,null,null,null,{"$f":"IF(J28=\"nie\",\"!\",\"\")","v":""}]
[]
[null,{"$f":"$B$15","v":"III.A.1."},7,"Czy program zadania zapewniającego uwzględniał wynik przeglądu wstępnego?",null,null,null,null,null,null,null,null,null,{"$f":"IF(J30=\"nie\",\"!\",\"\")","v":""}]
[]
[null,{"$f":"$B$15","v":"III.A.1."},8,"Czy program zadania zapewniającego uwzględniał uwagi kierownika jednostki \ni audytowanego?",null,null,null,null,null,null,null,null,null,{"$f":"IF(J32=\"nie\",\"!\",\"\")","v":""}]
[]
[null,{"$f":"$B$15","v":"III.A.1."},9,"Czy program zadania zapewniającego uwzględniał zasoby niezbędne do przeprowadzenia zadania, w tym ewentualną potrzebę uzyskania pomocy eksperta?",null,null,null,null,null,null,null,null,null,{"$f":"IF(J34=\"nie\",\"!\",\"\")","v":""}]
[]
[null,{"$f":"$B$15","v":"III.A.1."},10,"Czy program zadania zapewniającego uwzględniał przewidywany czas trwania zadania?",null,null,null,null,null,null,null,null,null,{"$f":"IF(J36=\"nie\",\"!\",\"\")","v":""}]
[]
[null,{"$f":"$B$15","v":"III.A.1."},11,"Czy program zadania zapewniającego określał temat zadania?",null,null,null,null,null,null,null,null,null,{"$f":"IF(J38=\"nie\",\"!\",\"\")","v":""}]
[]
[null,{"$f":"$B$15","v":"III.A.1."},12,"Czy program zadania zapewniającego określał cel zadania?",null,null,null,null,null,null,null,null,null,{"$f":"IF(J40=\"nie\",\"!\",\"\")","v":""}]
[]
[null,{"$f":"$B$15","v":"III.A.1."},13,"Czy program zadania zapewniającego określał zakres podmiotowy i przedmiotowy zadania?",null,null,null,null,null,null,null,null,null,{"$f":"IF(J42=\"nie\",\"!\",\"\")","v":""}]
[]
[null,{"$f":"$B$15","v":"III.A.1."},14,"Czy program zadania zapewniającego określał istotne ryzyka w obszarze działalności jednostki objętym zadaniem?",null,null,null,null,null,null,null,null,null,{"$f":"IF(J44=\"nie\",\"!\",\"\")","v":""}]
[]
[null,{"$f":"$B$15","v":"III.A.1."},15,"Czy program zadania zapewniającego określał sposób zrealizowania zadania, w szczególności opis doboru próby do badania oraz technik badania?",null,null,null,null,null,null,null,null,null,{"$f":"IF(J46=\"nie\",\"!\",\"\")","v":""}]
[]
[null,{"$f":"$B$15","v":"III.A.1."},16,"Czy program zadania zapewniającego zawierał uzgodnione kryteria oceny?",null,null,null,null,null,null,null,null,null,{"$f":"IF(J48=\"nie\",\"!\",\"\")","v":""}]
[]
[null,{"$f":"$B$15","v":"III.A.1."},17,"Czy program zadania zapewniającego zawierał datę rozpoczęcia i zakończenia zadania?",null,null,null,null,null,null,null,null,null,{"$f":"IF(J50=\"nie\",\"!\",\"\")","v":""}]
[]
[null,{"$f":"$B$15","v":"III.A.1."},18,"Czy program zadania zapewniającego zatwierdził kierownik komórki audytu wewnętrznego/audytor wewnętrzny?",null,null,null,null,null,null,null,null,null,{"$f":"IF(J52=\"nie\",\"!\",\"\")","v":""}]
[]
[null,{"$f":"$B$15","v":"III.A.1."},19,"Czy kierownik komórki audytu wewnętrznego w celu zapewnienia odpowiedniego zakresu audytu oraz niepowielania pracy korzystał z informacji i koordynował działania wewnętrznych i zewnętrznych wykonawców usług doradczych i zapewniających?"]
[null,null,null,null,null,null,null,null,null,"tak","nie","% udzielonych odpowiedzi"]
[null,"III.A.2.","Realizacja zadania zapewniającego ",null,null,null,null,null,null,{"$f":"COUNTIF(J59:J79,\"tak\")","v":0},{"$f":"COUNTIF(J59:J79,\"*\")-J56","v":0},{"$f":"COUNTIF(J59:J79,\"*\")/11","v":0}]
[null,null,"ustawa: art. 273 ust. 2; art. 280; art. 282 ust.2 i 282 ust.3\nrozporządzenie: §4 ust. 1; §16 ust. 2; §16 ust. 3\nstandardy: 1130; 2000; 2100; 2300; 2310; 2320; 2330; 2340",null,null,null,null,null,null,null,null,null,null,null,"NALEŻY WSKAZAĆ ZAKRES ZIDENTYFIKOWANEJ NIEPRAWIDŁOWOŚCI ORAZ ZAPLANOWAĆ I ZREALIZOWAĆ \nDZIAŁANIA KORYGUJĄCE/NAPRAWCZE\nW tym celu proszę wypełnić poniższe komórki.\n"]
[null,null,null,null,null,null,null,null,null,"odpowiedź",null,"dowód/potwierdzenie dla pełnej \nlub częściowej zgodności/komentarz",null,null,"zakres zidentyfikowanej niezgodności\nw przypadku częściowej niezgodności należy wymienić i opisać te elementy, które wymagają działań korygujących/naprawczych",null,"planowane działania korygujące/naprawcze",null,null,null,"termin realizacji"]
[null,{"$f":"$B$56","v":"III.A.2."},1,"W trakcie realizacji zadania nie wystąpił przypadek ograniczenia audytorowi prawa wstępu do pomieszczeń jednostki lub prawa do wglądu do dokumentów, informacji i danych oraz do innych materiałów związanych z funkcjonowaniem jednostki?",null,null,null,null,null,null,null,null,null,{"$f":"IF(J59=\"nie\",\"!\",\"\")","v":""}]
[]
[null,{"$f":"$B$59","v":"III.A.2."},2,"W trakcie realizacji zadania nie wystąpił przypadek by pracownicy jednostki nie udzielili informacji i wyjaśnień, a także by nie sporządzili i nie potwierdzili kopii, odpisów, wyciągów lub zestawień, na potrzeby realizacji zadań przez audytora wewnętrznego?",null,null,null,null,null,null,null,null,null,{"$f":"IF(J61=\"nie\",\"!\",\"\")","v":""}]
[]
[null,{"$f":"$B$59","v":"III.A.2."},3,"Czy kierownik komórki audytu wewnętrznego miał bezpośredni dostęp do kierownika jednostki, a w urzędzie administracji rządowej, w którym tworzy się stanowisko dyrektora generalnego urzędu do dyrektora generalnego w zakresie określonym odrębnymi ustawami na każdym etapie realizacji zadania zapewniającego?",null,null,null,null,null,null,null,null,null,{"$f":"IF(J63=\"nie\",\"!\",\"\")","v":""}]
[]
[null,{"$f":"$B$59","v":"III.A.2."},4,"Czy audytor wewnętrzny realizując zadanie zapewniające kierował się wskazówkami zawartymi w standardach audytu wewnętrznego, o których mowa w art. 273 ust. 1 ustawy?",null,null,null,null,null,null,null,null,null,{"$f":"IF(J65=\"nie\",\"!\",\"\")","v":""}]
[]
[null,{"$f":"$B$59","v":"III.A.2."},5,"Czy w  trakcie realizacji zadania zapewniono warunki niezbędne do niezależnego, obiektywnego i efektywnego prowadzenia audytu wewnętrznego?",null,null,null,null,null,null,null,null,null,{"$f":"IF(J67=\"nie\",\"!\",\"\")","v":""}]
[]
[null,{"$f":"$B$59","v":"III.A.2."},6,"Czy audyt wewnętrzny był przeprowadzany na podstawie pisemnego upoważnienia kierownika jednostki?",null,null,null,null,null,null,null,null,null,{"$f":"IF(J69=\"nie\",\"!\",\"\")","v":""}]
[]
[null,{"$f":"$B$59","v":"III.A.2."},7,"Czy w trakcie realizacji zadania zapewniającego dokonywano udokumentowanych zmian w programie zadania zapewniającego, a zmiany te zostały zaakceptowane przez kierownika komórki audytu wewnętrznego?  \n(jeżeli nie dokonywano zmiany programu, należy zaznaczyć tak i w kolumnie dowód/potwierdzenie wpisać nie dotyczy)",null,null,null,null,null,null,null,null,null,{"$f":"IF(J71=\"nie\",\"!\",\"\")","v":""}]
[]
[null,{"$f":"$B$59","v":"III.A.2."},8,"Czy w trakcie realizacji zadania zebrano informacje, które są wystarczające, wiarygodne i przydatne do osiągnięcia jego celów, a wnioski i wyniki zadania opierały się na odpowiednich i udokumentowanych analizach i ocenach?"]
[]
[null,{"$f":"$B$59","v":"III.A.2."},9,"Czy audyt wewnętrzny przez realizację zadania dokonał oceny adekwatności, skuteczności i efektywności kontroli zarządczej oraz przyczynił się do jej usprawnienia? \n(w przypadku, gdy audytor dokonał oceny ale nie wydał zaleceń należy w rubryce dowód/potwierdzenie opisać potwierdzenie wydania oceny i dodać adnotację brak zaleceń)",null,null,null,null,null,null,null,null,null,{"$f":"IF(J75=\"nie\",\"!\",\"\")","v":""}]
[]
[null,{"$f":"$B$59","v":"III.A.2."},10,"Czy zadanie zostało zrealizowane zgodnie z zakresem przedmiotowym i podmiotowym oraz czy został osiągnięty cel zadania?"]
[]
[null,{"$f":"$B$59","v":"III.A.2."},11,"Czy audytor wewnętrzny zebrał, analizował, oceniał i dokumentował informacje wystarczające do osiągnięcia celu zadania?"]
[null,null,null,null,null,null,null,null,null,"tak","nie","% udzielonych odpowiedzi"]
[null,"III.A.3."," Opracowanie, uzgadnianie i dystrybucja wyników zadania zapewniającego",null,null,null,null,null,null,{"$f":"COUNTIF(J84:J110,\"tak\")","v":0},{"$f":"COUNTIF(J84:J110,\"*\")-J81","v":0},{"$f":"COUNTIF(J84:J110,\"*\")/14","v":0}]
[null,null,"rozporządzenie: §17 - §19\nstandardy: 2400; 2600",null,null,null,null,null,null,null,null,null,null,null,"NALEŻY WSKAZAĆ ZAKRES ZIDENTYFIKOWANEJ NIEPRAWIDŁOWOŚCI ORAZ ZAPLANOWAĆ I ZREALIZOWAĆ \nDZIAŁANIA KORYGUJĄCE/NAPRAWCZE\nW tym celu proszę wypełnić poniższe komórki.\n"]
[null,null,null,null,null,null,null,null,null,"odpowiedź",null,"dowód/potwierdzenie dla pełnej \nlub częściowej zgodności/komentarz",null,null,"zakres zidentyfikowanej niezgodności\nw przypadku częściowej niezgodności należy wymienić i opisać te elementy, które wymagają działań korygujących/naprawczych",null,"planowane działania korygujące/naprawcze",null,null,null,"termin realizacji"]
[null,{"$f":"$B$81","v":"III.A.3."},1,"Czy audytor wewnętrzny po przeprowadzeniu czynności audytowych uzgodnił pisemnie \nz audytowanym wstępne wyniki audytu wewnętrznego, w tym w szczególności ustalenia \ni propozycje zaleceń lub przeprowadził naradę zamykającą?\n(w przypadku nieuzgodnienia wstępnych wyników audytu wewnętrznego czy audytowany mógł zgłosić pisemne zastrzeżenia, w terminie określonym przez audytora wewnętrznego, nie krótszym niż 7 dni kalendarzowych od dnia poinformowania audytowanego o wstępnych wynikach)",null,null,null,null,null,null,null,null,null,{"$f":"IF(J84=\"nie\",\"!\",\"\")","v":""}]
[]
[null,{"$f":"$B$81","v":"III.A.3."},2,"Czy audytor wewnętrzny, po uzgodnieniu wstępnych wyników audytu wewnętrznego lub po wniesieniu zastrzeżeń przez audytowanego sporządził sprawozdanie z zadania zapewniającego?",null,null,null,null,null,null,null,null,null,{"$f":"IF(J86=\"nie\",\"!\",\"\")","v":""}]
[]
[null,{"$f":"$B$81","v":"III.A.3."},3,"Czy sprawozdanie z zadania zapewniającego zawiera temat i cel zadania?",null,null,null,null,null,null,null,null,null,{"$f":"IF(J88=\"nie\",\"!\",\"\")","v":""}]
[]
[null,{"$f":"$B$81","v":"III.A.3."},4,"Czy sprawozdanie z zadania zapewniającego zawiera zakres podmiotowy i przedmiotowy zadania?",null,null,null,null,null,null,null,null,null,{"$f":"IF(J90=\"nie\",\"!\",\"\")","v":""}]
[]
[null,{"$f":"$B$81","v":"III.A.3."},5,"Czy sprawozdanie z zadania zapewniającego zawiera datę rozpoczęcia zadania?",null,null,null,null,null,null,null,null,null,{"$f":"IF(J92=\"nie\",\"!\",\"\")","v":""}]
[]
[null,{"$f":"$B$81","v":"III.A.3."},6,"Czy sprawozdanie z zadania zapewniającego zawiera ustalenia i ocenę według kryteriów przyjętych w programie?",null,null,null,null,null,null,null,null,null,{"$f":"IF(J94=\"nie\",\"!\",\"\")","v":""}]
[]
[null,{"$f":"$B$81","v":"III.A.3."},7,"Czy sprawozdanie z zadania zapewniającego zawiera zalecenia?\n(jeżeli w wyniku przeprowadzonego zadania nie wydano zaleceń, należy wybrać tak i w kolumnie dowód/potwierdzenie należy wpisać nie dotyczy)",null,null,null,null,null,null,null,null,null,{"$f":"IF(J96=\"nie\",\"!\",\"\")","v":""}]
[]
[null,{"$f":"$B$81","v":"III.A.3."},8,"Czy sprawozdanie z zadania zapewniającego zawiera odniesienie się audytora wewnętrznego do zastrzeżeń audytowanego do wstępnych wyników audytu wewnętrznego? \n(jeżeli nie były zgłoszone, należy wybrać tak i w kolumnie dowód/potwierdzenie należy wpisać nie dotyczy)",null,null,null,null,null,null,null,null,null,{"$f":"IF(J98=\"nie\",\"!\",\"\")","v":""}]
[]
[null,{"$f":"$B$81","v":"III.A.3."},9,"Czy sprawozdanie z zadania zapewniającego zawiera ogólną ocenę adekwatności, skuteczności i efektywności kontroli zarządczej w obszarze działalności jednostki objętym zadaniem?",null,null,null,null,null,null,null,null,null,{"$f":"IF(J100=\"nie\",\"!\",\"\")","v":""}]
[]
[null,{"$f":"$B$81","v":"III.A.3."},10,"Czy sprawozdanie z zadania zapewniającego zawiera datę sporządzenia sprawozdania?",null,null,null,null,null,null,null,null,null,{"$f":"IF(J102=\"nie\",\"!\",\"\")","v":""}]
[]
[null,{"$f":"$B$81","v":"III.A.3."},11,"Czy sprawozdanie z zadania zapewniającego zawiera imię i nazwisko audytora wewnętrznego przeprowadzającego zadanie oraz jego podpis? \n(w przypadku zadania zapewniającego realizowanego przez kilku audytorów wewnętrznych sprawozdanie mogą podpisać wszyscy audytorzy wewnętrzni realizujący zadanie albo audytor wewnętrzny odpowiedzialny za realizację tego zadania, wyznaczony przez kierownika komórki audytu spośród audytorów wewnętrznych realizujących zadanie)",null,null,null,null,null,null,null,null,null,{"$f":"IF(J104=\"nie\",\"!\",\"\")","v":""}]
[]
[null,{"$f":"$B$81","v":"III.A.3."},12,"Czy sprawozdanie z zadania zapewniającego jest jasne, zwięzłe, przejrzyste, obiektywne oraz kompletne?  \n(zgodnie ze Standardami przekazane informacje muszą być dokładne, obiektywne, jasne, zwięzłe, konstruktywne, kompletne oraz dostarczone na czas)",null,null,null,null,null,null,null,null,null,{"$f":"IF(J106=\"nie\",\"!\",\"\")","v":""}]
[]
[null,{"$f":"$B$81","v":"III.A.3."},13,"Czy kierownik komórki audytu wewnętrznego/audytor wewnętrzny przekazał sprawozdanie audytowanemu i kierownikowi jednostki?",null,null,null,null,null,null,null,null,null,{"$f":"IF(J108=\"nie\",\"!\",\"\")","v":""}]
[]
[null,{"$f":"$B$81","v":"III.A.3."},14,"Czy kierownik komórki audytu wewnętrznego/audytor wewnętrzny poinformował kierownika jednostki, że przyjęto poziom ryzyka, który może być nie do zaakceptowania dla jednostki? \n(jeżeli była taka potrzeba, w przeciwnym razie należy zaznaczyć tak i w kolumnie dowód/potwierdzenie należy wpisać nie dotyczy)"]
[null,null,null,null,null,null,null,null,null,"tak","nie","% udzielonych odpowiedzi"]
[null,"III.A.4."," Monitoring wdrożenia zaleceń i czynność sprawdzająca",null,null,null,null,null,null,{"$f":"COUNTIF(J115:J121,\"tak\")","v":0},{"$f":"COUNTIF(J115:J121,\"*\")-J112","v":0},{"$f":"COUNTIF(J115:J121,\"*\")/4","v":0}]
[null,null,"rozporządzenie: §20 - §21\nstandardy: 2500",null,null,null,null,null,null,null,null,null,null,null,"NALEŻY WSKAZAĆ ZAKRES ZIDENTYFIKOWANEJ NIEPRAWIDŁOWOŚCI ORAZ ZAPLANOWAĆ I ZREALIZOWAĆ \nDZIAŁANIA KORYGUJĄCE/NAPRAWCZE\nW tym celu proszę wypełnić poniższe komórki.\n"]
[null,null,null,null,null,null,null,null,null,"odpowiedź",null,"dowód/potwierdzenie dla pełnej \nlub częściowej zgodności/komentarz",null,null,"zakres zidentyfikowanej niezgodności\nw przypadku częściowej niezgodności należy wymienić i opisać te elementy, które wymagają działań korygujących/naprawczych",null,"planowane działania korygujące/naprawcze",null,null,null,"termin realizacji"]
[null,{"$f":"$B$112","v":"III.A.4."},1,"Czy audytor wewnętrzny monitorował realizację wydanych i zaakceptowanych do wdrożenia zaleceń?",null,null,null,null,null,null,null,null,null,{"$f":"IF(J115=\"nie\",\"!\",\"\")","v":""}]
[]
[null,{"$f":"$B$112","v":"III.A.4."},2,"Czy audytor wewnętrzny po upływie terminów realizacji zaleceń przeprowadził czynności sprawdzające?\n/jeżeli nie były przeprowadzane czynności sprawdzające, bo nie upłynęły jeszcze terminy realizacji zaleceń należy wybrać tak i w kolumnie dowód napisać nie dotyczy/",null,null,null,null,null,null,null,null,null,{"$f":"IF(J117=\"nie\",\"!\",\"\")","v":""}]
[]
[null,{"$f":"$B$112","v":"III.A.4."},3,"Czy wynik czynności sprawdzających audytor wewnętrzny przedstawił w notatce informacyjnej kierownikowi jednostki i audytowanemu?\n/jeżeli nie były przeprowadzane czynności sprawdzające, bo nie upłynęły jeszcze terminy realizacji zaleceń należy wybrać tak i w kolumnie dowód napisać nie dotyczy/",null,null,null,null,null,null,null,null,null,{"$f":"IF(J119=\"nie\",\"!\",\"\")","v":""}]
[]
[null,{"$f":"$B$112","v":"III.A.4."},4,"Czy system monitorowania wyników audytu jest skuteczny i adekwatny?"]

{"sheet":"III. Realizacja ZZ 9","index":13,"n_rows":121,"n_cols":25,"rows_kept":121,"cut":false,"hidden":true,"merged":[[11,3,11,8],[11,11,11,12],[11,14,14,20],[12,3,12,8],[13,3,13,8],[13,11,13,12],[14,2,14,8],[14,11,14,12],[1,1,1,11],[3,1,6,21],[7,3,7,10],[7,14,7,20],[8,2,9,10],[8,11,9,11],[8,12,9,12],[8,14,10,20],[10,3,10,8],[10,11,10,12],[15,2,15,12],[15,14,15,20],[16,9,16,10],[16,11,16,12],[16,16,16,18],[17,3,17,8],[17,9,17,10],[17,11,17,12],[17,16,17,18],[23,3,23,8],[23,9,23,10],[23,11,23,12],[23,16,23,18],[25,3,25,8],[25,9,25,10],[25,11,25,12],[25,16,25,18],[19,3,19,8],[19,9,19,10],[19,11,19,12],[19,16,19,18],[21,3,21,8],[21,9,21,10],[21,11,21,12],[21,16,21,18],[31,3,31,8],[31,9,31,10],[31,11,31,12],[31,16,31,18],[33,3,33,8],[33,9,33,10],[33,11,33,12],[33,16,33,18],[27,3,27,8],[27,9,27,10],[27,11,27,12],[27,16,27,18],[29,3,29,8],[29,9,29,10],[29,11,29,12],[29,16,29,18],[39,3,39,8],[39,9,39,10],[39,11,39,12],[39,16,39,18],[41,3,41,8],[41,9,41,10],[41,11,41,12],[41,16,41,18],[35,3,35,8],[35,9,35,10],[35,11,35,12],[35,16,35,18],[37,3,37,8],[37,9,37,10],[37,11,37,12],[37,16,37,18],[47,3,47,8],[47,9,47,10],[47,11,47,12],[47,16,47,18],[49,3,49,8],[49,9,49,10],[49,11,49,12],[49,16,49,18],[43,3,43,8],[43,9,43,10],[43,11,43,12],[43,16,43,18],[45,3,45,8],[45,9,45,10],[45,11,45,12],[45,16,45,18],[54,11,54,12],[55,2,55,8],[55,11,55,12],[56,2,56,12],[56,14,56,20],[57,9,57,10],[57,11,57,12],[57,16,57,18],[51,3,51,8],[51,9,51,10],[51,11,51,12],[51,16,51,18],[53,3,53,8],[53,9,53,10],[53,11,53,12],[53,16,53,18],[62,3,62,8],[62,9,62,10],[62,11,62,12],[62,16,62,18],[64,3,64,8],[64,9,64,10],[64,11,64,12],[64,16,64,18],[58,3,58,8],[58,9,58,10],[58,11,58,12],[58,16,58,18],[60,3,60,8],[60,9,60,10],[60,11,60,12],[60,16,60,18],[70,3,70,8],[70,9,70,10],[70,11,70,12],[70,16,70,18],[72,3,72,8],[72,9,72,10],[72,11,72,12],[72,16,72,18],[66,3,66,8],[66,9,66,10],[66,11,66,12],[66,16,66,18],[68,3,68,8],[68,9,68,10],[68,11,68,12],[68,16,68,18],[78,3,78,8],[78,9,78,10],[78,11,78,12],[78,16,78,18],[79,11,79,12],[80,2,80,8],[80,11,80,12],[74,3,74,8],[74,9,74,10],[74,11,74,12],[74,16,74,18],[76,3,76,8],[76,9,76,10],[76,11,76,12],[76,16,76,18],[81,2,81,12],[81,14,81,20],[82,9,82,10],[82,11,82,12],[82,16,82,18],[83,3,83,8],[83,9,83,10],[83,11,83,12],[83,16,83,18],[89,3,89,8],[89,9,89,10],[89,11,89,12],[89,16,89,18],[91,3,91,8],[91,9,91,10],[91,11,91,12],[91,16,91,18],[85,3,85,8],[85,9,85,10],[85,11,85,12],[85,16,85,18],[87,3,87,8],[87,9,87,10],[87,11,87,12],[87,16,87,18],[97,3,97,8],[97,9,97,10],[97,11,97,12],[97,16,97,18],[99,3,99,8],[99,9,99,10],[99,11,99,12],[99,16,99,18],[93,3,93,8],[93,9,93,10],[93,11,93,12],[93,16,93,18],[95,3,95,8],[95,9,95,10],[95,11,95,12],[95,16,95,18],[105,3,105,8],[105,9,105,10],[105,11,105,12],[105,16,105,18],[107,3,107,8],[107,9,107,10],[107,11,107,12],[107,16,107,18],[101,3,101,8],[101,9,101,10],[101,11,101,12],[101,16,101,18],[103,3,103,8],[103,9,103,10],[103,11,103,12],[103,16,103,18],[110,11,110,12],[111,2,111,8],[111,11,111,12],[112,2,112,12],[112,14,112,20],[113,9,113,10],[113,11,113,12],[113,16,113,18],[109,3,109,8],[109,9,109,10],[109,11,109,12],[109,16,109,18],[118,3,118,8],[118,9,118,10],[118,11,118,12],[118,16,118,18],[120,3,120,8],[120,9,120,10],[120,11,120,12],[120,16,120,18],[114,3,114,8],[114,9,114,10],[114,11,114,12],[114,16,114,18],[116,3,116,8],[116,9,116,10],[116,11,116,12],[116,16,116,18]]}
[]
[]
[]
[null,"Quality @w "]
[]
[]
[]
[null,null,null,null,null,null,null,null,null,null,null,null,null,"data rozpoczęcia wypełniania niniejszego arkusza","liczba uzyskanych punktów w bloku tematycznym"]
[null,null,{"$f":"'Strona tytułowa'!$H$16","v":0},null,null,null,null,null,null,null,null,{"$f":"'Strona tytułowa'!$F$16","v":0},{"$f":"'Strona tytułowa'!$B$2","v":"ver.2.0.2018"},null,{"$f":"J12","v":0}]
[null,null,null,null,null,null,null,null,null,null,null,null,null,null,null,null,null,null,null,null,null,null,null,null,{"$f":"J12+K12","v":0}]
[null,null,null,"blok tematyczny",null,null,null,null,null,"tak","nie","% udzielonych odpowiedzi"]
[null,null,"III.A","REALIZACJA ZADAŃ AUDYTOWYCH - ZADANIE ZAPEWNIAJĄCE",null,null,null,null,null,{"$f":"J15+J56+J81+J112","v":0},{"$f":"K15+K56+K81+K112","v":0},{"$f":"(J12+K12)/48","v":0},null,{"$f":"COUNTIF(N18:N121,\"!\")","v":0},"0                                                                                                                                                                                                                                                                                                              49 "]
[null,null,null,"temat zadania",null,null,null,null,null,{"$f":"J12/(J12+K12)","v":{"$error":"#DIV/0!"}},{"$f":"K12/(K12+J12)","v":{"$error":"#DIV/0!"}}]
[null,null,null,null,null,null,null,null,null,"ER5HYN","nie","% udzielonych odpowiedzi",null,"niezgodność z przepisami"]
[null,"III.A.1.","Przygotowanie i programowanie zadania zapewniającego",null,null,null,null,null,null,{"$f":"COUNTIF(J18:J54,\"tak\")","v":0},{"$f":"COUNTIF(J18:J54,\"*\")-J15","v":0},{"$f":"COUNTIF(J18:J54,\"*\")/19","v":0}]
[null,null,"rozporządzenie: §13 - §16.\nstandardy: 2050; 2200; 2201; 2210; 2220; 2230;2240",null,null,null,null,null,null,null,null,null,null,null,"NALEŻY WSKAZAĆ ZAKRES ZIDENTYFIKOWANEJ NIEPRAWIDŁOWOŚCI ORAZ ZAPLANOWAĆ I ZREALIZOWAĆ \nDZIAŁANIA KORYGUJĄCE/NAPRAWCZE\nW tym celu proszę wypełnić poniższe komórki.\n"]
[null,null,null,null,null,null,null,null,null,"odpowiedź",null,"dowód/potwierdzenie dla pełnej \nlub częściowej zgodności/komentarz",null,null,"zakres zidentyfikowanej niezgodności\nw przypadku częściowej niezgodności należy wymienić i opisać te elementy, które wymagają działań korygujących/naprawczych",null,"planowane działania korygujące/naprawcze",null,null,null,"termin realizacji"]
[null,{"$f":"$B$15","v":"III.A.1."},1,"Czy kierownik komórki audytu wewnętrznego/audytor wewnętrzny poinformował audytowanego o planowanej realizacji zadania?",null,null,null,null,null,null,null,null,null,{"$f":"IF(J18=\"nie\",\"!\",\"\")","v":""}]
[]
[null,{"$f":"$B$15","v":"III.A.1."},2,"Czy rozpoczynając realizację zadania zapewniającego audytor wewnętrzny przeprowadził przegląd wstępny?",null,null,null,null,null,null,null,null,null,{"$f":"IF(J20=\"nie\",\"!\",\"\")","v":""}]
[]
[null,{"$f":"$B$15","v":"III.A.1."},3,"Czy przegląd wstępny obejmował zapoznanie się z celami i obszarem działalności jednostki, w którym zostało zrealizowane zadanie?",null,null,null,null,null,null,null,null,null,{"$f":"IF(J22=\"nie\",\"!\",\"\")","v":""}]
[null,null,null,null,null,null,null,null,null,null,null,null,null,null,"w"]
[null,{"$f":"$B$15","v":"III.A.1."},4,"Czy przegląd wstępny obejmował dokonanie identyfikacji i oceny ryzyka, po uwzględnieniu istniejących mechanizmów kontrolnych?",null,null,null,null,null,null,null,null,null,{"$f":"IF(J24=\"nie\",\"!\",\"\")","v":""}]
[]
[null,{"$f":"$B$15","v":"III.A.1."},5,"Czy przegląd wstępny obejmował uzgodnienie z audytowanym kryteriów oceny mechanizmów kontrolnych w obszarze działalności jednostki objętym zadaniem lub \nw przypadku braku uzgodnienia kryteriów z audytowanym kryteria zostały uzgodnione \nz kierownikiem jednostki?",null,null,null,null,null,null,null,null,null,{"$f":"IF(J26=\"nie\",\"!\",\"\")","v":""}]
[]
[null,{"$f":"$B$15","v":"III.A.1."},6,"Czy audytor wewnętrzny przygotował program zadania zapewniającego?",null,null,null,null,null,null,null,null,null,{"$f":"IF(J28=\"nie\",\"!\",\"\")","v":""}]
[]
[null,{"$f":"$B$15","v":"III.A.1."},7,"Czy program zadania zapewniającego uwzględniał wynik przeglądu wstępnego?",null,null,null,null,null,null,null,null,null,{"$f":"IF(J30=\"nie\",\"!\",\"\")","v":""}]
[]
[null,{"$f":"$B$15","v":"III.A.1."},8,"Czy program zadania zapewniającego uwzględniał uwagi kierownika jednostki \ni audytowanego?",null,null,null,null,null,null,null,null,null,{"$f":"IF(J32=\"nie\",\"!\",\"\")","v":""}]
[]
[null,{"$f":"$B$15","v":"III.A.1."},9,"Czy program zadania zapewniającego uwzględniał zasoby niezbędne do przeprowadzenia zadania, w tym ewentualną potrzebę uzyskania pomocy eksperta?",null,null,null,null,null,null,null,null,null,{"$f":"IF(J34=\"nie\",\"!\",\"\")","v":""}]
[]
[null,{"$f":"$B$15","v":"III.A.1."},10,"Czy program zadania zapewniającego uwzględniał przewidywany czas trwania zadania?",null,null,null,null,null,null,null,null,null,{"$f":"IF(J36=\"nie\",\"!\",\"\")","v":""}]
[]
[null,{"$f":"$B$15","v":"III.A.1."},11,"Czy program zadania zapewniającego określał temat zadania?",null,null,null,null,null,null,null,null,null,{"$f":"IF(J38=\"nie\",\"!\",\"\")","v":""}]
[]
[null,{"$f":"$B$15","v":"III.A.1."},12,"Czy program zadania zapewniającego określał cel zadania?",null,null,null,null,null,null,null,null,null,{"$f":"IF(J40=\"nie\",\"!\",\"\")","v":""}]
[]
[null,{"$f":"$B$15","v":"III.A.1."},13,"Czy program zadania zapewniającego określał zakres podmiotowy i przedmiotowy zadania?",null,null,null,null,null,null,null,null,null,{"$f":"IF(J42=\"nie\",\"!\",\"\")","v":""}]
[]
[null,{"$f":"$B$15","v":"III.A.1."},14,"Czy program zadania zapewniającego określał istotne ryzyka w obszarze działalności jednostki objętym zadaniem?",null,null,null,null,null,null,null,null,null,{"$f":"IF(J44=\"nie\",\"!\",\"\")","v":""}]
[]
[null,{"$f":"$B$15","v":"III.A.1."},15,"Czy program zadania zapewniającego określał sposób zrealizowania zadania, w szczególności opis doboru próby do badania oraz technik badania?",null,null,null,null,null,null,null,null,null,{"$f":"IF(J46=\"nie\",\"!\",\"\")","v":""}]
[]
[null,{"$f":"$B$15","v":"III.A.1."},16,"Czy program zadania zapewniającego zawierał uzgodnione kryteria oceny?",null,null,null,null,null,null,null,null,null,{"$f":"IF(J48=\"nie\",\"!\",\"\")","v":""}]
[]
[null,{"$f":"$B$15","v":"III.A.1."},17,"Czy program zadania zapewniającego zawierał datę rozpoczęcia i zakończenia zadania?",null,null,null,null,null,null,null,null,null,{"$f":"IF(J50=\"nie\",\"!\",\"\")","v":""}]
[]
[null,{"$f":"$B$15","v":"III.A.1."},18,"Czy program zadania zapewniającego zatwierdził kierownik komórki audytu wewnętrznego/audytor wewnętrzny?",null,null,null,null,null,null,null,null,null,{"$f":"IF(J52=\"nie\",\"!\",\"\")","v":""}]
[]
[null,{"$f":"$B$15","v":"III.A.1."},19,"Czy kierownik komórki audytu wewnętrznego w celu zapewnienia odpowiedniego zakresu audytu oraz niepowielania pracy korzystał z informacji i koordynował działania wewnętrznych i zewnętrznych wykonawców usług doradczych i zapewniających?"]
[null,null,null,null,null,null,null,null,null,"tak","nie","% udzielonych odpowiedzi"]
[null,"III.A.2.","Realizacja zadania zapewniającego ",null,null,null,null,null,null,{"$f":"COUNTIF(J59:J79,\"tak\")","v":0},{"$f":"COUNTIF(J59:J79,\"*\")-J56","v":0},{"$f":"COUNTIF(J59:J79,\"*\")/11","v":0}]
[null,null,"ustawa: art. 273 ust. 2; art. 280; art. 282 ust.2 i 282 ust.3\nrozporządzenie: §4 ust. 1; §16 ust. 2; §16 ust. 3\nstandardy: 1130; 2000; 2100; 2300; 2310; 2320; 2330; 2340",null,null,null,null,null,null,null,null,null,null,null,"NALEŻY WSKAZAĆ ZAKRES ZIDENTYFIKOWANEJ NIEPRAWIDŁOWOŚCI ORAZ ZAPLANOWAĆ I ZREALIZOWAĆ \nDZIAŁANIA KORYGUJĄCE/NAPRAWCZE\nW tym celu proszę wypełnić poniższe komórki.\n"]
[null,null,null,null,null,null,null,null,null,"odpowiedź",null,"dowód/potwierdzenie dla pełnej \nlub częściowej zgodności/komentarz",null,null,"zakres zidentyfikowanej niezgodności\nw przypadku częściowej niezgodności należy wymienić i opisać te elementy, które wymagają działań korygujących/naprawczych",null,"planowane działania korygujące/naprawcze",null,null,null,"termin realizacji"]
[null,{"$f":"$B$56","v":"III.A.2."},1,"W trakcie realizacji zadania nie wystąpił przypadek ograniczenia audytorowi prawa wstępu do pomieszczeń jednostki lub prawa do wglądu do dokumentów, informacji i danych oraz do innych materiałów związanych z funkcjonowaniem jednostki?",null,null,null,null,null,null,null,null,null,{"$f":"IF(J59=\"nie\",\"!\",\"\")","v":""}]
[]
[null,{"$f":"$B$59","v":"III.A.2."},2,"W trakcie realizacji zadania nie wystąpił przypadek by pracownicy jednostki nie udzielili informacji i wyjaśnień, a także by nie sporządzili i nie potwierdzili kopii, odpisów, wyciągów lub zestawień, na potrzeby realizacji zadań przez audytora wewnętrznego?",null,null,null,null,null,null,null,null,null,{"$f":"IF(J61=\"nie\",\"!\",\"\")","v":""}]
[]
[null,{"$f":"$B$59","v":"III.A.2."},3,"Czy kierownik komórki audytu wewnętrznego miał bezpośredni dostęp do kierownika jednostki, a w urzędzie administracji rządowej, w którym tworzy się stanowisko dyrektora generalnego urzędu do dyrektora generalnego w zakresie określonym odrębnymi ustawami na każdym etapie realizacji zadania zapewniającego?",null,null,null,null,null,null,null,null,null,{"$f":"IF(J63=\"nie\",\"!\",\"\")","v":""}]
[]
[null,{"$f":"$B$59","v":"III.A.2."},4,"Czy audytor wewnętrzny realizując zadanie zapewniające kierował się wskazówkami zawartymi w standardach audytu wewnętrznego, o których mowa w art. 273 ust. 1 ustawy?",null,null,null,null,null,null,null,null,null,{"$f":"IF(J65=\"nie\",\"!\",\"\")","v":""}]
[]
[null,{"$f":"$B$59","v":"III.A.2."},5,"Czy w  trakcie realizacji zadania zapewniono warunki niezbędne do niezależnego, obiektywnego i efektywnego prowadzenia audytu wewnętrznego?",null,null,null,null,null,null,null,null,null,{"$f":"IF(J67=\"nie\",\"!\",\"\")","v":""}]
[]
[null,{"$f":"$B$59","v":"III.A.2."},6,"Czy audyt wewnętrzny był przeprowadzany na podstawie pisemnego upoważnienia kierownika jednostki?",null,null,null,null,null,null,null,null,null,{"$f":"IF(J69=\"nie\",\"!\",\"\")","v":""}]
[]
[null,{"$f":"$B$59","v":"III.A.2."},7,"Czy w trakcie realizacji zadania zapewniającego dokonywano udokumentowanych zmian w programie zadania zapewniającego, a zmiany te zostały zaakceptowane przez kierownika komórki audytu wewnętrznego?  \n(jeżeli nie dokonywano zmiany programu, należy zaznaczyć tak i w kolumnie dowód/potwierdzenie wpisać nie dotyczy)",null,null,null,null,null,null,null,null,null,{"$f":"IF(J71=\"nie\",\"!\",\"\")","v":""}]
[]
[null,{"$f":"$B$59","v":"III.A.2."},8,"Czy w trakcie realizacji zadania zebrano informacje, które są wystarczające, wiarygodne i przydatne do osiągnięcia jego celów, a wnioski i wyniki zadania opierały się na odpowiednich i udokumentowanych analizach i ocenach?"]
[]
[null,{"$f":"$B$59","v":"III.A.2."},9,"Czy audyt wewnętrzny przez realizację zadania dokonał oceny adekwatności, skuteczności i efektywności kontroli zarządczej oraz przyczynił się do jej usprawnienia? \n(w przypadku, gdy audytor dokonał oceny ale nie wydał zaleceń należy w rubryce dowód/potwierdzenie opisać potwierdzenie wydania oceny i dodać adnotację brak zaleceń)",null,null,null,null,null,null,null,null,null,{"$f":"IF(J75=\"nie\",\"!\",\"\")","v":""}]
[]
[null,{"$f":"$B$59","v":"III.A.2."},10,"Czy zadanie zostało zrealizowane zgodnie z zakresem przedmiotowym i podmiotowym oraz czy został osiągnięty cel zadania?"]
[]
[null,{"$f":"$B$59","v":"III.A.2."},11,"Czy audytor wewnętrzny zebrał, analizował, oceniał i dokumentował informacje wystarczające do osiągnięcia celu zadania?"]
[null,null,null,null,null,null,null,null,null,"tak","nie","% udzielonych odpowiedzi"]
[null,"III.A.3."," Opracowanie, uzgadnianie i dystrybucja wyników zadania zapewniającego",null,null,null,null,null,null,{"$f":"COUNTIF(J84:J110,\"tak\")","v":0},{"$f":"COUNTIF(J84:J110,\"*\")-J81","v":0},{"$f":"COUNTIF(J84:J110,\"*\")/14","v":0}]
[null,null,"rozporządzenie: §17 - §19\nstandardy: 2400; 2600",null,null,null,null,null,null,null,null,null,null,null,"NALEŻY WSKAZAĆ ZAKRES ZIDENTYFIKOWANEJ NIEPRAWIDŁOWOŚCI ORAZ ZAPLANOWAĆ I ZREALIZOWAĆ \nDZIAŁANIA KORYGUJĄCE/NAPRAWCZE\nW tym celu proszę wypełnić poniższe komórki.\n"]
[null,null,null,null,null,null,null,null,null,"odpowiedź",null,"dowód/potwierdzenie dla pełnej \nlub częściowej zgodności/komentarz",null,null,"zakres zidentyfikowanej niezgodności\nw przypadku częściowej niezgodności należy wymienić i opisać te elementy, które wymagają działań korygujących/naprawczych",null,"planowane działania korygujące/naprawcze",null,null,null,"termin realizacji"]
[null,{"$f":"$B$81","v":"III.A.3."},1,"Czy audytor wewnętrzny po przeprowadzeniu czynności audytowych uzgodnił pisemnie \nz audytowanym wstępne wyniki audytu wewnętrznego, w tym w szczególności ustalenia \ni propozycje zaleceń lub przeprowadził naradę zamykającą?\n(w przypadku nieuzgodnienia wstępnych wyników audytu wewnętrznego czy audytowany mógł zgłosić pisemne zastrzeżenia, w terminie określonym przez audytora wewnętrznego, nie krótszym niż 7 dni kalendarzowych od dnia poinformowania audytowanego o wstępnych wynikach)",null,null,null,null,null,null,null,null,null,{"$f":"IF(J84=\"nie\",\"!\",\"\")","v":""}]
[]
[null,{"$f":"$B$81","v":"III.A.3."},2,"Czy audytor wewnętrzny, po uzgodnieniu wstępnych wyników audytu wewnętrznego lub po wniesieniu zastrzeżeń przez audytowanego sporządził sprawozdanie z zadania zapewniającego?",null,null,null,null,null,null,null,null,null,{"$f":"IF(J86=\"nie\",\"!\",\"\")","v":""}]
[]
[null,{"$f":"$B$81","v":"III.A.3."},3,"Czy sprawozdanie z zadania zapewniającego zawiera temat i cel zadania?",null,null,null,null,null,null,null,null,null,{"$f":"IF(J88=\"nie\",\"!\",\"\")","v":""}]
[]
[null,{"$f":"$B$81","v":"III.A.3."},4,"Czy sprawozdanie z zadania zapewniającego zawiera zakres podmiotowy i przedmiotowy zadania?",null,null,null,null,null,null,null,null,null,{"$f":"IF(J90=\"nie\",\"!\",\"\")","v":""}]
[]
[null,{"$f":"$B$81","v":"III.A.3."},5,"Czy sprawozdanie z zadania zapewniającego zawiera datę rozpoczęcia zadania?",null,null,null,null,null,null,null,null,null,{"$f":"IF(J92=\"nie\",\"!\",\"\")","v":""}]
[]
[null,{"$f":"$B$81","v":"III.A.3."},6,"Czy sprawozdanie z zadania zapewniającego zawiera ustalenia i ocenę według kryteriów przyjętych w programie?",null,null,null,null,null,null,null,null,null,{"$f":"IF(J94=\"nie\",\"!\",\"\")","v":""}]
[]
[null,{"$f":"$B$81","v":"III.A.3."},7,"Czy sprawozdanie z zadania zapewniającego zawiera zalecenia?\n(jeżeli w wyniku przeprowadzonego zadania nie wydano zaleceń, należy wybrać tak i w kolumnie dowód/potwierdzenie należy wpisać nie dotyczy)",null,null,null,null,null,null,null,null,null,{"$f":"IF(J96=\"nie\",\"!\",\"\")","v":""}]
[]
[null,{"$f":"$B$81","v":"III.A.3."},8,"Czy sprawozdanie z zadania zapewniającego zawiera odniesienie się audytora wewnętrznego do zastrzeżeń audytowanego do wstępnych wyników audytu wewnętrznego? \n(jeżeli nie były zgłoszone, należy wybrać tak i w kolumnie dowód/potwierdzenie należy wpisać nie dotyczy)",null,null,null,null,null,null,null,null,null,{"$f":"IF(J98=\"nie\",\"!\",\"\")","v":""}]
[]
[null,{"$f":"$B$81","v":"III.A.3."},9,"Czy sprawozdanie z zadania zapewniającego zawiera ogólną ocenę adekwatności, skuteczności i efektywności kontroli zarządczej w obszarze działalności jednostki objętym zadaniem?",null,null,null,null,null,null,null,null,null,{"$f":"IF(J100=\"nie\",\"!\",\"\")","v":""}]
[]
[null,{"$f":"$B$81","v":"III.A.3."},10,"Czy sprawozdanie z zadania zapewniającego zawiera datę sporządzenia sprawozdania?",null,null,null,null,null,null,null,null,null,{"$f":"IF(J102=\"nie\",\"!\",\"\")","v":""}]
[]
[null,{"$f":"$B$81","v":"III.A.3."},11,"Czy sprawozdanie z zadania zapewniającego zawiera imię i nazwisko audytora wewnętrznego przeprowadzającego zadanie oraz jego podpis? \n(w przypadku zadania zapewniającego realizowanego przez kilku audytorów wewnętrznych sprawozdanie mogą podpisać wszyscy audytorzy wewnętrzni realizujący zadanie albo audytor wewnętrzny odpowiedzialny za realizację tego zadania, wyznaczony przez kierownika komórki audytu spośród audytorów wewnętrznych realizujących zadanie)",null,null,null,null,null,null,null,null,null,{"$f":"IF(J104=\"nie\",\"!\",\"\")","v":""}]
[]
[null,{"$f":"$B$81","v":"III.A.3."},12,"Czy sprawozdanie z zadania zapewniającego jest jasne, zwięzłe, przejrzyste, obiektywne oraz kompletne?  \n(zgodnie ze Standardami przekazane informacje muszą być dokładne, obiektywne, jasne, zwięzłe, konstruktywne, kompletne oraz dostarczone na czas)",null,null,null,null,null,null,null,null,null,{"$f":"IF(J106=\"nie\",\"!\",\"\")","v":""}]
[]
[null,{"$f":"$B$81","v":"III.A.3."},13,"Czy kierownik komórki audytu wewnętrznego/audytor wewnętrzny przekazał sprawozdanie audytowanemu i kierownikowi jednostki?",null,null,null,null,null,null,null,null,null,{"$f":"IF(J108=\"nie\",\"!\",\"\")","v":""}]
[]
[null,{"$f":"$B$81","v":"III.A.3."},14,"Czy kierownik komórki audytu wewnętrznego/audytor wewnętrzny poinformował kierownika jednostki, że przyjęto poziom ryzyka, który może być nie do zaakceptowania dla jednostki? \n(jeżeli była taka potrzeba, w przeciwnym razie należy zaznaczyć tak i w kolumnie dowód/potwierdzenie należy wpisać nie dotyczy)"]
[null,null,null,null,null,null,null,null,null,"tak","nie","% udzielonych odpowiedzi"]
[null,"III.A.4."," Monitoring wdrożenia zaleceń i czynność sprawdzająca",null,null,null,null,null,null,{"$f":"COUNTIF(J115:J121,\"tak\")","v":0},{"$f":"COUNTIF(J115:J121,\"*\")-J112","v":0},{"$f":"COUNTIF(J115:J121,\"*\")/4","v":0}]
[null,null,"rozporządzenie: §20 - §21\nstandardy: 2500",null,null,null,null,null,null,null,null,null,null,null,"NALEŻY WSKAZAĆ ZAKRES ZIDENTYFIKOWANEJ NIEPRAWIDŁOWOŚCI ORAZ ZAPLANOWAĆ I ZREALIZOWAĆ \nDZIAŁANIA KORYGUJĄCE/NAPRAWCZE\nW tym celu proszę wypełnić poniższe komórki.\n"]
[null,null,null,null,null,null,null,null,null,"odpowiedź",null,"dowód/potwierdzenie dla pełnej \nlub częściowej zgodności/komentarz",null,null,"zakres zidentyfikowanej niezgodności\nw przypadku częściowej niezgodności należy wymienić i opisać te elementy, które wymagają działań korygujących/naprawczych",null,"planowane działania korygujące/naprawcze",null,null,null,"termin realizacji"]
[null,{"$f":"$B$112","v":"III.A.4."},1,"Czy audytor wewnętrzny monitorował realizację wydanych i zaakceptowanych do wdrożenia zaleceń?",null,null,null,null,null,null,null,null,null,{"$f":"IF(J115=\"nie\",\"!\",\"\")","v":""}]
[]
[null,{"$f":"$B$112","v":"III.A.4."},2,"Czy audytor wewnętrzny po upływie terminów realizacji zaleceń przeprowadził czynności sprawdzające?\n/jeżeli nie były przeprowadzane czynności sprawdzające, bo nie upłynęły jeszcze terminy realizacji zaleceń należy wybrać tak i w kolumnie dowód napisać nie dotyczy/",null,null,null,null,null,null,null,null,null,{"$f":"IF(J117=\"nie\",\"!\",\"\")","v":""}]
[]
[null,{"$f":"$B$112","v":"III.A.4."},3,"Czy wynik czynności sprawdzających audytor wewnętrzny przedstawił w notatce informacyjnej kierownikowi jednostki i audytowanemu?\n/jeżeli nie były przeprowadzane czynności sprawdzające, bo nie upłynęły jeszcze terminy realizacji zaleceń należy wybrać tak i w kolumnie dowód napisać nie dotyczy/",null,null,null,null,null,null,null,null,null,{"$f":"IF(J119=\"nie\",\"!\",\"\")","v":""}]
[]
[null,{"$f":"$B$112","v":"III.A.4."},4,"Czy system monitorowania wyników audytu jest skuteczny i adekwatny?"]

{"sheet":"III. Realizacja ZZ 10","index":14,"n_rows":121,"n_cols":25,"rows_kept":121,"cut":false,"hidden":true,"merged":[[11,3,11,8],[11,11,11,12],[11,14,14,20],[12,3,12,8],[13,3,13,8],[13,11,13,12],[14,2,14,8],[14,11,14,12],[1,1,1,11],[3,1,6,21],[7,3,7,10],[7,14,7,20],[8,2,9,10],[8,11,9,11],[8,12,9,12],[8,14,10,20],[10,3,10,8],[10,11,10,12],[15,2,15,12],[15,14,15,20],[16,9,16,10],[16,11,16,12],[16,16,16,18],[17,3,17,8],[17,9,17,10],[17,11,17,12],[17,16,17,18],[23,3,23,8],[23,9,23,10],[23,11,23,12],[23,16,23,18],[25,3,25,8],[25,9,25,10],[25,11,25,12],[25,16,25,18],[19,3,19,8],[19,9,19,10],[19,11,19,12],[19,16,19,18],[21,3,21,8],[21,9,21,10],[21,11,21,12],[21,16,21,18],[31,3,31,8],[31,9,31,10],[31,11,31,12],[31,16,31,18],[33,3,33,8],[33,9,33,10],[33,11,33,12],[33,16,33,18],[27,3,27,8],[27,9,27,10],[27,11,27,12],[27,16,27,18],[29,3,29,8],[29,9,29,10],[29,11,29,12],[29,16,29,18],[39,3,39,8],[39,9,39,10],[39,11,39,12],[39,16,39,18],[41,3,41,8],[41,9,41,10],[41,11,41,12],[41,16,41,18],[35,3,35,8],[35,9,35,10],[35,11,35,12],[35,16,35,18],[37,3,37,8],[37,9,37,10],[37,11,37,12],[37,16,37,18],[47,3,47,8],[47,9,47,10],[47,11,47,12],[47,16,47,18],[49,3,49,8],[49,9,49,10],[49,11,49,12],[49,16,49,18],[43,3,43,8],[43,9,43,10],[43,11,43,12],[43,16,43,18],[45,3,45,8],[45,9,45,10],[45,11,45,12],[45,16,45,18],[54,11,54,12],[55,2,55,8],[55,11,55,12],[56,2,56,12],[56,14,56,20],[57,9,57,10],[57,11,57,12],[57,16,57,18],[51,3,51,8],[51,9,51,10],[51,11,51,12],[51,16,51,18],[53,3,53,8],[53,9,53,10],[53,11,53,12],[53,16,53,18],[62,3,62,8],[62,9,62,10],[62,11,62,12],[62,16,62,18],[64,3,64,8],[64,9,64,10],[64,11,64,12],[64,16,64,18],[58,3,58,8],[58,9,58,10],[58,11,58,12],[58,16,58,18],[60,3,60,8],[60,9,60,10],[60,11,60,12],[60,16,60,18],[70,3,70,8],[70,9,70,10],[70,11,70,12],[70,16,70,18],[72,3,72,8],[72,9,72,10],[72,11,72,12],[72,16,72,18],[66,3,66,8],[66,9,66,10],[66,11,66,12],[66,16,66,18],[68,3,68,8],[68,9,68,10],[68,11,68,12],[68,16,68,18],[78,3,78,8],[78,9,78,10],[78,11,78,12],[78,16,78,18],[79,11,79,12],[80,2,80,8],[80,11,80,12],[74,3,74,8],[74,9,74,10],[74,11,74,12],[74,16,74,18],[76,3,76,8],[76,9,76,10],[76,11,76,12],[76,16,76,18],[81,2,81,12],[81,14,81,20],[82,9,82,10],[82,11,82,12],[82,16,82,18],[83,3,83,8],[83,9,83,10],[83,11,83,12],[83,16,83,18],[89,3,89,8],[89,9,89,10],[89,11,89,12],[89,16,89,18],[91,3,91,8],[91,9,91,10],[91,11,91,12],[91,16,91,18],[85,3,85,8],[85,9,85,10],[85,11,85,12],[85,16,85,18],[87,3,87,8],[87,9,87,10],[87,11,87,12],[87,16,87,18],[97,3,97,8],[97,9,97,10],[97,11,97,12],[97,16,97,18],[99,3,99,8],[99,9,99,10],[99,11,99,12],[99,16,99,18],[93,3,93,8],[93,9,93,10],[93,11,93,12],[93,16,93,18],[95,3,95,8],[95,9,95,10],[95,11,95,12],[95,16,95,18],[105,3,105,8],[105,9,105,10],[105,11,105,12],[105,16,105,18],[107,3,107,8],[107,9,107,10],[107,11,107,12],[107,16,107,18],[101,3,101,8],[101,9,101,10],[101,11,101,12],[101,16,101,18],[103,3,103,8],[103,9,103,10],[103,11,103,12],[103,16,103,18],[110,11,110,12],[111,2,111,8],[111,11,111,12],[112,2,112,12],[112,14,112,20],[113,9,113,10],[113,11,113,12],[113,16,113,18],[109,3,109,8],[109,9,109,10],[109,11,109,12],[109,16,109,18],[118,3,118,8],[118,9,118,10],[118,11,118,12],[118,16,118,18],[120,3,120,8],[120,9,120,10],[120,11,120,12],[120,16,120,18],[114,3,114,8],[114,9,114,10],[114,11,114,12],[114,16,114,18],[116,3,116,8],[116,9,116,10],[116,11,116,12],[116,16,116,18]]}
[]
[]
[]
[null,"Quality @w "]
[]
[]
[]
[null,null,null,null,null,null,null,null,null,null,null,null,null,"data rozpoczęcia wypełniania niniejszego arkusza","liczba uzyskanych punktów w bloku tematycznym"]
[null,null,{"$f":"'Strona tytułowa'!$H$16","v":0},null,null,null,null,null,null,null,null,{"$f":"'Strona tytułowa'!$F$16","v":0},{"$f":"'Strona tytułowa'!$B$2","v":"ver.2.0.2018"},null,{"$f":"J12","v":0}]
[null,null,null,null,null,null,null,null,null,null,null,null,null,null,null,null,null,null,null,null,null,null,null,null,{"$f":"J12+K12","v":0}]
[null,null,null,"blok tematyczny",null,null,null,null,null,"tak","nie","% udzielonych odpowiedzi"]
[null,null,"III.A","REALIZACJA ZADAŃ AUDYTOWYCH - ZADANIE ZAPEWNIAJĄCE",null,null,null,null,null,{"$f":"J15+J56+J81+J112","v":0},{"$f":"K15+K56+K81+K112","v":0},{"$f":"(J12+K12)/48","v":0},null,{"$f":"COUNTIF(N18:N121,\"!\")","v":0},"0                                                                                                                                                                                                                                                                                                              49 "]
[null,null,null,"temat zadania",null,null,null,null,null,{"$f":"J12/(J12+K12)","v":{"$error":"#DIV/0!"}},{"$f":"K12/(K12+J12)","v":{"$error":"#DIV/0!"}}]
[null,null,null,null,null,null,null,null,null,"ER5HYN","nie","% udzielonych odpowiedzi",null,"niezgodność z przepisami"]
[null,"III.A.1.","Przygotowanie i programowanie zadania zapewniającego",null,null,null,null,null,null,{"$f":"COUNTIF(J18:J54,\"tak\")","v":0},{"$f":"COUNTIF(J18:J54,\"*\")-J15","v":0},{"$f":"COUNTIF(J18:J54,\"*\")/19","v":0}]
[null,null,"rozporządzenie: §13 - §16.\nstandardy: 2050; 2200; 2201; 2210; 2220; 2230;2240",null,null,null,null,null,null,null,null,null,null,null,"NALEŻY WSKAZAĆ ZAKRES ZIDENTYFIKOWANEJ NIEPRAWIDŁOWOŚCI ORAZ ZAPLANOWAĆ I ZREALIZOWAĆ \nDZIAŁANIA KORYGUJĄCE/NAPRAWCZE\nW tym celu proszę wypełnić poniższe komórki.\n"]
[null,null,null,null,null,null,null,null,null,"odpowiedź",null,"dowód/potwierdzenie dla pełnej \nlub częściowej zgodności/komentarz",null,null,"zakres zidentyfikowanej niezgodności\nw przypadku częściowej niezgodności należy wymienić i opisać te elementy, które wymagają działań korygujących/naprawczych",null,"planowane działania korygujące/naprawcze",null,null,null,"termin realizacji"]
[null,{"$f":"$B$15","v":"III.A.1."},1,"Czy kierownik komórki audytu wewnętrznego/audytor wewnętrzny poinformował audytowanego o planowanej realizacji zadania?",null,null,null,null,null,null,null,null,null,{"$f":"IF(J18=\"nie\",\"!\",\"\")","v":""}]
[]
[null,{"$f":"$B$15","v":"III.A.1."},2,"Czy rozpoczynając realizację zadania zapewniającego audytor wewnętrzny przeprowadził przegląd wstępny?",null,null,null,null,null,null,null,null,null,{"$f":"IF(J20=\"nie\",\"!\",\"\")","v":""}]
[]
[null,{"$f":"$B$15","v":"III.A.1."},3,"Czy przegląd wstępny obejmował zapoznanie się z celami i obszarem działalności jednostki, w którym zostało zrealizowane zadanie?",null,null,null,null,null,null,null,null,null,{"$f":"IF(J22=\"nie\",\"!\",\"\")","v":""}]
[null,null,null,null,null,null,null,null,null,null,null,null,null,null,"w"]
[null,{"$f":"$B$15","v":"III.A.1."},4,"Czy przegląd wstępny obejmował dokonanie identyfikacji i oceny ryzyka, po uwzględnieniu istniejących mechanizmów kontrolnych?",null,null,null,null,null,null,null,null,null,{"$f":"IF(J24=\"nie\",\"!\",\"\")","v":""}]
[]
[null,{"$f":"$B$15","v":"III.A.1."},5,"Czy przegląd wstępny obejmował uzgodnienie z audytowanym kryteriów oceny mechanizmów kontrolnych w obszarze działalności jednostki objętym zadaniem lub \nw przypadku braku uzgodnienia kryteriów z audytowanym kryteria zostały uzgodnione \nz kierownikiem jednostki?",null,null,null,null,null,null,null,null,null,{"$f":"IF(J26=\"nie\",\"!\",\"\")","v":""}]
[]
[null,{"$f":"$B$15","v":"III.A.1."},6,"Czy audytor wewnętrzny przygotował program zadania zapewniającego?",null,null,null,null,null,null,null,null,null,{"$f":"IF(J28=\"nie\",\"!\",\"\")","v":""}]
[]
[null,{"$f":"$B$15","v":"III.A.1."},7,"Czy program zadania zapewniającego uwzględniał wynik przeglądu wstępnego?",null,null,null,null,null,null,null,null,null,{"$f":"IF(J30=\"nie\",\"!\",\"\")","v":""}]
[]
[null,{"$f":"$B$15","v":"III.A.1."},8,"Czy program zadania zapewniającego uwzględniał uwagi kierownika jednostki \ni audytowanego?",null,null,null,null,null,null,null,null,null,{"$f":"IF(J32=\"nie\",\"!\",\"\")","v":""}]
[]
[null,{"$f":"$B$15","v":"III.A.1."},9,"Czy program zadania zapewniającego uwzględniał zasoby niezbędne do przeprowadzenia zadania, w tym ewentualną potrzebę uzyskania pomocy eksperta?",null,null,null,null,null,null,null,null,null,{"$f":"IF(J34=\"nie\",\"!\",\"\")","v":""}]
[]
[null,{"$f":"$B$15","v":"III.A.1."},10,"Czy program zadania zapewniającego uwzględniał przewidywany czas trwania zadania?",null,null,null,null,null,null,null,null,null,{"$f":"IF(J36=\"nie\",\"!\",\"\")","v":""}]
[]
[null,{"$f":"$B$15","v":"III.A.1."},11,"Czy program zadania zapewniającego określał temat zadania?",null,null,null,null,null,null,null,null,null,{"$f":"IF(J38=\"nie\",\"!\",\"\")","v":""}]
[]
[null,{"$f":"$B$15","v":"III.A.1."},12,"Czy program zadania zapewniającego określał cel zadania?",null,null,null,null,null,null,null,null,null,{"$f":"IF(J40=\"nie\",\"!\",\"\")","v":""}]
[]
[null,{"$f":"$B$15","v":"III.A.1."},13,"Czy program zadania zapewniającego określał zakres podmiotowy i przedmiotowy zadania?",null,null,null,null,null,null,null,null,null,{"$f":"IF(J42=\"nie\",\"!\",\"\")","v":""}]
[]
[null,{"$f":"$B$15","v":"III.A.1."},14,"Czy program zadania zapewniającego określał istotne ryzyka w obszarze działalności jednostki objętym zadaniem?",null,null,null,null,null,null,null,null,null,{"$f":"IF(J44=\"nie\",\"!\",\"\")","v":""}]
[]
[null,{"$f":"$B$15","v":"III.A.1."},15,"Czy program zadania zapewniającego określał sposób zrealizowania zadania, w szczególności opis doboru próby do badania oraz technik badania?",null,null,null,null,null,null,null,null,null,{"$f":"IF(J46=\"nie\",\"!\",\"\")","v":""}]
[]
[null,{"$f":"$B$15","v":"III.A.1."},16,"Czy program zadania zapewniającego zawierał uzgodnione kryteria oceny?",null,null,null,null,null,null,null,null,null,{"$f":"IF(J48=\"nie\",\"!\",\"\")","v":""}]
[]
[null,{"$f":"$B$15","v":"III.A.1."},17,"Czy program zadania zapewniającego zawierał datę rozpoczęcia i zakończenia zadania?",null,null,null,null,null,null,null,null,null,{"$f":"IF(J50=\"nie\",\"!\",\"\")","v":""}]
[]
[null,{"$f":"$B$15","v":"III.A.1."},18,"Czy program zadania zapewniającego zatwierdził kierownik komórki audytu wewnętrznego/audytor wewnętrzny?",null,null,null,null,null,null,null,null,null,{"$f":"IF(J52=\"nie\",\"!\",\"\")","v":""}]
[]
[null,{"$f":"$B$15","v":"III.A.1."},19,"Czy kierownik komórki audytu wewnętrznego w celu zapewnienia odpowiedniego zakresu audytu oraz niepowielania pracy korzystał z informacji i koordynował działania wewnętrznych i zewnętrznych wykonawców usług doradczych i zapewniających?"]
[null,null,null,null,null,null,null,null,null,"tak","nie","% udzielonych odpowiedzi"]
[null,"III.A.2.","Realizacja zadania zapewniającego ",null,null,null,null,null,null,{"$f":"COUNTIF(J59:J79,\"tak\")","v":0},{"$f":"COUNTIF(J59:J79,\"*\")-J56","v":0},{"$f":"COUNTIF(J59:J79,\"*\")/11","v":0}]
[null,null,"ustawa: art. 273 ust. 2; art. 280; art. 282 ust.2 i 282 ust.3\nrozporządzenie: §4 ust. 1; §16 ust. 2; §16 ust. 3\nstandardy: 1130; 2000; 2100; 2300; 2310; 2320; 2330; 2340",null,null,null,null,null,null,null,null,null,null,null,"NALEŻY WSKAZAĆ ZAKRES ZIDENTYFIKOWANEJ NIEPRAWIDŁOWOŚCI ORAZ ZAPLANOWAĆ I ZREALIZOWAĆ \nDZIAŁANIA KORYGUJĄCE/NAPRAWCZE\nW tym celu proszę wypełnić poniższe komórki.\n"]
[null,null,null,null,null,null,null,null,null,"odpowiedź",null,"dowód/potwierdzenie dla pełnej \nlub częściowej zgodności/komentarz",null,null,"zakres zidentyfikowanej niezgodności\nw przypadku częściowej niezgodności należy wymienić i opisać te elementy, które wymagają działań korygujących/naprawczych",null,"planowane działania korygujące/naprawcze",null,null,null,"termin realizacji"]
[null,{"$f":"$B$56","v":"III.A.2."},1,"W trakcie realizacji zadania nie wystąpił przypadek ograniczenia audytorowi prawa wstępu do pomieszczeń jednostki lub prawa do wglądu do dokumentów, informacji i danych oraz do innych materiałów związanych z funkcjonowaniem jednostki?",null,null,null,null,null,null,null,null,null,{"$f":"IF(J59=\"nie\",\"!\",\"\")","v":""}]
[]
[null,{"$f":"$B$59","v":"III.A.2."},2,"W trakcie realizacji zadania nie wystąpił przypadek by pracownicy jednostki nie udzielili informacji i wyjaśnień, a także by nie sporządzili i nie potwierdzili kopii, odpisów, wyciągów lub zestawień, na potrzeby realizacji zadań przez audytora wewnętrznego?",null,null,null,null,null,null,null,null,null,{"$f":"IF(J61=\"nie\",\"!\",\"\")","v":""}]
[]
[null,{"$f":"$B$59","v":"III.A.2."},3,"Czy kierownik komórki audytu wewnętrznego miał bezpośredni dostęp do kierownika jednostki, a w urzędzie administracji rządowej, w którym tworzy się stanowisko dyrektora generalnego urzędu do dyrektora generalnego w zakresie określonym odrębnymi ustawami na każdym etapie realizacji zadania zapewniającego?",null,null,null,null,null,null,null,null,null,{"$f":"IF(J63=\"nie\",\"!\",\"\")","v":""}]
[]
[null,{"$f":"$B$59","v":"III.A.2."},4,"Czy audytor wewnętrzny realizując zadanie zapewniające kierował się wskazówkami zawartymi w standardach audytu wewnętrznego, o których mowa w art. 273 ust. 1 ustawy?",null,null,null,null,null,null,null,null,null,{"$f":"IF(J65=\"nie\",\"!\",\"\")","v":""}]
[]
[null,{"$f":"$B$59","v":"III.A.2."},5,"Czy w  trakcie realizacji zadania zapewniono warunki niezbędne do niezależnego, obiektywnego i efektywnego prowadzenia audytu wewnętrznego?",null,null,null,null,null,null,null,null,null,{"$f":"IF(J67=\"nie\",\"!\",\"\")","v":""}]
[]
[null,{"$f":"$B$59","v":"III.A.2."},6,"Czy audyt wewnętrzny był przeprowadzany na podstawie pisemnego upoważnienia kierownika jednostki?",null,null,null,null,null,null,null,null,null,{"$f":"IF(J69=\"nie\",\"!\",\"\")","v":""}]
[]
[null,{"$f":"$B$59","v":"III.A.2."},7,"Czy w trakcie realizacji zadania zapewniającego dokonywano udokumentowanych zmian w programie zadania zapewniającego, a zmiany te zostały zaakceptowane przez kierownika komórki audytu wewnętrznego?  \n(jeżeli nie dokonywano zmiany programu, należy zaznaczyć tak i w kolumnie dowód/potwierdzenie wpisać nie dotyczy)",null,null,null,null,null,null,null,null,null,{"$f":"IF(J71=\"nie\",\"!\",\"\")","v":""}]
[]
[null,{"$f":"$B$59","v":"III.A.2."},8,"Czy w trakcie realizacji zadania zebrano informacje, które są wystarczające, wiarygodne i przydatne do osiągnięcia jego celów, a wnioski i wyniki zadania opierały się na odpowiednich i udokumentowanych analizach i ocenach?"]
[]
[null,{"$f":"$B$59","v":"III.A.2."},9,"Czy audyt wewnętrzny przez realizację zadania dokonał oceny adekwatności, skuteczności i efektywności kontroli zarządczej oraz przyczynił się do jej usprawnienia? \n(w przypadku, gdy audytor dokonał oceny ale nie wydał zaleceń należy w rubryce dowód/potwierdzenie opisać potwierdzenie wydania oceny i dodać adnotację brak zaleceń)",null,null,null,null,null,null,null,null,null,{"$f":"IF(J75=\"nie\",\"!\",\"\")","v":""}]
[]
[null,{"$f":"$B$59","v":"III.A.2."},10,"Czy zadanie zostało zrealizowane zgodnie z zakresem przedmiotowym i podmiotowym oraz czy został osiągnięty cel zadania?"]
[]
[null,{"$f":"$B$59","v":"III.A.2."},11,"Czy audytor wewnętrzny zebrał, analizował, oceniał i dokumentował informacje wystarczające do osiągnięcia celu zadania?"]
[null,null,null,null,null,null,null,null,null,"tak","nie","% udzielonych odpowiedzi"]
[null,"III.A.3."," Opracowanie, uzgadnianie i dystrybucja wyników zadania zapewniającego",null,null,null,null,null,null,{"$f":"COUNTIF(J84:J110,\"tak\")","v":0},{"$f":"COUNTIF(J84:J110,\"*\")-J81","v":0},{"$f":"COUNTIF(J84:J110,\"*\")/14","v":0}]
[null,null,"rozporządzenie: §17 - §19\nstandardy: 2400; 2600",null,null,null,null,null,null,null,null,null,null,null,"NALEŻY WSKAZAĆ ZAKRES ZIDENTYFIKOWANEJ NIEPRAWIDŁOWOŚCI ORAZ ZAPLANOWAĆ I ZREALIZOWAĆ \nDZIAŁANIA KORYGUJĄCE/NAPRAWCZE\nW tym celu proszę wypełnić poniższe komórki.\n"]
[null,null,null,null,null,null,null,null,null,"odpowiedź",null,"dowód/potwierdzenie dla pełnej \nlub częściowej zgodności/komentarz",null,null,"zakres zidentyfikowanej niezgodności\nw przypadku częściowej niezgodności należy wymienić i opisać te elementy, które wymagają działań korygujących/naprawczych",null,"planowane działania korygujące/naprawcze",null,null,null,"termin realizacji"]
[null,{"$f":"$B$81","v":"III.A.3."},1,"Czy audytor wewnętrzny po przeprowadzeniu czynności audytowych uzgodnił pisemnie \nz audytowanym wstępne wyniki audytu wewnętrznego, w tym w szczególności ustalenia \ni propozycje zaleceń lub przeprowadził naradę zamykającą?\n(w przypadku nieuzgodnienia wstępnych wyników audytu wewnętrznego czy audytowany mógł zgłosić pisemne zastrzeżenia, w terminie określonym przez audytora wewnętrznego, nie krótszym niż 7 dni kalendarzowych od dnia poinformowania audytowanego o wstępnych wynikach)",null,null,null,null,null,null,null,null,null,{"$f":"IF(J84=\"nie\",\"!\",\"\")","v":""}]
[]
[null,{"$f":"$B$81","v":"III.A.3."},2,"Czy audytor wewnętrzny, po uzgodnieniu wstępnych wyników audytu wewnętrznego lub po wniesieniu zastrzeżeń przez audytowanego sporządził sprawozdanie z zadania zapewniającego?",null,null,null,null,null,null,null,null,null,{"$f":"IF(J86=\"nie\",\"!\",\"\")","v":""}]
[]
[null,{"$f":"$B$81","v":"III.A.3."},3,"Czy sprawozdanie z zadania zapewniającego zawiera temat i cel zadania?",null,null,null,null,null,null,null,null,null,{"$f":"IF(J88=\"nie\",\"!\",\"\")","v":""}]
[]
[null,{"$f":"$B$81","v":"III.A.3."},4,"Czy sprawozdanie z zadania zapewniającego zawiera zakres podmiotowy i przedmiotowy zadania?",null,null,null,null,null,null,null,null,null,{"$f":"IF(J90=\"nie\",\"!\",\"\")","v":""}]
[]
[null,{"$f":"$B$81","v":"III.A.3."},5,"Czy sprawozdanie z zadania zapewniającego zawiera datę rozpoczęcia zadania?",null,null,null,null,null,null,null,null,null,{"$f":"IF(J92=\"nie\",\"!\",\"\")","v":""}]
[]
[null,{"$f":"$B$81","v":"III.A.3."},6,"Czy sprawozdanie z zadania zapewniającego zawiera ustalenia i ocenę według kryteriów przyjętych w programie?",null,null,null,null,null,null,null,null,null,{"$f":"IF(J94=\"nie\",\"!\",\"\")","v":""}]
[]
[null,{"$f":"$B$81","v":"III.A.3."},7,"Czy sprawozdanie z zadania zapewniającego zawiera zalecenia?\n(jeżeli w wyniku przeprowadzonego zadania nie wydano zaleceń, należy wybrać tak i w kolumnie dowód/potwierdzenie należy wpisać nie dotyczy)",null,null,null,null,null,null,null,null,null,{"$f":"IF(J96=\"nie\",\"!\",\"\")","v":""}]
[]
[null,{"$f":"$B$81","v":"III.A.3."},8,"Czy sprawozdanie z zadania zapewniającego zawiera odniesienie się audytora wewnętrznego do zastrzeżeń audytowanego do wstępnych wyników audytu wewnętrznego? \n(jeżeli nie były zgłoszone, należy wybrać tak i w kolumnie dowód/potwierdzenie należy wpisać nie dotyczy)",null,null,null,null,null,null,null,null,null,{"$f":"IF(J98=\"nie\",\"!\",\"\")","v":""}]
[]
[null,{"$f":"$B$81","v":"III.A.3."},9,"Czy sprawozdanie z zadania zapewniającego zawiera ogólną ocenę adekwatności, skuteczności i efektywności kontroli zarządczej w obszarze działalności jednostki objętym zadaniem?",null,null,null,null,null,null,null,null,null,{"$f":"IF(J100=\"nie\",\"!\",\"\")","v":""}]
[]
[null,{"$f":"$B$81","v":"III.A.3."},10,"Czy sprawozdanie z zadania zapewniającego zawiera datę sporządzenia sprawozdania?",null,null,null,null,null,null,null,null,null,{"$f":"IF(J102=\"nie\",\"!\",\"\")","v":""}]
[]
[null,{"$f":"$B$81","v":"III.A.3."},11,"Czy sprawozdanie z zadania zapewniającego zawiera imię i nazwisko audytora wewnętrznego przeprowadzającego zadanie oraz jego podpis? \n(w przypadku zadania zapewniającego realizowanego przez kilku audytorów wewnętrznych sprawozdanie mogą podpisać wszyscy audytorzy wewnętrzni realizujący zadanie albo audytor wewnętrzny odpowiedzialny za realizację tego zadania, wyznaczony przez kierownika komórki audytu spośród audytorów wewnętrznych realizujących zadanie)",null,null,null,null,null,null,null,null,null,{"$f":"IF(J104=\"nie\",\"!\",\"\")","v":""}]
[]
[null,{"$f":"$B$81","v":"III.A.3."},12,"Czy sprawozdanie z zadania zapewniającego jest jasne, zwięzłe, przejrzyste, obiektywne oraz kompletne?  \n(zgodnie ze Standardami przekazane informacje muszą być dokładne, obiektywne, jasne, zwięzłe, konstruktywne, kompletne oraz dostarczone na czas)",null,null,null,null,null,null,null,null,null,{"$f":"IF(J106=\"nie\",\"!\",\"\")","v":""}]
[]
[null,{"$f":"$B$81","v":"III.A.3."},13,"Czy kierownik komórki audytu wewnętrznego/audytor wewnętrzny przekazał sprawozdanie audytowanemu i kierownikowi jednostki?",null,null,null,null,null,null,null,null,null,{"$f":"IF(J108=\"nie\",\"!\",\"\")","v":""}]
[]
[null,{"$f":"$B$81","v":"III.A.3."},14,"Czy kierownik komórki audytu wewnętrznego/audytor wewnętrzny poinformował kierownika jednostki, że przyjęto poziom ryzyka, który może być nie do zaakceptowania dla jednostki? \n(jeżeli była taka potrzeba, w przeciwnym razie należy zaznaczyć tak i w kolumnie dowód/potwierdzenie należy wpisać nie dotyczy)"]
[null,null,null,null,null,null,null,null,null,"tak","nie","% udzielonych odpowiedzi"]
[null,"III.A.4."," Monitoring wdrożenia zaleceń i czynność sprawdzająca",null,null,null,null,null,null,{"$f":"COUNTIF(J115:J121,\"tak\")","v":0},{"$f":"COUNTIF(J115:J121,\"*\")-J112","v":0},{"$f":"COUNTIF(J115:J121,\"*\")/4","v":0}]
[null,null,"rozporządzenie: §20 - §21\nstandardy: 2500",null,null,null,null,null,null,null,null,null,null,null,"NALEŻY WSKAZAĆ ZAKRES ZIDENTYFIKOWANEJ NIEPRAWIDŁOWOŚCI ORAZ ZAPLANOWAĆ I ZREALIZOWAĆ \nDZIAŁANIA KORYGUJĄCE/NAPRAWCZE\nW tym celu proszę wypełnić poniższe komórki.\n"]
[null,null,null,null,null,null,null,null,null,"odpowiedź",null,"dowód/potwierdzenie dla pełnej \nlub częściowej zgodności/komentarz",null,null,"zakres zidentyfikowanej niezgodności\nw przypadku częściowej niezgodności należy wymienić i opisać te elementy, które wymagają działań korygujących/naprawczych",null,"planowane działania korygujące/naprawcze",null,null,null,"termin realizacji"]
[null,{"$f":"$B$112","v":"III.A.4."},1,"Czy audytor wewnętrzny monitorował realizację wydanych i zaakceptowanych do wdrożenia zaleceń?",null,null,null,null,null,null,null,null,null,{"$f":"IF(J115=\"nie\",\"!\",\"\")","v":""}]
[]
[null,{"$f":"$B$112","v":"III.A.4."},2,"Czy audytor wewnętrzny po upływie terminów realizacji zaleceń przeprowadził czynności sprawdzające?\n/jeżeli nie były przeprowadzane czynności sprawdzające, bo nie upłynęły jeszcze terminy realizacji zaleceń należy wybrać tak i w kolumnie dowód napisać nie dotyczy/",null,null,null,null,null,null,null,null,null,{"$f":"IF(J117=\"nie\",\"!\",\"\")","v":""}]
[]
[null,{"$f":"$B$112","v":"III.A.4."},3,"Czy wynik czynności sprawdzających audytor wewnętrzny przedstawił w notatce informacyjnej kierownikowi jednostki i audytowanemu?\n/jeżeli nie były przeprowadzane czynności sprawdzające, bo nie upłynęły jeszcze terminy realizacji zaleceń należy wybrać tak i w kolumnie dowód napisać nie dotyczy/",null,null,null,null,null,null,null,null,null,{"$f":"IF(J119=\"nie\",\"!\",\"\")","v":""}]
[]
[null,{"$f":"$B$112","v":"III.A.4."},4,"Czy system monitorowania wyników audytu jest skuteczny i adekwatny?"]

{"sheet":"III. Realizacja CD","index":15,"n_rows":48,"n_cols":25,"rows_kept":48,"cut":false,"hidden":false,"merged":[[47,3,47,8],[47,9,47,10],[47,11,47,12],[47,16,47,18],[43,3,43,8],[43,9,43,10],[43,11,43,12],[43,16,43,18],[45,3,45,8],[45,9,45,10],[45,11,45,12],[45,16,45,18],[39,3,39,8],[39,9,39,10],[39,11,39,12],[39,16,39,18],[41,3,41,8],[41,9,41,10],[41,11,41,12],[41,16,41,18],[35,3,35,8],[35,9,35,10],[35,11,35,12],[35,16,35,18],[37,3,37,8],[37,9,37,10],[37,11,37,12],[37,16,37,18],[31,3,31,8],[31,9,31,10],[31,11,31,12],[31,16,31,18],[33,3,33,8],[33,9,33,10],[33,11,33,12],[33,16,33,18],[27,3,27,8],[27,9,27,10],[27,11,27,12],[27,16,27,18],[29,3,29,8],[29,9,29,10],[29,11,29,12],[29,16,29,18],[23,3,23,8],[23,9,23,10],[23,11,23,12],[23,16,23,18],[25,3,25,8],[25,9,25,10],[25,11,25,12],[25,16,25,18],[19,3,19,8],[19,9,19,10],[19,11,19,12],[19,16,19,18],[21,3,21,8],[21,9,21,10],[21,11,21,12],[21,16,21,18],[17,3,17,8],[17,9,17,10],[17,11,17,12],[17,16,17,18],[11,3,11,8],[11,11,11,12],[11,14,14,20],[13,11,13,12],[14,2,14,8],[14,11,14,12],[15,2,15,12],[15,14,15,20],[16,9,16,10],[16,11,16,12],[16,16,16,18],[1,1,1,11],[3,1,6,21],[7,3,7,10],[7,14,7,20],[8,2,9,10],[8,11,9,11],[8,12,9,12],[8,14,10,20],[10,3,10,8],[10,11,10,12]]}
[]
[]
[]
[null,"Quality @w "]
[]
[]
[]
[null,null,null,null,null,null,null,null,null,null,null,null,null,null,"liczba uzyskanych punktów w bloku tematycznym"]
[null,null,{"$f":"'Strona tytułowa'!$H$16","v":0},null,null,null,null,null,null,null,null,{"$f":"'Strona tytułowa'!$F$16","v":0},{"$f":"'Strona tytułowa'!$B$2","v":"ver.2.0.2018"},null,{"$f":"J12","v":0}]
[null,null,null,null,null,null,null,null,null,null,null,null,null,null,null,null,null,null,null,null,null,null,null,null,{"$f":"J12+K12","v":0}]
[null,null,null,"blok tematyczny",null,null,null,null,null,"tak","nie","% udzielonych odpowiedzi"]
[null,null,"III.B","REALIZACJA ZADAŃ AUDYTOWYCH - CZYNNOŚĆ DORADCZA",null,null,null,null,null,{"$f":"J15","v":0},{"$f":"K15","v":0},{"$f":"(J12+K12)/16","v":0},null,{"$f":"COUNTIF(N18:N48,\"!\")","v":0},"0                                                                                                                                                                                                                                                                                                              16 "]
[null,null,null,null,null,null,null,null,null,{"$f":"J12/(J12+K12)","v":{"$error":"#DIV/0!"}},{"$f":"K12/(K12+J12)","v":{"$error":"#DIV/0!"}}]
[null,null,null,null,null,null,null,null,null,"tak","nie","% udzielonych odpowiedzi",null,"niezgodność z przepisami"]
[null,"III.B.1.","Przygotowanie, realizacja i dokumentowanie czynności doradczej",null,null,null,null,null,null,{"$f":"COUNTIF(J18:J48,\"tak\")","v":0},{"$f":"COUNTIF(J18:J48,\"nie\")","v":0},{"$f":"(J15+K15)/16","v":0}]
[null,null,"ustawa: art. 280; art. 282\nrozporządzenie: §22; §23; §24\nstandardy: 2000; 2050; 2240; 2300; 2400; 2600",null,null,null,null,null,null,null,null,null,null,null,"NALEŻY WSKAZAĆ ZAKRES ZIDENTYFIKOWANEJ NIEPRAWIDŁOWOŚCI ORAZ ZAPLANOWAĆ I ZREALIZOWAĆ \nDZIAŁANIA KORYGUJĄCE/NAPRAWCZE\nW tym celu proszę wypełnić poniższe komórki.\n"]
[null,null,null,null,null,null,null,null,null,"odpowiedź",null,"dowód/potwierdzenie dla pełnej \nlub częściowej zgodności/komentarz",null,null,"zakres zidentyfikowanej niezgodności\nw przypadku częściowej niezgodności należy wymienić i opisać te elementy, które wymagają działań korygujących/naprawczych",null,"planowane działania korygujące/naprawcze",null,null,null,"termin realizacji"]
[null,{"$f":"$B$15","v":"III.B.1."},1,"Czy zrealizowana czynność doradcza służyła wspieraniu kierownika jednostki w realizacji celów i zadań i była realizowana na jego wniosek lub z własnej inicjatywy audytora?",null,null,null,null,null,{"$f":"IF(OR('III. Realizacja CD 1'!J18=\"nie\",'III. Realizacja CD 2'!J18=\"nie\",'III. Realizacja CD 3'!J18=\"nie\",'III. Realizacja CD 4'!J18=\"nie\",'III. Realizacja CD 5'!J18=\"nie\",'III. Realizacja CD 6'!J18=\"nie\",'III. Realizacja CD 7'!J18=\"nie\",'III. Realizacja CD 8'!J18=\"nie\",'III. Realizacja CD 9'!J18=\"nie\",'III. Realizacja CD 10'!J18=\"nie\"),\"nie\",IF(AND('III. Realizacja CD 1'!J18=\"\",'III. Realizacja CD 2'!J18=\"\",'III. Realizacja CD 3'!J18=\"\",'III. Realizacja CD 4'!J18=\"\",'III. Realizacja CD 5'!J18=\"\",'III. Realizacja CD 6'!J18=\"\",'III. Realizacja CD 7'!J18=\"\",'III. Realizacja CD 8'!J18=\"\",'III. Realizacja CD 9'!J18=\"\",'III. Realizacja CD 10'!J18=\"\"),\"\",\"tak\"))","v":""},null,{"$f":"listy!$A$19","v":"szczegółowe informacje w zakładkach poszczegółnych zadań"},null,{"$f":"IF(J18=\"nie\",\"!\",\"\")","v":""},{"$f":"listy!$A$19","v":"szczegółowe informacje w zakładkach poszczegółnych zadań"},null,{"$f":"listy!$A$19","v":"szczegółowe informacje w zakładkach poszczegółnych zadań"},null,null,null,{"$f":"listy!$A$19","v":"szczegółowe informacje w zakładkach poszczegółnych zadań"}]
[]
[null,{"$f":"$B$15","v":"III.B.1."},2,"Czy cel i zakres czynności doradczej audytor wewnętrzny uzgodnił z kierownikiem jednostki?",null,null,null,null,null,{"$f":"IF(OR('III. Realizacja CD 1'!J20=\"nie\",'III. Realizacja CD 2'!J20=\"nie\",'III. Realizacja CD 3'!J20=\"nie\",'III. Realizacja CD 4'!J20=\"nie\",'III. Realizacja CD 5'!J20=\"nie\",'III. Realizacja CD 6'!J20=\"nie\",'III. Realizacja CD 7'!J20=\"nie\",'III. Realizacja CD 8'!J20=\"nie\",'III. Realizacja CD 9'!J20=\"nie\",'III. Realizacja CD 10'!J20=\"nie\"),\"nie\",IF(AND('III. Realizacja CD 1'!J20=\"\",'III. Realizacja CD 2'!J20=\"\",'III. Realizacja CD 3'!J20=\"\",'III. Realizacja CD 4'!J20=\"\",'III. Realizacja CD 5'!J20=\"\",'III. Realizacja CD 6'!J20=\"\",'III. Realizacja CD 7'!J20=\"\",'III. Realizacja CD 8'!J20=\"\",'III. Realizacja CD 9'!J20=\"\",'III. Realizacja CD 10'!J20=\"\"),\"\",\"tak\"))","v":""},null,{"$f":"listy!$A$19","v":"szczegółowe informacje w zakładkach poszczegółnych zadań"},null,{"$f":"IF(J20=\"nie\",\"!\",\"\")","v":""},{"$f":"listy!$A$19","v":"szczegółowe informacje w zakładkach poszczegółnych zadań"},null,{"$f":"listy!$A$19","v":"szczegółowe informacje w zakładkach poszczegółnych zadań"},null,null,null,{"$f":"listy!$A$19","v":"szczegółowe informacje w zakładkach poszczegółnych zadań"}]
[]
[null,{"$f":"$B$15","v":"III.B.1."},3,"Czy realizacja czynności nie prowadziła do przyjęcia przez audytora wewnętrznego obowiązków, odpowiedzialności lub uprawnień wchodzących w zakres zarządzania jednostką?",null,null,null,null,null,{"$f":"IF(OR('III. Realizacja CD 1'!J22=\"nie\",'III. Realizacja CD 2'!J22=\"nie\",'III. Realizacja CD 3'!J22=\"nie\",'III. Realizacja CD 4'!J22=\"nie\",'III. Realizacja CD 5'!J22=\"nie\",'III. Realizacja CD 6'!J22=\"nie\",'III. Realizacja CD 7'!J22=\"nie\",'III. Realizacja CD 8'!J22=\"nie\",'III. Realizacja CD 9'!J22=\"nie\",'III. Realizacja CD 10'!J22=\"nie\"),\"nie\",IF(AND('III. Realizacja CD 1'!J22=\"\",'III. Realizacja CD 2'!J22=\"\",'III. Realizacja CD 3'!J22=\"\",'III. Realizacja CD 4'!J22=\"\",'III. Realizacja CD 5'!J22=\"\",'III. Realizacja CD 6'!J22=\"\",'III. Realizacja CD 7'!J22=\"\",'III. Realizacja CD 8'!J22=\"\",'III. Realizacja CD 9'!J22=\"\",'III. Realizacja CD 10'!J22=\"\"),\"\",\"tak\"))","v":""},null,{"$f":"listy!$A$19","v":"szczegółowe informacje w zakładkach poszczegółnych zadań"},null,{"$f":"IF(J22=\"nie\",\"!\",\"\")","v":""},{"$f":"listy!$A$19","v":"szczegółowe informacje w zakładkach poszczegółnych zadań"},null,{"$f":"listy!$A$19","v":"szczegółowe informacje w zakładkach poszczegółnych zadań"},null,null,null,{"$f":"listy!$A$19","v":"szczegółowe informacje w zakładkach poszczegółnych zadań"}]
[null,null,null,null,null,null,null,null,null,null,null,null,null,null,"w"]
[null,{"$f":"$B$15","v":"III.B.1."},4,"Czy sposób wykonania i dokumentowania przebiegu oraz wyniku czynności doradczej był odpowiedni do rodzaju i charakteru działań audytora wewnętrznego?",null,null,null,null,null,{"$f":"IF(OR('III. Realizacja CD 1'!J24=\"nie\",'III. Realizacja CD 2'!J24=\"nie\",'III. Realizacja CD 3'!J24=\"nie\",'III. Realizacja CD 4'!J24=\"nie\",'III. Realizacja CD 5'!J24=\"nie\",'III. Realizacja CD 6'!J24=\"nie\",'III. Realizacja CD 7'!J24=\"nie\",'III. Realizacja CD 8'!J24=\"nie\",'III. Realizacja CD 9'!J24=\"nie\",'III. Realizacja CD 10'!J24=\"nie\"),\"nie\",IF(AND('III. Realizacja CD 1'!J24=\"\",'III. Realizacja CD 2'!J24=\"\",'III. Realizacja CD 3'!J24=\"\",'III. Realizacja CD 4'!J24=\"\",'III. Realizacja CD 5'!J24=\"\",'III. Realizacja CD 6'!J24=\"\",'III. Realizacja CD 7'!J24=\"\",'III. Realizacja CD 8'!J24=\"\",'III. Realizacja CD 9'!J24=\"\",'III. Realizacja CD 10'!J24=\"\"),\"\",\"tak\"))","v":""},null,{"$f":"listy!$A$19","v":"szczegółowe informacje w zakładkach poszczegółnych zadań"},null,{"$f":"IF(J24=\"nie\",\"!\",\"\")","v":""},{"$f":"listy!$A$19","v":"szczegółowe informacje w zakładkach poszczegółnych zadań"},null,{"$f":"listy!$A$19","v":"szczegółowe informacje w zakładkach poszczegółnych zadań"},null,null,null,{"$f":"listy!$A$19","v":"szczegółowe informacje w zakładkach poszczegółnych zadań"}]
[]
[null,{"$f":"$B$15","v":"III.B.1."},5,"Czy w trakcie realizacji czynności nie wystąpił przypadek ograniczenia audytorowi prawa wstępu do pomieszczeń jednostki lub prawa do wglądu do dokumentów, informacji \ni danych oraz do innych materiałów związanych z funkcjonowaniem jednostki?",null,null,null,null,null,{"$f":"IF(OR('III. Realizacja CD 1'!J26=\"nie\",'III. Realizacja CD 2'!J26=\"nie\",'III. Realizacja CD 3'!J26=\"nie\",'III. Realizacja CD 4'!J26=\"nie\",'III. Realizacja CD 5'!J26=\"nie\",'III. Realizacja CD 6'!J26=\"nie\",'III. Realizacja CD 7'!J26=\"nie\",'III. Realizacja CD 8'!J26=\"nie\",'III. Realizacja CD 9'!J26=\"nie\",'III. Realizacja CD 10'!J26=\"nie\"),\"nie\",IF(AND('III. Realizacja CD 1'!J26=\"\",'III. Realizacja CD 2'!J26=\"\",'III. Realizacja CD 3'!J26=\"\",'III. Realizacja CD 4'!J26=\"\",'III. Realizacja CD 5'!J26=\"\",'III. Realizacja CD 6'!J26=\"\",'III. Realizacja CD 7'!J26=\"\",'III. Realizacja CD 8'!J26=\"\",'III. Realizacja CD 9'!J26=\"\",'III. Realizacja CD 10'!J26=\"\"),\"\",\"tak\"))","v":""},null,{"$f":"listy!$A$19","v":"szczegółowe informacje w zakładkach poszczegółnych zadań"},null,{"$f":"IF(J26=\"nie\",\"!\",\"\")","v":""},{"$f":"listy!$A$19","v":"szczegółowe informacje w zakładkach poszczegółnych zadań"},null,{"$f":"listy!$A$19","v":"szczegółowe informacje w zakładkach poszczegółnych zadań"},null,null,null,{"$f":"listy!$A$19","v":"szczegółowe informacje w zakładkach poszczegółnych zadań"}]
[]
[null,{"$f":"$B$15","v":"III.B.1."},6,"Czy w trakcie realizacji czynności nie wystąpił przypadek by pracownicy jednostki nie udzielili informacji i wyjaśnień, a także by nie sporządzili i potwierdzili kopii, odpisów, wyciągów lub zestawień, na potrzeby realizacji zadań przez audytora wewnętrznego? ",null,null,null,null,null,{"$f":"IF(OR('III. Realizacja CD 1'!J28=\"nie\",'III. Realizacja CD 2'!J28=\"nie\",'III. Realizacja CD 3'!J28=\"nie\",'III. Realizacja CD 4'!J28=\"nie\",'III. Realizacja CD 5'!J28=\"nie\",'III. Realizacja CD 6'!J28=\"nie\",'III. Realizacja CD 7'!J28=\"nie\",'III. Realizacja CD 8'!J28=\"nie\",'III. Realizacja CD 9'!J28=\"nie\",'III. Realizacja CD 10'!J28=\"nie\"),\"nie\",IF(AND('III. Realizacja CD 1'!J28=\"\",'III. Realizacja CD 2'!J28=\"\",'III. Realizacja CD 3'!J28=\"\",'III. Realizacja CD 4'!J28=\"\",'III. Realizacja CD 5'!J28=\"\",'III. Realizacja CD 6'!J28=\"\",'III. Realizacja CD 7'!J28=\"\",'III. Realizacja CD 8'!J28=\"\",'III. Realizacja CD 9'!J28=\"\",'III. Realizacja CD 10'!J28=\"\"),\"\",\"tak\"))","v":""},null,{"$f":"listy!$A$19","v":"szczegółowe informacje w zakładkach poszczegółnych zadań"},null,{"$f":"IF(J28=\"nie\",\"!\",\"\")","v":""},{"$f":"listy!$A$19","v":"szczegółowe informacje w zakładkach poszczegółnych zadań"},null,{"$f":"listy!$A$19","v":"szczegółowe informacje w zakładkach poszczegółnych zadań"},null,null,null,{"$f":"listy!$A$19","v":"szczegółowe informacje w zakładkach poszczegółnych zadań"}]
[]
[null,{"$f":"$B$15","v":"III.B.1."},7,"Czy kierownik komórki audytu wewnętrznego/audytor wewnętrzny - w trakcie realizacji czynności miał bezpośredni dostęp do kierownika jednostki, a w urzędzie administracji rządowej, w którym tworzy się stanowisko dyrektora generalnego urzędu – dyrektora generalnego w zakresie określonym odrębnymi ustawami? \n(na każdym etapie realizacji czynności)",null,null,null,null,null,{"$f":"IF(OR('III. Realizacja CD 1'!J30=\"nie\",'III. Realizacja CD 2'!J30=\"nie\",'III. Realizacja CD 3'!J30=\"nie\",'III. Realizacja CD 4'!J30=\"nie\",'III. Realizacja CD 5'!J30=\"nie\",'III. Realizacja CD 6'!J30=\"nie\",'III. Realizacja CD 7'!J30=\"nie\",'III. Realizacja CD 8'!J30=\"nie\",'III. Realizacja CD 9'!J30=\"nie\",'III. Realizacja CD 10'!J30=\"nie\"),\"nie\",IF(AND('III. Realizacja CD 1'!J30=\"\",'III. Realizacja CD 2'!J30=\"\",'III. Realizacja CD 3'!J30=\"\",'III. Realizacja CD 4'!J30=\"\",'III. Realizacja CD 5'!J30=\"\",'III. Realizacja CD 6'!J30=\"\",'III. Realizacja CD 7'!J30=\"\",'III. Realizacja CD 8'!J30=\"\",'III. Realizacja CD 9'!J30=\"\",'III. Realizacja CD 10'!J30=\"\"),\"\",\"tak\"))","v":""},null,{"$f":"listy!$A$19","v":"szczegółowe informacje w zakładkach poszczegółnych zadań"},null,{"$f":"IF(J30=\"nie\",\"!\",\"\")","v":""},{"$f":"listy!$A$19","v":"szczegółowe informacje w zakładkach poszczegółnych zadań"},null,{"$f":"listy!$A$19","v":"szczegółowe informacje w zakładkach poszczegółnych zadań"},null,null,null,{"$f":"listy!$A$19","v":"szczegółowe informacje w zakładkach poszczegółnych zadań"}]
[]
[null,{"$f":"$B$15","v":"III.B.1."},8,"Czy w trakcie realizacji czynności zapewniono warunki niezbędne do niezależnego, obiektywnego i efektywnego prowadzenia audytu wewnętrznego?",null,null,null,null,null,{"$f":"IF(OR('III. Realizacja CD 1'!J32=\"nie\",'III. Realizacja CD 2'!J32=\"nie\",'III. Realizacja CD 3'!J32=\"nie\",'III. Realizacja CD 4'!J32=\"nie\",'III. Realizacja CD 5'!J32=\"nie\",'III. Realizacja CD 6'!J32=\"nie\",'III. Realizacja CD 7'!J32=\"nie\",'III. Realizacja CD 8'!J32=\"nie\",'III. Realizacja CD 9'!J32=\"nie\",'III. Realizacja CD 10'!J32=\"nie\"),\"nie\",IF(AND('III. Realizacja CD 1'!J32=\"\",'III. Realizacja CD 2'!J32=\"\",'III. Realizacja CD 3'!J32=\"\",'III. Realizacja CD 4'!J32=\"\",'III. Realizacja CD 5'!J32=\"\",'III. Realizacja CD 6'!J32=\"\",'III. Realizacja CD 7'!J32=\"\",'III. Realizacja CD 8'!J32=\"\",'III. Realizacja CD 9'!J32=\"\",'III. Realizacja CD 10'!J32=\"\"),\"\",\"tak\"))","v":""},null,{"$f":"listy!$A$19","v":"szczegółowe informacje w zakładkach poszczegółnych zadań"},null,{"$f":"IF(J32=\"nie\",\"!\",\"\")","v":""},{"$f":"listy!$A$19","v":"szczegółowe informacje w zakładkach poszczegółnych zadań"},null,{"$f":"listy!$A$19","v":"szczegółowe informacje w zakładkach poszczegółnych zadań"},null,null,null,{"$f":"listy!$A$19","v":"szczegółowe informacje w zakładkach poszczegółnych zadań"}]
[]
[null,{"$f":"$B$15","v":"III.B.1."},9,"Czy kierownik komórki audytu wewnętrznego skutecznie zarządzał audytem wewnętrznym \ni zapewnił przysporzenie jednostce wartości dodanej?",null,null,null,null,null,{"$f":"IF(OR('III. Realizacja CD 1'!J34=\"nie\",'III. Realizacja CD 2'!J34=\"nie\",'III. Realizacja CD 3'!J34=\"nie\",'III. Realizacja CD 4'!J34=\"nie\",'III. Realizacja CD 5'!J34=\"nie\",'III. Realizacja CD 6'!J34=\"nie\",'III. Realizacja CD 7'!J34=\"nie\",'III. Realizacja CD 8'!J34=\"nie\",'III. Realizacja CD 9'!J34=\"nie\",'III. Realizacja CD 10'!J34=\"nie\"),\"nie\",IF(AND('III. Realizacja CD 1'!J34=\"\",'III. Realizacja CD 2'!J34=\"\",'III. Realizacja CD 3'!J34=\"\",'III. Realizacja CD 4'!J34=\"\",'III. Realizacja CD 5'!J34=\"\",'III. Realizacja CD 6'!J34=\"\",'III. Realizacja CD 7'!J34=\"\",'III. Realizacja CD 8'!J34=\"\",'III. Realizacja CD 9'!J34=\"\",'III. Realizacja CD 10'!J34=\"\"),\"\",\"tak\"))","v":""},null,{"$f":"listy!$A$19","v":"szczegółowe informacje w zakładkach poszczegółnych zadań"},null,null,{"$f":"listy!$A$19","v":"szczegółowe informacje w zakładkach poszczegółnych zadań"},null,{"$f":"listy!$A$19","v":"szczegółowe informacje w zakładkach poszczegółnych zadań"},null,null,null,{"$f":"listy!$A$19","v":"szczegółowe informacje w zakładkach poszczegółnych zadań"}]
[]
[null,{"$f":"$B$15","v":"III.B.1."},10,"Czy w celu zapewnienia odpowiedniego zakresu audytu i minimalizacji powielania wysiłków, kierownik komórki audytu wewnętrznego/audytor wewnętrzny wymieniał informacje, koordynował działania i brał pod uwagę możliwość polegania na pracy innych zarówno wewnętrznych, jak i zewnętrznych wykonawców usług doradczych?",null,null,null,null,null,{"$f":"IF(OR('III. Realizacja CD 1'!J36=\"nie\",'III. Realizacja CD 2'!J36=\"nie\",'III. Realizacja CD 3'!J36=\"nie\",'III. Realizacja CD 4'!J36=\"nie\",'III. Realizacja CD 5'!J36=\"nie\",'III. Realizacja CD 6'!J36=\"nie\",'III. Realizacja CD 7'!J36=\"nie\",'III. Realizacja CD 8'!J36=\"nie\",'III. Realizacja CD 9'!J36=\"nie\",'III. Realizacja CD 10'!J36=\"nie\"),\"nie\",IF(AND('III. Realizacja CD 1'!J36=\"\",'III. Realizacja CD 2'!J36=\"\",'III. Realizacja CD 3'!J36=\"\",'III. Realizacja CD 4'!J36=\"\",'III. Realizacja CD 5'!J36=\"\",'III. Realizacja CD 6'!J36=\"\",'III. Realizacja CD 7'!J36=\"\",'III. Realizacja CD 8'!J36=\"\",'III. Realizacja CD 9'!J36=\"\",'III. Realizacja CD 10'!J36=\"\"),\"\",\"tak\"))","v":""},null,{"$f":"listy!$A$19","v":"szczegółowe informacje w zakładkach poszczegółnych zadań"},null,null,{"$f":"listy!$A$19","v":"szczegółowe informacje w zakładkach poszczegółnych zadań"},null,{"$f":"listy!$A$19","v":"szczegółowe informacje w zakładkach poszczegółnych zadań"},null,null,null,{"$f":"listy!$A$19","v":"szczegółowe informacje w zakładkach poszczegółnych zadań"}]
[]
[null,{"$f":"$B$15","v":"III.B.1."},11,"Czy audytor wewnętrzny opracował i udokumentował program zadania, obejmujący cele \ni zakres czynności, czas potrzebny do jego realizacji oraz niezbędne zasoby? ",null,null,null,null,null,{"$f":"IF(OR('III. Realizacja CD 1'!J38=\"nie\",'III. Realizacja CD 2'!J38=\"nie\",'III. Realizacja CD 3'!J38=\"nie\",'III. Realizacja CD 4'!J38=\"nie\",'III. Realizacja CD 5'!J38=\"nie\",'III. Realizacja CD 6'!J38=\"nie\",'III. Realizacja CD 7'!J38=\"nie\",'III. Realizacja CD 8'!J38=\"nie\",'III. Realizacja CD 9'!J38=\"nie\",'III. Realizacja CD 10'!J38=\"nie\"),\"nie\",IF(AND('III. Realizacja CD 1'!J38=\"\",'III. Realizacja CD 2'!J38=\"\",'III. Realizacja CD 3'!J38=\"\",'III. Realizacja CD 4'!J38=\"\",'III. Realizacja CD 5'!J38=\"\",'III. Realizacja CD 6'!J38=\"\",'III. Realizacja CD 7'!J38=\"\",'III. Realizacja CD 8'!J38=\"\",'III. Realizacja CD 9'!J38=\"\",'III. Realizacja CD 10'!J38=\"\"),\"\",\"tak\"))","v":""},null,{"$f":"listy!$A$19","v":"szczegółowe informacje w zakładkach poszczegółnych zadań"},null,null,{"$f":"listy!$A$19","v":"szczegółowe informacje w zakładkach poszczegółnych zadań"},null,{"$f":"listy!$A$19","v":"szczegółowe informacje w zakładkach poszczegółnych zadań"},null,null,null,{"$f":"listy!$A$19","v":"szczegółowe informacje w zakładkach poszczegółnych zadań"}]
[]
[null,{"$f":"$B$15","v":"III.B.1."},12,"Czy audytor wewnętrzny zbierał, analizował, oceniał i dokumentował informacje wystarczające do osiągnięcia celów czynności?",null,null,null,null,null,{"$f":"IF(OR('III. Realizacja CD 1'!J40=\"nie\",'III. Realizacja CD 2'!J40=\"nie\",'III. Realizacja CD 3'!J40=\"nie\",'III. Realizacja CD 4'!J40=\"nie\",'III. Realizacja CD 5'!J40=\"nie\",'III. Realizacja CD 6'!J40=\"nie\",'III. Realizacja CD 7'!J40=\"nie\",'III. Realizacja CD 8'!J40=\"nie\",'III. Realizacja CD 9'!J40=\"nie\",'III. Realizacja CD 10'!J40=\"nie\"),\"nie\",IF(AND('III. Realizacja CD 1'!J40=\"\",'III. Realizacja CD 2'!J40=\"\",'III. Realizacja CD 3'!J40=\"\",'III. Realizacja CD 4'!J40=\"\",'III. Realizacja CD 5'!J40=\"\",'III. Realizacja CD 6'!J40=\"\",'III. Realizacja CD 7'!J40=\"\",'III. Realizacja CD 8'!J40=\"\",'III. Realizacja CD 9'!J40=\"\",'III. Realizacja CD 10'!J40=\"\"),\"\",\"tak\"))","v":""},null,{"$f":"listy!$A$19","v":"szczegółowe informacje w zakładkach poszczegółnych zadań"},null,null,{"$f":"listy!$A$19","v":"szczegółowe informacje w zakładkach poszczegółnych zadań"},null,{"$f":"listy!$A$19","v":"szczegółowe informacje w zakładkach poszczegółnych zadań"},null,null,null,{"$f":"listy!$A$19","v":"szczegółowe informacje w zakładkach poszczegółnych zadań"}]
[]
[null,{"$f":"$B$15","v":"III.B.1."},13,"Czy informacje przekazane w wyniku czynności były dokładne, obiektywne, jasne, zwięzłe, konstruktywne, kompletne oraz dostarczone na czas?",null,null,null,null,null,{"$f":"IF(OR('III. Realizacja CD 1'!J42=\"nie\",'III. Realizacja CD 2'!J42=\"nie\",'III. Realizacja CD 3'!J42=\"nie\",'III. Realizacja CD 4'!J42=\"nie\",'III. Realizacja CD 5'!J42=\"nie\",'III. Realizacja CD 6'!J42=\"nie\",'III. Realizacja CD 7'!J42=\"nie\",'III. Realizacja CD 8'!J42=\"nie\",'III. Realizacja CD 9'!J42=\"nie\",'III. Realizacja CD 10'!J42=\"nie\"),\"nie\",IF(AND('III. Realizacja CD 1'!J42=\"\",'III. Realizacja CD 2'!J42=\"\",'III. Realizacja CD 3'!J42=\"\",'III. Realizacja CD 4'!J42=\"\",'III. Realizacja CD 5'!J42=\"\",'III. Realizacja CD 6'!J42=\"\",'III. Realizacja CD 7'!J42=\"\",'III. Realizacja CD 8'!J42=\"\",'III. Realizacja CD 9'!J42=\"\",'III. Realizacja CD 10'!J42=\"\"),\"\",\"tak\"))","v":""},null,{"$f":"listy!$A$19","v":"szczegółowe informacje w zakładkach poszczegółnych zadań"},null,null,{"$f":"listy!$A$19","v":"szczegółowe informacje w zakładkach poszczegółnych zadań"},null,{"$f":"listy!$A$19","v":"szczegółowe informacje w zakładkach poszczegółnych zadań"},null,null,null,{"$f":"listy!$A$19","v":"szczegółowe informacje w zakładkach poszczegółnych zadań"}]
[]
[null,{"$f":"$B$15","v":"III.B.1."},14,"Czy czynność została zrealizowana zgodnie z zakresem i celem, uzgodnionym z kierownikiem jednostki?",null,null,null,null,null,{"$f":"IF(OR('III. Realizacja CD 1'!J44=\"nie\",'III. Realizacja CD 2'!J44=\"nie\",'III. Realizacja CD 3'!J44=\"nie\",'III. Realizacja CD 4'!J44=\"nie\",'III. Realizacja CD 5'!J44=\"nie\",'III. Realizacja CD 6'!J44=\"nie\",'III. Realizacja CD 7'!J44=\"nie\",'III. Realizacja CD 8'!J44=\"nie\",'III. Realizacja CD 9'!J44=\"nie\",'III. Realizacja CD 10'!J44=\"nie\"),\"nie\",IF(AND('III. Realizacja CD 1'!J44=\"\",'III. Realizacja CD 2'!J44=\"\",'III. Realizacja CD 3'!J44=\"\",'III. Realizacja CD 4'!J44=\"\",'III. Realizacja CD 5'!J44=\"\",'III. Realizacja CD 6'!J44=\"\",'III. Realizacja CD 7'!J44=\"\",'III. Realizacja CD 8'!J44=\"\",'III. Realizacja CD 9'!J44=\"\",'III. Realizacja CD 10'!J44=\"\"),\"\",\"tak\"))","v":""},null,{"$f":"listy!$A$19","v":"szczegółowe informacje w zakładkach poszczegółnych zadań"},null,null,{"$f":"listy!$A$19","v":"szczegółowe informacje w zakładkach poszczegółnych zadań"},null,{"$f":"listy!$A$19","v":"szczegółowe informacje w zakładkach poszczegółnych zadań"},null,null,null,{"$f":"listy!$A$19","v":"szczegółowe informacje w zakładkach poszczegółnych zadań"}]
[]
[null,{"$f":"$B$15","v":"III.B.1."},15,"Czy kierownik komórki audytu wewnętrznego/audytor wewnętrzny poinformował kierownika jednostki, że przyjęło poziom ryzyka, który może być nie do zaakceptowania dla jednostki? \n(jeżeli była taka potrzeba, w przeciwnym razie należy zaznaczyć tak i w kolumnie dowód/potwierdzenie należy wpisać nie dotyczy)",null,null,null,null,null,{"$f":"IF(OR('III. Realizacja CD 1'!J46=\"nie\",'III. Realizacja CD 2'!J46=\"nie\",'III. Realizacja CD 3'!J46=\"nie\",'III. Realizacja CD 4'!J46=\"nie\",'III. Realizacja CD 5'!J46=\"nie\",'III. Realizacja CD 6'!J46=\"nie\",'III. Realizacja CD 7'!J46=\"nie\",'III. Realizacja CD 8'!J46=\"nie\",'III. Realizacja CD 9'!J46=\"nie\",'III. Realizacja CD 10'!J46=\"nie\"),\"nie\",IF(AND('III. Realizacja CD 1'!J46=\"\",'III. Realizacja CD 2'!J46=\"\",'III. Realizacja CD 3'!J46=\"\",'III. Realizacja CD 4'!J46=\"\",'III. Realizacja CD 5'!J46=\"\",'III. Realizacja CD 6'!J46=\"\",'III. Realizacja CD 7'!J46=\"\",'III. Realizacja CD 8'!J46=\"\",'III. Realizacja CD 9'!J46=\"\",'III. Realizacja CD 10'!J46=\"\"),\"\",\"tak\"))","v":""},null,{"$f":"listy!$A$19","v":"szczegółowe informacje w zakładkach poszczegółnych zadań"},null,null,{"$f":"listy!$A$19","v":"szczegółowe informacje w zakładkach poszczegółnych zadań"},null,{"$f":"listy!$A$19","v":"szczegółowe informacje w zakładkach poszczegółnych zadań"},null,null,null,{"$f":"listy!$A$19","v":"szczegółowe informacje w zakładkach poszczegółnych zadań"}]
[]
[null,{"$f":"$B$15","v":"III.B.1."},16,"Czy kierownik komórki audytu wewnętrznego/audytor wewnętrzny w wyniku przeprowadzonej czynności przedstawił propozycje dotyczące usprawnienia funkcjonowania jednostki?\n(jeżeli była taka potrzeba, w przeciwnym razie należy zaznaczyć tak i w kolumnie dowód/potwierdzenie należy wpisać nie dotyczy)",null,null,null,null,null,{"$f":"IF(OR('III. Realizacja CD 1'!J48=\"nie\",'III. Realizacja CD 2'!J48=\"nie\",'III. Realizacja CD 3'!J48=\"nie\",'III. Realizacja CD 4'!J48=\"nie\",'III. Realizacja CD 5'!J48=\"nie\",'III. Realizacja CD 6'!J48=\"nie\",'III. Realizacja CD 7'!J48=\"nie\",'III. Realizacja CD 8'!J48=\"nie\",'III. Realizacja CD 9'!J48=\"nie\",'III. Realizacja CD 10'!J48=\"nie\"),\"nie\",IF(AND('III. Realizacja CD 1'!J48=\"\",'III. Realizacja CD 2'!J48=\"\",'III. Realizacja CD 3'!J48=\"\",'III. Realizacja CD 4'!J48=\"\",'III. Realizacja CD 5'!J48=\"\",'III. Realizacja CD 6'!J48=\"\",'III. Realizacja CD 7'!J48=\"\",'III. Realizacja CD 8'!J48=\"\",'III. Realizacja CD 9'!J48=\"\",'III. Realizacja CD 10'!J48=\"\"),\"\",\"tak\"))","v":""},null,{"$f":"listy!$A$19","v":"szczegółowe informacje w zakładkach poszczegółnych zadań"},null,null,{"$f":"listy!$A$19","v":"szczegółowe informacje w zakładkach poszczegółnych zadań"},null,{"$f":"listy!$A$19","v":"szczegółowe informacje w zakładkach poszczegółnych zadań"},null,null,null,{"$f":"listy!$A$19","v":"szczegółowe informacje w zakładkach poszczegółnych zadań"}]

{"sheet":"III. Realizacja CD 1","index":16,"n_rows":48,"n_cols":25,"rows_kept":48,"cut":false,"hidden":true,"merged":[[47,3,47,8],[47,9,47,10],[47,11,47,12],[47,16,47,18],[12,3,12,8],[13,3,13,8],[43,3,43,8],[43,9,43,10],[43,11,43,12],[43,16,43,18],[45,3,45,8],[45,9,45,10],[45,11,45,12],[45,16,45,18],[39,3,39,8],[39,9,39,10],[39,11,39,12],[39,16,39,18],[41,3,41,8],[41,9,41,10],[41,11,41,12],[41,16,41,18],[35,3,35,8],[35,9,35,10],[35,11,35,12],[35,16,35,18],[37,3,37,8],[37,9,37,10],[37,11,37,12],[37,16,37,18],[31,3,31,8],[31,9,31,10],[31,11,31,12],[31,16,31,18],[33,3,33,8],[33,9,33,10],[33,11,33,12],[33,16,33,18],[27,3,27,8],[27,9,27,10],[27,11,27,12],[27,16,27,18],[29,3,29,8],[29,9,29,10],[29,11,29,12],[29,16,29,18],[23,3,23,8],[23,9,23,10],[23,11,23,12],[23,16,23,18],[25,3,25,8],[25,9,25,10],[25,11,25,12],[25,16,25,18],[19,3,19,8],[19,9,19,10],[19,11,19,12],[19,16,19,18],[21,3,21,8],[21,9,21,10],[21,11,21,12],[21,16,21,18],[17,3,17,8],[17,9,17,10],[17,11,17,12],[17,16,17,18],[11,3,11,8],[11,11,11,12],[11,14,14,20],[13,11,13,12],[14,2,14,8],[14,11,14,12],[15,2,15,12],[15,14,15,20],[16,9,16,10],[16,11,16,12],[16,16,16,18],[1,1,1,11],[3,1,6,21],[7,3,7,10],[7,14,7,20],[8,2,9,10],[8,11,9,11],[8,12,9,12],[8,14,10,20],[10,3,10,8],[10,11,10,12]]}
[]
[]
[]
[null,"Quality @w "]
[]
[]
[]
[null,null,null,null,null,null,null,null,null,null,null,null,null,"data rozpoczęcia wypełniania niniejszego arkusza","liczba uzyskanych punktów w bloku tematycznym"]
[null,null,{"$f":"'Strona tytułowa'!$H$16","v":0},null,null,null,null,null,null,null,null,{"$f":"'Strona tytułowa'!$F$16","v":0},{"$f":"'Strona tytułowa'!$B$2","v":"ver.2.0.2018"},null,{"$f":"J12","v":0}]
[null,null,null,null,null,null,null,null,null,null,null,null,null,null,null,null,null,null,null,null,null,null,null,null,{"$f":"J12+K12","v":0}]
[null,null,null,"blok tematyczny",null,null,null,null,null,"tak","nie","% udzielonych odpowiedzi"]
[null,null,"III.B","REALIZACJA ZADAŃ AUDYTOWYCH - CZYNNOŚĆ DORADCZA",null,null,null,null,null,{"$f":"J15","v":0},{"$f":"K15","v":0},{"$f":"(J12+K12)/16","v":0},null,{"$f":"COUNTIF(N18:N48,\"!\")","v":0},"0                                                                                                                                                                                                                                                                                                              16 "]
[null,null,null,"temat czynności",null,null,null,null,null,{"$f":"J12/(J12+K12)","v":{"$error":"#DIV/0!"}},{"$f":"K12/(K12+J12)","v":{"$error":"#DIV/0!"}}]
[null,null,null,null,null,null,null,null,null,"tak","nie","% udzielonych odpowiedzi",null,"niezgodność z przepisami"]
[null,"III.B.1.","Przygotowanie, realizacja i dokumentowanie czynności doradczej",null,null,null,null,null,null,{"$f":"COUNTIF(J18:J48,\"tak\")","v":0},{"$f":"COUNTIF(J18:J48,\"*\")-J15","v":0},{"$f":"COUNTIF(J18:J48,\"*\")/16","v":0}]
[null,null,"ustawa: art. 280; art. 282\nrozporządzenie: §22; §23; §24\nstandardy: 2000; 2050; 2240; 2300; 2400; 2600",null,null,null,null,null,null,null,null,null,null,null,"NALEŻY WSKAZAĆ ZAKRES ZIDENTYFIKOWANEJ NIEPRAWIDŁOWOŚCI ORAZ ZAPLANOWAĆ I ZREALIZOWAĆ \nDZIAŁANIA KORYGUJĄCE/NAPRAWCZE\nW tym celu proszę wypełnić poniższe komórki.\n"]
[null,null,null,null,null,null,null,null,null,"odpowiedź",null,"dowód/potwierdzenie dla pełnej \nlub częściowej zgodności/komentarz",null,null,"zakres zidentyfikowanej niezgodności\nw przypadku częściowej niezgodności należy wymienić i opisać te elementy, które wymagają działań korygujących/naprawczych",null,"planowane działania korygujące/naprawcze",null,null,null,"termin realizacji"]
[null,{"$f":"$B$15","v":"III.B.1."},1,"Czy zrealizowana czynność doradcza służyła wspieraniu kierownika jednostki w realizacji celów i zadań i była realizowana na jego wniosek lub z własnej inicjatywy audytora?",null,null,null,null,null,null,null,null,null,{"$f":"IF(J18=\"nie\",\"!\",\"\")","v":""}]
[]
[null,{"$f":"$B$15","v":"III.B.1."},2,"Czy cel i zakres czynności doradczej audytor wewnętrzny uzgodnił z kierownikiem jednostki?",null,null,null,null,null,null,null,null,null,{"$f":"IF(J20=\"nie\",\"!\",\"\")","v":""}]
[]
[null,{"$f":"$B$15","v":"III.B.1."},3,"Czy realizacja czynności nie prowadziła do przyjęcia przez audytora wewnętrznego obowiązków, odpowiedzialności lub uprawnień wchodzących w zakres zarządzania jednostką?",null,null,null,null,null,null,null,null,null,{"$f":"IF(J22=\"nie\",\"!\",\"\")","v":""}]
[null,null,null,null,null,null,null,null,null,null,null,null,null,null,"w"]
[null,{"$f":"$B$15","v":"III.B.1."},4,"Czy sposób wykonania i dokumentowania przebiegu oraz wyniku czynności doradczej był odpowiedni do rodzaju i charakteru działań audytora wewnętrznego?",null,null,null,null,null,null,null,null,null,{"$f":"IF(J24=\"nie\",\"!\",\"\")","v":""}]
[]
[null,{"$f":"$B$15","v":"III.B.1."},5,"Czy w trakcie realizacji czynności nie wystąpił przypadek ograniczenia audytorowi prawa wstępu do pomieszczeń jednostki lub prawa do wglądu do dokumentów, informacji \ni danych oraz do innych materiałów związanych z funkcjonowaniem jednostki?",null,null,null,null,null,null,null,null,null,{"$f":"IF(J26=\"nie\",\"!\",\"\")","v":""}]
[]
[null,{"$f":"$B$15","v":"III.B.1."},6,"Czy w trakcie realizacji czynności nie wystąpił przypadek by pracownicy jednostki nie udzielili informacji i wyjaśnień, a także by nie sporządzili i potwierdzili kopii, odpisów, wyciągów lub zestawień, na potrzeby realizacji zadań przez audytora wewnętrznego? ",null,null,null,null,null,null,null,null,null,{"$f":"IF(J28=\"nie\",\"!\",\"\")","v":""}]
[]
[null,{"$f":"$B$15","v":"III.B.1."},7,"Czy kierownik komórki audytu wewnętrznego/audytor wewnętrzny - w trakcie realizacji czynności miał bezpośredni dostęp do kierownika jednostki, a w urzędzie administracji rządowej, w którym tworzy się stanowisko dyrektora generalnego urzędu – dyrektora generalnego w zakresie określonym odrębnymi ustawami? \n(na każdym etapie realizacji czynności)",null,null,null,null,null,null,null,null,null,{"$f":"IF(J30=\"nie\",\"!\",\"\")","v":""}]
[]
[null,{"$f":"$B$15","v":"III.B.1."},8,"Czy w trakcie realizacji czynności zapewniono warunki niezbędne do niezależnego, obiektywnego i efektywnego prowadzenia audytu wewnętrznego?",null,null,null,null,null,null,null,null,null,{"$f":"IF(J32=\"nie\",\"!\",\"\")","v":""}]
[]
[null,{"$f":"$B$15","v":"III.B.1."},9,"Czy kierownik komórki audytu wewnętrznego skutecznie zarządzał audytem wewnętrznym \ni zapewnił przysporzenie jednostce wartości dodanej?"]
[]
[null,{"$f":"$B$15","v":"III.B.1."},10,"Czy w celu zapewnienia odpowiedniego zakresu audytu i minimalizacji powielania wysiłków, kierownik komórki audytu wewnętrznego/audytor wewnętrzny wymieniał informacje, koordynował działania i brał pod uwagę możliwość polegania na pracy innych zarówno wewnętrznych, jak i zewnętrznych wykonawców usług doradczych?"]
[]
[null,{"$f":"$B$15","v":"III.B.1."},11,"Czy audytor wewnętrzny opracował i udokumentował program zadania, obejmujący cele \ni zakres czynności, czas potrzebny do jego realizacji oraz niezbędne zasoby? "]
[]
[null,{"$f":"$B$15","v":"III.B.1."},12,"Czy audytor wewnętrzny zbierał, analizował, oceniał i dokumentował informacje wystarczające do osiągnięcia celów czynności?"]
[]
[null,{"$f":"$B$15","v":"III.B.1."},13,"Czy informacje przekazane w wyniku czynności były dokładne, obiektywne, jasne, zwięzłe, konstruktywne, kompletne oraz dostarczone na czas?"]
[]
[null,{"$f":"$B$15","v":"III.B.1."},14,"Czy czynność została zrealizowana zgodnie z zakresem i celem, uzgodnionym z kierownikiem jednostki?"]
[]
[null,{"$f":"$B$15","v":"III.B.1."},15,"Czy kierownik komórki audytu wewnętrznego/audytor wewnętrzny poinformował kierownika jednostki, że przyjęło poziom ryzyka, który może być nie do zaakceptowania dla jednostki? \n(jeżeli była taka potrzeba, w przeciwnym razie należy zaznaczyć tak i w kolumnie dowód/potwierdzenie należy wpisać nie dotyczy)"]
[]
[null,{"$f":"$B$15","v":"III.B.1."},16,"Czy kierownik komórki audytu wewnętrznego/audytor wewnętrzny w wyniku przeprowadzonej czynności przedstawił propozycje dotyczące usprawnienia funkcjonowania jednostki?\n(jeżeli była taka potrzeba, w przeciwnym razie należy zaznaczyć tak i w kolumnie dowód/potwierdzenie należy wpisać nie dotyczy)"]

{"sheet":"III. Realizacja CD 2","index":17,"n_rows":48,"n_cols":25,"rows_kept":48,"cut":false,"hidden":true,"merged":[[47,3,47,8],[47,9,47,10],[47,11,47,12],[47,16,47,18],[12,3,12,8],[13,3,13,8],[43,3,43,8],[43,9,43,10],[43,11,43,12],[43,16,43,18],[45,3,45,8],[45,9,45,10],[45,11,45,12],[45,16,45,18],[39,3,39,8],[39,9,39,10],[39,11,39,12],[39,16,39,18],[41,3,41,8],[41,9,41,10],[41,11,41,12],[41,16,41,18],[35,3,35,8],[35,9,35,10],[35,11,35,12],[35,16,35,18],[37,3,37,8],[37,9,37,10],[37,11,37,12],[37,16,37,18],[31,3,31,8],[31,9,31,10],[31,11,31,12],[31,16,31,18],[33,3,33,8],[33,9,33,10],[33,11,33,12],[33,16,33,18],[27,3,27,8],[27,9,27,10],[27,11,27,12],[27,16,27,18],[29,3,29,8],[29,9,29,10],[29,11,29,12],[29,16,29,18],[23,3,23,8],[23,9,23,10],[23,11,23,12],[23,16,23,18],[25,3,25,8],[25,9,25,10],[25,11,25,12],[25,16,25,18],[19,3,19,8],[19,9,19,10],[19,11,19,12],[19,16,19,18],[21,3,21,8],[21,9,21,10],[21,11,21,12],[21,16,21,18],[17,3,17,8],[17,9,17,10],[17,11,17,12],[17,16,17,18],[11,3,11,8],[11,11,11,12],[11,14,14,20],[13,11,13,12],[14,2,14,8],[14,11,14,12],[15,2,15,12],[15,14,15,20],[16,9,16,10],[16,11,16,12],[16,16,16,18],[1,1,1,11],[3,1,6,21],[7,3,7,10],[7,14,7,20],[8,2,9,10],[8,11,9,11],[8,12,9,12],[8,14,10,20],[10,3,10,8],[10,11,10,12]]}
[]
[]
[]
[null,"Quality @w "]
[]
[]
[]
[null,null,null,null,null,null,null,null,null,null,null,null,null,"data rozpoczęcia wypełniania niniejszego arkusza","liczba uzyskanych punktów w bloku tematycznym"]
[null,null,{"$f":"'Strona tytułowa'!$H$16","v":0},null,null,null,null,null,null,null,null,{"$f":"'Strona tytułowa'!$F$16","v":0},{"$f":"'Strona tytułowa'!$B$2","v":"ver.2.0.2018"},null,{"$f":"J12","v":0}]
[null,null,null,null,null,null,null,null,null,null,null,null,null,null,null,null,null,null,null,null,null,null,null,null,{"$f":"J12+K12","v":0}]
[null,null,null,"blok tematyczny",null,null,null,null,null,"tak","nie","% udzielonych odpowiedzi"]
[null,null,"III.B","REALIZACJA ZADAŃ AUDYTOWYCH - CZYNNOŚĆ DORADCZA",null,null,null,null,null,{"$f":"J15","v":0},{"$f":"K15","v":0},{"$f":"(J12+K12)/16","v":0},null,{"$f":"COUNTIF(N18:N48,\"!\")","v":0},"0                                                                                                                                                                                                                                                                                                              16 "]
[null,null,null,"temat czynności",null,null,null,null,null,{"$f":"J12/(J12+K12)","v":{"$error":"#DIV/0!"}},{"$f":"K12/(K12+J12)","v":{"$error":"#DIV/0!"}}]
[null,null,null,null,null,null,null,null,null,"tak","nie","% udzielonych odpowiedzi",null,"niezgodność z przepisami"]
[null,"III.B.1.","Przygotowanie, realizacja i dokumentowanie czynności doradczej",null,null,null,null,null,null,{"$f":"COUNTIF(J18:J48,\"tak\")","v":0},{"$f":"COUNTIF(J18:J48,\"*\")-J15","v":0},{"$f":"COUNTIF(J18:J48,\"*\")/16","v":0}]
[null,null,"ustawa: art. 280; art. 282\nrozporządzenie: §22; §23; §24\nstandardy: 2000; 2050; 2240; 2300; 2400; 2600",null,null,null,null,null,null,null,null,null,null,null,"NALEŻY WSKAZAĆ ZAKRES ZIDENTYFIKOWANEJ NIEPRAWIDŁOWOŚCI ORAZ ZAPLANOWAĆ I ZREALIZOWAĆ \nDZIAŁANIA KORYGUJĄCE/NAPRAWCZE\nW tym celu proszę wypełnić poniższe komórki.\n"]
[null,null,null,null,null,null,null,null,null,"odpowiedź",null,"dowód/potwierdzenie dla pełnej \nlub częściowej zgodności/komentarz",null,null,"zakres zidentyfikowanej niezgodności\nw przypadku częściowej niezgodności należy wymienić i opisać te elementy, które wymagają działań korygujących/naprawczych",null,"planowane działania korygujące/naprawcze",null,null,null,"termin realizacji"]
[null,{"$f":"$B$15","v":"III.B.1."},1,"Czy zrealizowana czynność doradcza służyła wspieraniu kierownika jednostki w realizacji celów i zadań i była realizowana na jego wniosek lub z własnej inicjatywy audytora?",null,null,null,null,null,null,null,null,null,{"$f":"IF(J18=\"nie\",\"!\",\"\")","v":""}]
[]
[null,{"$f":"$B$15","v":"III.B.1."},2,"Czy cel i zakres czynności doradczej audytor wewnętrzny uzgodnił z kierownikiem jednostki?",null,null,null,null,null,null,null,null,null,{"$f":"IF(J20=\"nie\",\"!\",\"\")","v":""}]
[]
[null,{"$f":"$B$15","v":"III.B.1."},3,"Czy realizacja czynności nie prowadziła do przyjęcia przez audytora wewnętrznego obowiązków, odpowiedzialności lub uprawnień wchodzących w zakres zarządzania jednostką?",null,null,null,null,null,null,null,null,null,{"$f":"IF(J22=\"nie\",\"!\",\"\")","v":""}]
[null,null,null,null,null,null,null,null,null,null,null,null,null,null,"w"]
[null,{"$f":"$B$15","v":"III.B.1."},4,"Czy sposób wykonania i dokumentowania przebiegu oraz wyniku czynności doradczej był odpowiedni do rodzaju i charakteru działań audytora wewnętrznego?",null,null,null,null,null,null,null,null,null,{"$f":"IF(J24=\"nie\",\"!\",\"\")","v":""}]
[]
[null,{"$f":"$B$15","v":"III.B.1."},5,"Czy w trakcie realizacji czynności nie wystąpił przypadek ograniczenia audytorowi prawa wstępu do pomieszczeń jednostki lub prawa do wglądu do dokumentów, informacji \ni danych oraz do innych materiałów związanych z funkcjonowaniem jednostki?",null,null,null,null,null,null,null,null,null,{"$f":"IF(J26=\"nie\",\"!\",\"\")","v":""}]
[]
[null,{"$f":"$B$15","v":"III.B.1."},6,"Czy w trakcie realizacji czynności nie wystąpił przypadek by pracownicy jednostki nie udzielili informacji i wyjaśnień, a także by nie sporządzili i potwierdzili kopii, odpisów, wyciągów lub zestawień, na potrzeby realizacji zadań przez audytora wewnętrznego? ",null,null,null,null,null,null,null,null,null,{"$f":"IF(J28=\"nie\",\"!\",\"\")","v":""}]
[]
[null,{"$f":"$B$15","v":"III.B.1."},7,"Czy kierownik komórki audytu wewnętrznego/audytor wewnętrzny - w trakcie realizacji czynności miał bezpośredni dostęp do kierownika jednostki, a w urzędzie administracji rządowej, w którym tworzy się stanowisko dyrektora generalnego urzędu – dyrektora generalnego w zakresie określonym odrębnymi ustawami? \n(na każdym etapie realizacji czynności)",null,null,null,null,null,null,null,null,null,{"$f":"IF(J30=\"nie\",\"!\",\"\")","v":""}]
[]
[null,{"$f":"$B$15","v":"III.B.1."},8,"Czy w trakcie realizacji czynności zapewniono warunki niezbędne do niezależnego, obiektywnego i efektywnego prowadzenia audytu wewnętrznego?",null,null,null,null,null,null,null,null,null,{"$f":"IF(J32=\"nie\",\"!\",\"\")","v":""}]
[]
[null,{"$f":"$B$15","v":"III.B.1."},9,"Czy kierownik komórki audytu wewnętrznego skutecznie zarządzał audytem wewnętrznym \ni zapewnił przysporzenie jednostce wartości dodanej?"]
[]
[null,{"$f":"$B$15","v":"III.B.1."},10,"Czy w celu zapewnienia odpowiedniego zakresu audytu i minimalizacji powielania wysiłków, kierownik komórki audytu wewnętrznego/audytor wewnętrzny wymieniał informacje, koordynował działania i brał pod uwagę możliwość polegania na pracy innych zarówno wewnętrznych, jak i zewnętrznych wykonawców usług doradczych?"]
[]
[null,{"$f":"$B$15","v":"III.B.1."},11,"Czy audytor wewnętrzny opracował i udokumentował program zadania, obejmujący cele \ni zakres czynności, czas potrzebny do jego realizacji oraz niezbędne zasoby? "]
[]
[null,{"$f":"$B$15","v":"III.B.1."},12,"Czy audytor wewnętrzny zbierał, analizował, oceniał i dokumentował informacje wystarczające do osiągnięcia celów czynności?"]
[]
[null,{"$f":"$B$15","v":"III.B.1."},13,"Czy informacje przekazane w wyniku czynności były dokładne, obiektywne, jasne, zwięzłe, konstruktywne, kompletne oraz dostarczone na czas?"]
[]
[null,{"$f":"$B$15","v":"III.B.1."},14,"Czy czynność została zrealizowana zgodnie z zakresem i celem, uzgodnionym z kierownikiem jednostki?"]
[]
[null,{"$f":"$B$15","v":"III.B.1."},15,"Czy kierownik komórki audytu wewnętrznego/audytor wewnętrzny poinformował kierownika jednostki, że przyjęło poziom ryzyka, który może być nie do zaakceptowania dla jednostki? \n(jeżeli była taka potrzeba, w przeciwnym razie należy zaznaczyć tak i w kolumnie dowód/potwierdzenie należy wpisać nie dotyczy)"]
[]
[null,{"$f":"$B$15","v":"III.B.1."},16,"Czy kierownik komórki audytu wewnętrznego/audytor wewnętrzny w wyniku przeprowadzonej czynności przedstawił propozycje dotyczące usprawnienia funkcjonowania jednostki?\n(jeżeli była taka potrzeba, w przeciwnym razie należy zaznaczyć tak i w kolumnie dowód/potwierdzenie należy wpisać nie dotyczy)"]

{"sheet":"III. Realizacja CD 3","index":18,"n_rows":48,"n_cols":25,"rows_kept":48,"cut":false,"hidden":true,"merged":[[41,3,41,8],[41,9,41,10],[41,11,41,12],[41,16,41,18],[47,3,47,8],[47,9,47,10],[47,11,47,12],[47,16,47,18],[43,3,43,8],[43,9,43,10],[43,11,43,12],[43,16,43,18],[45,3,45,8],[45,9,45,10],[45,11,45,12],[45,16,45,18],[37,3,37,8],[37,9,37,10],[37,11,37,12],[37,16,37,18],[39,3,39,8],[39,9,39,10],[39,11,39,12],[39,16,39,18],[33,3,33,8],[33,9,33,10],[33,11,33,12],[33,16,33,18],[35,3,35,8],[35,9,35,10],[35,11,35,12],[35,16,35,18],[29,3,29,8],[29,9,29,10],[29,11,29,12],[29,16,29,18],[31,3,31,8],[31,9,31,10],[31,11,31,12],[31,16,31,18],[25,3,25,8],[25,9,25,10],[25,11,25,12],[25,16,25,18],[27,3,27,8],[27,9,27,10],[27,11,27,12],[27,16,27,18],[21,3,21,8],[21,9,21,10],[21,11,21,12],[21,16,21,18],[23,3,23,8],[23,9,23,10],[23,11,23,12],[23,16,23,18],[16,16,16,18],[19,3,19,8],[19,9,19,10],[19,11,19,12],[19,16,19,18],[17,3,17,8],[17,9,17,10],[17,11,17,12],[17,16,17,18],[11,14,14,20],[12,3,12,8],[13,3,13,8],[13,11,13,12],[14,2,14,8],[14,11,14,12],[15,2,15,12],[15,14,15,20],[16,9,16,10],[16,11,16,12],[1,1,1,11],[3,1,6,21],[7,3,7,10],[7,14,7,20],[8,2,9,10],[8,11,9,11],[8,12,9,12],[8,14,10,20],[10,3,10,8],[10,11,10,12],[11,3,11,8],[11,11,11,12]]}
[]
[]
[]
[null,"Quality @w "]
[]
[]
[]
[null,null,null,null,null,null,null,null,null,null,null,null,null,"data rozpoczęcia wypełniania niniejszego arkusza","liczba uzyskanych punktów w bloku tematycznym"]
[null,null,{"$f":"'Strona tytułowa'!$H$16","v":0},null,null,null,null,null,null,null,null,{"$f":"'Strona tytułowa'!$F$16","v":0},{"$f":"'Strona tytułowa'!$B$2","v":"ver.2.0.2018"},null,{"$f":"J12","v":0}]
[null,null,null,null,null,null,null,null,null,null,null,null,null,null,null,null,null,null,null,null,null,null,null,null,{"$f":"J12+K12","v":0}]
[null,null,null,"blok tematyczny",null,null,null,null,null,"tak","nie","% udzielonych odpowiedzi"]
[null,null,"III.B","REALIZACJA ZADAŃ AUDYTOWYCH - CZYNNOŚĆ DORADCZA",null,null,null,null,null,{"$f":"J15","v":0},{"$f":"K15","v":0},{"$f":"(J12+K12)/16","v":0},null,{"$f":"COUNTIF(N18:N48,\"!\")","v":0},"0                                                                                                                                                                                                                                                                                                              16 "]
[null,null,null,"temat czynności",null,null,null,null,null,{"$f":"J12/(J12+K12)","v":{"$error":"#DIV/0!"}},{"$f":"K12/(K12+J12)","v":{"$error":"#DIV/0!"}}]
[null,null,null,null,null,null,null,null,null,"tak","nie","% udzielonych odpowiedzi",null,"niezgodność z przepisami"]
[null,"III.B.1.","Przygotowanie, realizacja i dokumentowanie czynności doradczej",null,null,null,null,null,null,{"$f":"COUNTIF(J18:J48,\"tak\")","v":0},{"$f":"COUNTIF(J18:J48,\"*\")-J15","v":0},{"$f":"COUNTIF(J18:J48,\"*\")/16","v":0}]
[null,null,"ustawa: art. 280; art. 282\nrozporządzenie: §22; §23; §24\nstandardy: 2000; 2050; 2240; 2300; 2400; 2600",null,null,null,null,null,null,null,null,null,null,null,"NALEŻY WSKAZAĆ ZAKRES ZIDENTYFIKOWANEJ NIEPRAWIDŁOWOŚCI ORAZ ZAPLANOWAĆ I ZREALIZOWAĆ \nDZIAŁANIA KORYGUJĄCE/NAPRAWCZE\nW tym celu proszę wypełnić poniższe komórki.\n"]
[null,null,null,null,null,null,null,null,null,"odpowiedź",null,"dowód/potwierdzenie dla pełnej \nlub częściowej zgodności/komentarz",null,null,"zakres zidentyfikowanej niezgodności\nw przypadku częściowej niezgodności należy wymienić i opisać te elementy, które wymagają działań korygujących/naprawczych",null,"planowane działania korygujące/naprawcze",null,null,null,"termin realizacji"]
[null,{"$f":"$B$15","v":"III.B.1."},1,"Czy zrealizowana czynność doradcza służyła wspieraniu kierownika jednostki w realizacji celów i zadań i była realizowana na jego wniosek lub z własnej inicjatywy audytora?",null,null,null,null,null,null,null,null,null,{"$f":"IF(J18=\"nie\",\"!\",\"\")","v":""}]
[]
[null,{"$f":"$B$15","v":"III.B.1."},2,"Czy cel i zakres czynności doradczej audytor wewnętrzny uzgodnił z kierownikiem jednostki?",null,null,null,null,null,null,null,null,null,{"$f":"IF(J20=\"nie\",\"!\",\"\")","v":""}]
[]
[null,{"$f":"$B$15","v":"III.B.1."},3,"Czy realizacja czynności nie prowadziła do przyjęcia przez audytora wewnętrznego obowiązków, odpowiedzialności lub uprawnień wchodzących w zakres zarządzania jednostką?",null,null,null,null,null,null,null,null,null,{"$f":"IF(J22=\"nie\",\"!\",\"\")","v":""}]
[null,null,null,null,null,null,null,null,null,null,null,null,null,null,"w"]
[null,{"$f":"$B$15","v":"III.B.1."},4,"Czy sposób wykonania i dokumentowania przebiegu oraz wyniku czynności doradczej był odpowiedni do rodzaju i charakteru działań audytora wewnętrznego?",null,null,null,null,null,null,null,null,null,{"$f":"IF(J24=\"nie\",\"!\",\"\")","v":""}]
[]
[null,{"$f":"$B$15","v":"III.B.1."},5,"Czy w trakcie realizacji czynności nie wystąpił przypadek ograniczenia audytorowi prawa wstępu do pomieszczeń jednostki lub prawa do wglądu do dokumentów, informacji \ni danych oraz do innych materiałów związanych z funkcjonowaniem jednostki?",null,null,null,null,null,null,null,null,null,{"$f":"IF(J26=\"nie\",\"!\",\"\")","v":""}]
[]
[null,{"$f":"$B$15","v":"III.B.1."},6,"Czy w trakcie realizacji czynności nie wystąpił przypadek by pracownicy jednostki nie udzielili informacji i wyjaśnień, a także by nie sporządzili i potwierdzili kopii, odpisów, wyciągów lub zestawień, na potrzeby realizacji zadań przez audytora wewnętrznego? ",null,null,null,null,null,null,null,null,null,{"$f":"IF(J28=\"nie\",\"!\",\"\")","v":""}]
[]
[null,{"$f":"$B$15","v":"III.B.1."},7,"Czy kierownik komórki audytu wewnętrznego/audytor wewnętrzny - w trakcie realizacji czynności miał bezpośredni dostęp do kierownika jednostki, a w urzędzie administracji rządowej, w którym tworzy się stanowisko dyrektora generalnego urzędu – dyrektora generalnego w zakresie określonym odrębnymi ustawami? \n(na każdym etapie realizacji czynności)",null,null,null,null,null,null,null,null,null,{"$f":"IF(J30=\"nie\",\"!\",\"\")","v":""}]
[]
[null,{"$f":"$B$15","v":"III.B.1."},8,"Czy w trakcie realizacji czynności zapewniono warunki niezbędne do niezależnego, obiektywnego i efektywnego prowadzenia audytu wewnętrznego?",null,null,null,null,null,null,null,null,null,{"$f":"IF(J32=\"nie\",\"!\",\"\")","v":""}]
[]
[null,{"$f":"$B$15","v":"III.B.1."},9,"Czy kierownik komórki audytu wewnętrznego skutecznie zarządzał audytem wewnętrznym \ni zapewnił przysporzenie jednostce wartości dodanej?"]
[]
[null,{"$f":"$B$15","v":"III.B.1."},10,"Czy w celu zapewnienia odpowiedniego zakresu audytu i minimalizacji powielania wysiłków, kierownik komórki audytu wewnętrznego/audytor wewnętrzny wymieniał informacje, koordynował działania i brał pod uwagę możliwość polegania na pracy innych zarówno wewnętrznych, jak i zewnętrznych wykonawców usług doradczych?"]
[]
[null,{"$f":"$B$15","v":"III.B.1."},11,"Czy audytor wewnętrzny opracował i udokumentował program zadania, obejmujący cele \ni zakres czynności, czas potrzebny do jego realizacji oraz niezbędne zasoby? "]
[]
[null,{"$f":"$B$15","v":"III.B.1."},12,"Czy audytor wewnętrzny zbierał, analizował, oceniał i dokumentował informacje wystarczające do osiągnięcia celów czynności?"]
[]
[null,{"$f":"$B$15","v":"III.B.1."},13,"Czy informacje przekazane w wyniku czynności były dokładne, obiektywne, jasne, zwięzłe, konstruktywne, kompletne oraz dostarczone na czas?"]
[]
[null,{"$f":"$B$15","v":"III.B.1."},14,"Czy czynność została zrealizowana zgodnie z zakresem i celem, uzgodnionym z kierownikiem jednostki?"]
[]
[null,{"$f":"$B$15","v":"III.B.1."},15,"Czy kierownik komórki audytu wewnętrznego/audytor wewnętrzny poinformował kierownika jednostki, że przyjęło poziom ryzyka, który może być nie do zaakceptowania dla jednostki? \n(jeżeli była taka potrzeba, w przeciwnym razie należy zaznaczyć tak i w kolumnie dowód/potwierdzenie należy wpisać nie dotyczy)"]
[]
[null,{"$f":"$B$15","v":"III.B.1."},16,"Czy kierownik komórki audytu wewnętrznego/audytor wewnętrzny w wyniku przeprowadzonej czynności przedstawił propozycje dotyczące usprawnienia funkcjonowania jednostki?\n(jeżeli była taka potrzeba, w przeciwnym razie należy zaznaczyć tak i w kolumnie dowód/potwierdzenie należy wpisać nie dotyczy)"]

{"sheet":"III. Realizacja CD 4","index":19,"n_rows":48,"n_cols":25,"rows_kept":48,"cut":false,"hidden":true,"merged":[[41,3,41,8],[41,9,41,10],[41,11,41,12],[41,16,41,18],[47,3,47,8],[47,9,47,10],[47,11,47,12],[47,16,47,18],[43,3,43,8],[43,9,43,10],[43,11,43,12],[43,16,43,18],[45,3,45,8],[45,9,45,10],[45,11,45,12],[45,16,45,18],[37,3,37,8],[37,9,37,10],[37,11,37,12],[37,16,37,18],[39,3,39,8],[39,9,39,10],[39,11,39,12],[39,16,39,18],[33,3,33,8],[33,9,33,10],[33,11,33,12],[33,16,33,18],[35,3,35,8],[35,9,35,10],[35,11,35,12],[35,16,35,18],[29,3,29,8],[29,9,29,10],[29,11,29,12],[29,16,29,18],[31,3,31,8],[31,9,31,10],[31,11,31,12],[31,16,31,18],[25,3,25,8],[25,9,25,10],[25,11,25,12],[25,16,25,18],[27,3,27,8],[27,9,27,10],[27,11,27,12],[27,16,27,18],[21,3,21,8],[21,9,21,10],[21,11,21,12],[21,16,21,18],[23,3,23,8],[23,9,23,10],[23,11,23,12],[23,16,23,18],[16,16,16,18],[19,3,19,8],[19,9,19,10],[19,11,19,12],[19,16,19,18],[17,3,17,8],[17,9,17,10],[17,11,17,12],[17,16,17,18],[11,14,14,20],[12,3,12,8],[13,3,13,8],[13,11,13,12],[14,2,14,8],[14,11,14,12],[15,2,15,12],[15,14,15,20],[16,9,16,10],[16,11,16,12],[1,1,1,11],[3,1,6,21],[7,3,7,10],[7,14,7,20],[8,2,9,10],[8,11,9,11],[8,12,9,12],[8,14,10,20],[10,3,10,8],[10,11,10,12],[11,3,11,8],[11,11,11,12]]}
[]
[]
[]
[null,"Quality @w "]
[]
[]
[]
[null,null,null,null,null,null,null,null,null,null,null,null,null,"data rozpoczęcia wypełniania niniejszego arkusza","liczba uzyskanych punktów w bloku tematycznym"]
[null,null,{"$f":"'Strona tytułowa'!$H$16","v":0},null,null,null,null,null,null,null,null,{"$f":"'Strona tytułowa'!$F$16","v":0},{"$f":"'Strona tytułowa'!$B$2","v":"ver.2.0.2018"},null,{"$f":"J12","v":0}]
[null,null,null,null,null,null,null,null,null,null,null,null,null,null,null,null,null,null,null,null,null,null,null,null,{"$f":"J12+K12","v":0}]
[null,null,null,"blok tematyczny",null,null,null,null,null,"tak","nie","% udzielonych odpowiedzi"]
[null,null,"III.B","REALIZACJA ZADAŃ AUDYTOWYCH - CZYNNOŚĆ DORADCZA",null,null,null,null,null,{"$f":"J15","v":0},{"$f":"K15","v":0},{"$f":"(J12+K12)/16","v":0},null,{"$f":"COUNTIF(N18:N48,\"!\")","v":0},"0                                                                                                                                                                                                                                                                                                              16 "]
[null,null,null,"temat czynności",null,null,null,null,null,{"$f":"J12/(J12+K12)","v":{"$error":"#DIV/0!"}},{"$f":"K12/(K12+J12)","v":{"$error":"#DIV/0!"}}]
[null,null,null,null,null,null,null,null,null,"tak","nie","% udzielonych odpowiedzi",null,"niezgodność z przepisami"]
[null,"III.B.1.","Przygotowanie, realizacja i dokumentowanie czynności doradczej",null,null,null,null,null,null,{"$f":"COUNTIF(J18:J48,\"tak\")","v":0},{"$f":"COUNTIF(J18:J48,\"*\")-J15","v":0},{"$f":"COUNTIF(J18:J48,\"*\")/16","v":0}]
[null,null,"ustawa: art. 280; art. 282\nrozporządzenie: §22; §23; §24\nstandardy: 2000; 2050; 2240; 2300; 2400; 2600",null,null,null,null,null,null,null,null,null,null,null,"NALEŻY WSKAZAĆ ZAKRES ZIDENTYFIKOWANEJ NIEPRAWIDŁOWOŚCI ORAZ ZAPLANOWAĆ I ZREALIZOWAĆ \nDZIAŁANIA KORYGUJĄCE/NAPRAWCZE\nW tym celu proszę wypełnić poniższe komórki.\n"]
[null,null,null,null,null,null,null,null,null,"odpowiedź",null,"dowód/potwierdzenie dla pełnej \nlub częściowej zgodności/komentarz",null,null,"zakres zidentyfikowanej niezgodności\nw przypadku częściowej niezgodności należy wymienić i opisać te elementy, które wymagają działań korygujących/naprawczych",null,"planowane działania korygujące/naprawcze",null,null,null,"termin realizacji"]
[null,{"$f":"$B$15","v":"III.B.1."},1,"Czy zrealizowana czynność doradcza służyła wspieraniu kierownika jednostki w realizacji celów i zadań i była realizowana na jego wniosek lub z własnej inicjatywy audytora?",null,null,null,null,null,null,null,null,null,{"$f":"IF(J18=\"nie\",\"!\",\"\")","v":""}]
[]
[null,{"$f":"$B$15","v":"III.B.1."},2,"Czy cel i zakres czynności doradczej audytor wewnętrzny uzgodnił z kierownikiem jednostki?",null,null,null,null,null,null,null,null,null,{"$f":"IF(J20=\"nie\",\"!\",\"\")","v":""}]
[]
[null,{"$f":"$B$15","v":"III.B.1."},3,"Czy realizacja czynności nie prowadziła do przyjęcia przez audytora wewnętrznego obowiązków, odpowiedzialności lub uprawnień wchodzących w zakres zarządzania jednostką?",null,null,null,null,null,null,null,null,null,{"$f":"IF(J22=\"nie\",\"!\",\"\")","v":""}]
[null,null,null,null,null,null,null,null,null,null,null,null,null,null,"w"]
[null,{"$f":"$B$15","v":"III.B.1."},4,"Czy sposób wykonania i dokumentowania przebiegu oraz wyniku czynności doradczej był odpowiedni do rodzaju i charakteru działań audytora wewnętrznego?",null,null,null,null,null,null,null,null,null,{"$f":"IF(J24=\"nie\",\"!\",\"\")","v":""}]
[]
[null,{"$f":"$B$15","v":"III.B.1."},5,"Czy w trakcie realizacji czynności nie wystąpił przypadek ograniczenia audytorowi prawa wstępu do pomieszczeń jednostki lub prawa do wglądu do dokumentów, informacji \ni danych oraz do innych materiałów związanych z funkcjonowaniem jednostki?",null,null,null,null,null,null,null,null,null,{"$f":"IF(J26=\"nie\",\"!\",\"\")","v":""}]
[]
[null,{"$f":"$B$15","v":"III.B.1."},6,"Czy w trakcie realizacji czynności nie wystąpił przypadek by pracownicy jednostki nie udzielili informacji i wyjaśnień, a także by nie sporządzili i potwierdzili kopii, odpisów, wyciągów lub zestawień, na potrzeby realizacji zadań przez audytora wewnętrznego? ",null,null,null,null,null,null,null,null,null,{"$f":"IF(J28=\"nie\",\"!\",\"\")","v":""}]
[]
[null,{"$f":"$B$15","v":"III.B.1."},7,"Czy kierownik komórki audytu wewnętrznego/audytor wewnętrzny - w trakcie realizacji czynności miał bezpośredni dostęp do kierownika jednostki, a w urzędzie administracji rządowej, w którym tworzy się stanowisko dyrektora generalnego urzędu – dyrektora generalnego w zakresie określonym odrębnymi ustawami? \n(na każdym etapie realizacji czynności)",null,null,null,null,null,null,null,null,null,{"$f":"IF(J30=\"nie\",\"!\",\"\")","v":""}]
[]
[null,{"$f":"$B$15","v":"III.B.1."},8,"Czy w trakcie realizacji czynności zapewniono warunki niezbędne do niezależnego, obiektywnego i efektywnego prowadzenia audytu wewnętrznego?",null,null,null,null,null,null,null,null,null,{"$f":"IF(J32=\"nie\",\"!\",\"\")","v":""}]
[]
[null,{"$f":"$B$15","v":"III.B.1."},9,"Czy kierownik komórki audytu wewnętrznego skutecznie zarządzał audytem wewnętrznym \ni zapewnił przysporzenie jednostce wartości dodanej?"]
[]
[null,{"$f":"$B$15","v":"III.B.1."},10,"Czy w celu zapewnienia odpowiedniego zakresu audytu i minimalizacji powielania wysiłków, kierownik komórki audytu wewnętrznego/audytor wewnętrzny wymieniał informacje, koordynował działania i brał pod uwagę możliwość polegania na pracy innych zarówno wewnętrznych, jak i zewnętrznych wykonawców usług doradczych?"]
[]
[null,{"$f":"$B$15","v":"III.B.1."},11,"Czy audytor wewnętrzny opracował i udokumentował program zadania, obejmujący cele \ni zakres czynności, czas potrzebny do jego realizacji oraz niezbędne zasoby? "]
[]
[null,{"$f":"$B$15","v":"III.B.1."},12,"Czy audytor wewnętrzny zbierał, analizował, oceniał i dokumentował informacje wystarczające do osiągnięcia celów czynności?"]
[]
[null,{"$f":"$B$15","v":"III.B.1."},13,"Czy informacje przekazane w wyniku czynności były dokładne, obiektywne, jasne, zwięzłe, konstruktywne, kompletne oraz dostarczone na czas?"]
[]
[null,{"$f":"$B$15","v":"III.B.1."},14,"Czy czynność została zrealizowana zgodnie z zakresem i celem, uzgodnionym z kierownikiem jednostki?"]
[]
[null,{"$f":"$B$15","v":"III.B.1."},15,"Czy kierownik komórki audytu wewnętrznego/audytor wewnętrzny poinformował kierownika jednostki, że przyjęło poziom ryzyka, który może być nie do zaakceptowania dla jednostki? \n(jeżeli była taka potrzeba, w przeciwnym razie należy zaznaczyć tak i w kolumnie dowód/potwierdzenie należy wpisać nie dotyczy)"]
[]
[null,{"$f":"$B$15","v":"III.B.1."},16,"Czy kierownik komórki audytu wewnętrznego/audytor wewnętrzny w wyniku przeprowadzonej czynności przedstawił propozycje dotyczące usprawnienia funkcjonowania jednostki?\n(jeżeli była taka potrzeba, w przeciwnym razie należy zaznaczyć tak i w kolumnie dowód/potwierdzenie należy wpisać nie dotyczy)"]

{"sheet":"III. Realizacja CD 5","index":20,"n_rows":48,"n_cols":25,"rows_kept":48,"cut":false,"hidden":true,"merged":[[41,3,41,8],[41,9,41,10],[41,11,41,12],[41,16,41,18],[47,3,47,8],[47,9,47,10],[47,11,47,12],[47,16,47,18],[43,3,43,8],[43,9,43,10],[43,11,43,12],[43,16,43,18],[45,3,45,8],[45,9,45,10],[45,11,45,12],[45,16,45,18],[37,3,37,8],[37,9,37,10],[37,11,37,12],[37,16,37,18],[39,3,39,8],[39,9,39,10],[39,11,39,12],[39,16,39,18],[33,3,33,8],[33,9,33,10],[33,11,33,12],[33,16,33,18],[35,3,35,8],[35,9,35,10],[35,11,35,12],[35,16,35,18],[29,3,29,8],[29,9,29,10],[29,11,29,12],[29,16,29,18],[31,3,31,8],[31,9,31,10],[31,11,31,12],[31,16,31,18],[25,3,25,8],[25,9,25,10],[25,11,25,12],[25,16,25,18],[27,3,27,8],[27,9,27,10],[27,11,27,12],[27,16,27,18],[21,3,21,8],[21,9,21,10],[21,11,21,12],[21,16,21,18],[23,3,23,8],[23,9,23,10],[23,11,23,12],[23,16,23,18],[16,16,16,18],[19,3,19,8],[19,9,19,10],[19,11,19,12],[19,16,19,18],[17,3,17,8],[17,9,17,10],[17,11,17,12],[17,16,17,18],[11,14,14,20],[12,3,12,8],[13,3,13,8],[13,11,13,12],[14,2,14,8],[14,11,14,12],[15,2,15,12],[15,14,15,20],[16,9,16,10],[16,11,16,12],[1,1,1,11],[3,1,6,21],[7,3,7,10],[7,14,7,20],[8,2,9,10],[8,11,9,11],[8,12,9,12],[8,14,10,20],[10,3,10,8],[10,11,10,12],[11,3,11,8],[11,11,11,12]]}
[]
[]
[]
[null,"Quality @w "]
[]
[]
[]
[null,null,null,null,null,null,null,null,null,null,null,null,null,"data rozpoczęcia wypełniania niniejszego arkusza","liczba uzyskanych punktów w bloku tematycznym"]
[null,null,{"$f":"'Strona tytułowa'!$H$16","v":0},null,null,null,null,null,null,null,null,{"$f":"'Strona tytułowa'!$F$16","v":0},{"$f":"'Strona tytułowa'!$B$2","v":"ver.2.0.2018"},null,{"$f":"J12","v":0}]
[null,null,null,null,null,null,null,null,null,null,null,null,null,null,null,null,null,null,null,null,null,null,null,null,{"$f":"J12+K12","v":0}]
[null,null,null,"blok tematyczny",null,null,null,null,null,"tak","nie","% udzielonych odpowiedzi"]
[null,null,"III.B","REALIZACJA ZADAŃ AUDYTOWYCH - CZYNNOŚĆ DORADCZA",null,null,null,null,null,{"$f":"J15","v":0},{"$f":"K15","v":0},{"$f":"(J12+K12)/16","v":0},null,{"$f":"COUNTIF(N18:N48,\"!\")","v":0},"0                                                                                                                                                                                                                                                                                                              16 "]
[null,null,null,"temat czynności",null,null,null,null,null,{"$f":"J12/(J12+K12)","v":{"$error":"#DIV/0!"}},{"$f":"K12/(K12+J12)","v":{"$error":"#DIV/0!"}}]
[null,null,null,null,null,null,null,null,null,"tak","nie","% udzielonych odpowiedzi",null,"niezgodność z przepisami"]
[null,"III.B.1.","Przygotowanie, realizacja i dokumentowanie czynności doradczej",null,null,null,null,null,null,{"$f":"COUNTIF(J18:J48,\"tak\")","v":0},{"$f":"COUNTIF(J18:J48,\"*\")-J15","v":0},{"$f":"COUNTIF(J18:J48,\"*\")/16","v":0}]
[null,null,"ustawa: art. 280; art. 282\nrozporządzenie: §22; §23; §24\nstandardy: 2000; 2050; 2240; 2300; 2400; 2600",null,null,null,null,null,null,null,null,null,null,null,"NALEŻY WSKAZAĆ ZAKRES ZIDENTYFIKOWANEJ NIEPRAWIDŁOWOŚCI ORAZ ZAPLANOWAĆ I ZREALIZOWAĆ \nDZIAŁANIA KORYGUJĄCE/NAPRAWCZE\nW tym celu proszę wypełnić poniższe komórki.\n"]
[null,null,null,null,null,null,null,null,null,"odpowiedź",null,"dowód/potwierdzenie dla pełnej \nlub częściowej zgodności/komentarz",null,null,"zakres zidentyfikowanej niezgodności\nw przypadku częściowej niezgodności należy wymienić i opisać te elementy, które wymagają działań korygujących/naprawczych",null,"planowane działania korygujące/naprawcze",null,null,null,"termin realizacji"]
[null,{"$f":"$B$15","v":"III.B.1."},1,"Czy zrealizowana czynność doradcza służyła wspieraniu kierownika jednostki w realizacji celów i zadań i była realizowana na jego wniosek lub z własnej inicjatywy audytora?",null,null,null,null,null,null,null,null,null,{"$f":"IF(J18=\"nie\",\"!\",\"\")","v":""}]
[]
[null,{"$f":"$B$15","v":"III.B.1."},2,"Czy cel i zakres czynności doradczej audytor wewnętrzny uzgodnił z kierownikiem jednostki?",null,null,null,null,null,null,null,null,null,{"$f":"IF(J20=\"nie\",\"!\",\"\")","v":""}]
[]
[null,{"$f":"$B$15","v":"III.B.1."},3,"Czy realizacja czynności nie prowadziła do przyjęcia przez audytora wewnętrznego obowiązków, odpowiedzialności lub uprawnień wchodzących w zakres zarządzania jednostką?",null,null,null,null,null,null,null,null,null,{"$f":"IF(J22=\"nie\",\"!\",\"\")","v":""}]
[null,null,null,null,null,null,null,null,null,null,null,null,null,null,"w"]
[null,{"$f":"$B$15","v":"III.B.1."},4,"Czy sposób wykonania i dokumentowania przebiegu oraz wyniku czynności doradczej był odpowiedni do rodzaju i charakteru działań audytora wewnętrznego?",null,null,null,null,null,null,null,null,null,{"$f":"IF(J24=\"nie\",\"!\",\"\")","v":""}]
[]
[null,{"$f":"$B$15","v":"III.B.1."},5,"Czy w trakcie realizacji czynności nie wystąpił przypadek ograniczenia audytorowi prawa wstępu do pomieszczeń jednostki lub prawa do wglądu do dokumentów, informacji \ni danych oraz do innych materiałów związanych z funkcjonowaniem jednostki?",null,null,null,null,null,null,null,null,null,{"$f":"IF(J26=\"nie\",\"!\",\"\")","v":""}]
[]
[null,{"$f":"$B$15","v":"III.B.1."},6,"Czy w trakcie realizacji czynności nie wystąpił przypadek by pracownicy jednostki nie udzielili informacji i wyjaśnień, a także by nie sporządzili i potwierdzili kopii, odpisów, wyciągów lub zestawień, na potrzeby realizacji zadań przez audytora wewnętrznego? ",null,null,null,null,null,null,null,null,null,{"$f":"IF(J28=\"nie\",\"!\",\"\")","v":""}]
[]
[null,{"$f":"$B$15","v":"III.B.1."},7,"Czy kierownik komórki audytu wewnętrznego/audytor wewnętrzny - w trakcie realizacji czynności miał bezpośredni dostęp do kierownika jednostki, a w urzędzie administracji rządowej, w którym tworzy się stanowisko dyrektora generalnego urzędu – dyrektora generalnego w zakresie określonym odrębnymi ustawami? \n(na każdym etapie realizacji czynności)",null,null,null,null,null,null,null,null,null,{"$f":"IF(J30=\"nie\",\"!\",\"\")","v":""}]
[]
[null,{"$f":"$B$15","v":"III.B.1."},8,"Czy w trakcie realizacji czynności zapewniono warunki niezbędne do niezależnego, obiektywnego i efektywnego prowadzenia audytu wewnętrznego?",null,null,null,null,null,null,null,null,null,{"$f":"IF(J32=\"nie\",\"!\",\"\")","v":""}]
[]
[null,{"$f":"$B$15","v":"III.B.1."},9,"Czy kierownik komórki audytu wewnętrznego skutecznie zarządzał audytem wewnętrznym \ni zapewnił przysporzenie jednostce wartości dodanej?"]
[]
[null,{"$f":"$B$15","v":"III.B.1."},10,"Czy w celu zapewnienia odpowiedniego zakresu audytu i minimalizacji powielania wysiłków, kierownik komórki audytu wewnętrznego/audytor wewnętrzny wymieniał informacje, koordynował działania i brał pod uwagę możliwość polegania na pracy innych zarówno wewnętrznych, jak i zewnętrznych wykonawców usług doradczych?"]
[]
[null,{"$f":"$B$15","v":"III.B.1."},11,"Czy audytor wewnętrzny opracował i udokumentował program zadania, obejmujący cele \ni zakres czynności, czas potrzebny do jego realizacji oraz niezbędne zasoby? "]
[]
[null,{"$f":"$B$15","v":"III.B.1."},12,"Czy audytor wewnętrzny zbierał, analizował, oceniał i dokumentował informacje wystarczające do osiągnięcia celów czynności?"]
[]
[null,{"$f":"$B$15","v":"III.B.1."},13,"Czy informacje przekazane w wyniku czynności były dokładne, obiektywne, jasne, zwięzłe, konstruktywne, kompletne oraz dostarczone na czas?"]
[]
[null,{"$f":"$B$15","v":"III.B.1."},14,"Czy czynność została zrealizowana zgodnie z zakresem i celem, uzgodnionym z kierownikiem jednostki?"]
[]
[null,{"$f":"$B$15","v":"III.B.1."},15,"Czy kierownik komórki audytu wewnętrznego/audytor wewnętrzny poinformował kierownika jednostki, że przyjęło poziom ryzyka, który może być nie do zaakceptowania dla jednostki? \n(jeżeli była taka potrzeba, w przeciwnym razie należy zaznaczyć tak i w kolumnie dowód/potwierdzenie należy wpisać nie dotyczy)"]
[]
[null,{"$f":"$B$15","v":"III.B.1."},16,"Czy kierownik komórki audytu wewnętrznego/audytor wewnętrzny w wyniku przeprowadzonej czynności przedstawił propozycje dotyczące usprawnienia funkcjonowania jednostki?\n(jeżeli była taka potrzeba, w przeciwnym razie należy zaznaczyć tak i w kolumnie dowód/potwierdzenie należy wpisać nie dotyczy)"]

{"sheet":"III. Realizacja CD 6","index":21,"n_rows":48,"n_cols":25,"rows_kept":48,"cut":false,"hidden":true,"merged":[[41,3,41,8],[41,9,41,10],[41,11,41,12],[41,16,41,18],[47,3,47,8],[47,9,47,10],[47,11,47,12],[47,16,47,18],[43,3,43,8],[43,9,43,10],[43,11,43,12],[43,16,43,18],[45,3,45,8],[45,9,45,10],[45,11,45,12],[45,16,45,18],[37,3,37,8],[37,9,37,10],[37,11,37,12],[37,16,37,18],[39,3,39,8],[39,9,39,10],[39,11,39,12],[39,16,39,18],[33,3,33,8],[33,9,33,10],[33,11,33,12],[33,16,33,18],[35,3,35,8],[35,9,35,10],[35,11,35,12],[35,16,35,18],[29,3,29,8],[29,9,29,10],[29,11,29,12],[29,16,29,18],[31,3,31,8],[31,9,31,10],[31,11,31,12],[31,16,31,18],[25,3,25,8],[25,9,25,10],[25,11,25,12],[25,16,25,18],[27,3,27,8],[27,9,27,10],[27,11,27,12],[27,16,27,18],[21,3,21,8],[21,9,21,10],[21,11,21,12],[21,16,21,18],[23,3,23,8],[23,9,23,10],[23,11,23,12],[23,16,23,18],[16,16,16,18],[19,3,19,8],[19,9,19,10],[19,11,19,12],[19,16,19,18],[17,3,17,8],[17,9,17,10],[17,11,17,12],[17,16,17,18],[11,14,14,20],[12,3,12,8],[13,3,13,8],[13,11,13,12],[14,2,14,8],[14,11,14,12],[15,2,15,12],[15,14,15,20],[16,9,16,10],[16,11,16,12],[1,1,1,11],[3,1,6,21],[7,3,7,10],[7,14,7,20],[8,2,9,10],[8,11,9,11],[8,12,9,12],[8,14,10,20],[10,3,10,8],[10,11,10,12],[11,3,11,8],[11,11,11,12]]}
[]
[]
[]
[null,"Quality @w "]
[]
[]
[]
[null,null,null,null,null,null,null,null,null,null,null,null,null,"data rozpoczęcia wypełniania niniejszego arkusza","liczba uzyskanych punktów w bloku tematycznym"]
[null,null,{"$f":"'Strona tytułowa'!$H$16","v":0},null,null,null,null,null,null,null,null,{"$f":"'Strona tytułowa'!$F$16","v":0},{"$f":"'Strona tytułowa'!$B$2","v":"ver.2.0.2018"},null,{"$f":"J12","v":0}]
[null,null,null,null,null,null,null,null,null,null,null,null,null,null,null,null,null,null,null,null,null,null,null,null,{"$f":"J12+K12","v":0}]
[null,null,null,"blok tematyczny",null,null,null,null,null,"tak","nie","% udzielonych odpowiedzi"]
[null,null,"III.B","REALIZACJA ZADAŃ AUDYTOWYCH - CZYNNOŚĆ DORADCZA",null,null,null,null,null,{"$f":"J15","v":0},{"$f":"K15","v":0},{"$f":"(J12+K12)/16","v":0},null,{"$f":"COUNTIF(N18:N48,\"!\")","v":0},"0                                                                                                                                                                                                                                                                                                              16 "]
[null,null,null,"temat czynności",null,null,null,null,null,{"$f":"J12/(J12+K12)","v":{"$error":"#DIV/0!"}},{"$f":"K12/(K12+J12)","v":{"$error":"#DIV/0!"}}]
[null,null,null,null,null,null,null,null,null,"tak","nie","% udzielonych odpowiedzi",null,"niezgodność z przepisami"]
[null,"III.B.1.","Przygotowanie, realizacja i dokumentowanie czynności doradczej",null,null,null,null,null,null,{"$f":"COUNTIF(J18:J48,\"tak\")","v":0},{"$f":"COUNTIF(J18:J48,\"*\")-J15","v":0},{"$f":"COUNTIF(J18:J48,\"*\")/16","v":0}]
[null,null,"ustawa: art. 280; art. 282\nrozporządzenie: §22; §23; §24\nstandardy: 2000; 2050; 2240; 2300; 2400; 2600",null,null,null,null,null,null,null,null,null,null,null,"NALEŻY WSKAZAĆ ZAKRES ZIDENTYFIKOWANEJ NIEPRAWIDŁOWOŚCI ORAZ ZAPLANOWAĆ I ZREALIZOWAĆ \nDZIAŁANIA KORYGUJĄCE/NAPRAWCZE\nW tym celu proszę wypełnić poniższe komórki.\n"]
[null,null,null,null,null,null,null,null,null,"odpowiedź",null,"dowód/potwierdzenie dla pełnej \nlub częściowej zgodności/komentarz",null,null,"zakres zidentyfikowanej niezgodności\nw przypadku częściowej niezgodności należy wymienić i opisać te elementy, które wymagają działań korygujących/naprawczych",null,"planowane działania korygujące/naprawcze",null,null,null,"termin realizacji"]
[null,{"$f":"$B$15","v":"III.B.1."},1,"Czy zrealizowana czynność doradcza służyła wspieraniu kierownika jednostki w realizacji celów i zadań i była realizowana na jego wniosek lub z własnej inicjatywy audytora?",null,null,null,null,null,null,null,null,null,{"$f":"IF(J18=\"nie\",\"!\",\"\")","v":""}]
[]
[null,{"$f":"$B$15","v":"III.B.1."},2,"Czy cel i zakres czynności doradczej audytor wewnętrzny uzgodnił z kierownikiem jednostki?",null,null,null,null,null,null,null,null,null,{"$f":"IF(J20=\"nie\",\"!\",\"\")","v":""}]
[]
[null,{"$f":"$B$15","v":"III.B.1."},3,"Czy realizacja czynności nie prowadziła do przyjęcia przez audytora wewnętrznego obowiązków, odpowiedzialności lub uprawnień wchodzących w zakres zarządzania jednostką?",null,null,null,null,null,null,null,null,null,{"$f":"IF(J22=\"nie\",\"!\",\"\")","v":""}]
[null,null,null,null,null,null,null,null,null,null,null,null,null,null,"w"]
[null,{"$f":"$B$15","v":"III.B.1."},4,"Czy sposób wykonania i dokumentowania przebiegu oraz wyniku czynności doradczej był odpowiedni do rodzaju i charakteru działań audytora wewnętrznego?",null,null,null,null,null,null,null,null,null,{"$f":"IF(J24=\"nie\",\"!\",\"\")","v":""}]
[]
[null,{"$f":"$B$15","v":"III.B.1."},5,"Czy w trakcie realizacji czynności nie wystąpił przypadek ograniczenia audytorowi prawa wstępu do pomieszczeń jednostki lub prawa do wglądu do dokumentów, informacji \ni danych oraz do innych materiałów związanych z funkcjonowaniem jednostki?",null,null,null,null,null,null,null,null,null,{"$f":"IF(J26=\"nie\",\"!\",\"\")","v":""}]
[]
[null,{"$f":"$B$15","v":"III.B.1."},6,"Czy w trakcie realizacji czynności nie wystąpił przypadek by pracownicy jednostki nie udzielili informacji i wyjaśnień, a także by nie sporządzili i potwierdzili kopii, odpisów, wyciągów lub zestawień, na potrzeby realizacji zadań przez audytora wewnętrznego? ",null,null,null,null,null,null,null,null,null,{"$f":"IF(J28=\"nie\",\"!\",\"\")","v":""}]
[]
[null,{"$f":"$B$15","v":"III.B.1."},7,"Czy kierownik komórki audytu wewnętrznego/audytor wewnętrzny - w trakcie realizacji czynności miał bezpośredni dostęp do kierownika jednostki, a w urzędzie administracji rządowej, w którym tworzy się stanowisko dyrektora generalnego urzędu – dyrektora generalnego w zakresie określonym odrębnymi ustawami? \n(na każdym etapie realizacji czynności)",null,null,null,null,null,null,null,null,null,{"$f":"IF(J30=\"nie\",\"!\",\"\")","v":""}]
[]
[null,{"$f":"$B$15","v":"III.B.1."},8,"Czy w trakcie realizacji czynności zapewniono warunki niezbędne do niezależnego, obiektywnego i efektywnego prowadzenia audytu wewnętrznego?",null,null,null,null,null,null,null,null,null,{"$f":"IF(J32=\"nie\",\"!\",\"\")","v":""}]
[]
[null,{"$f":"$B$15","v":"III.B.1."},9,"Czy kierownik komórki audytu wewnętrznego skutecznie zarządzał audytem wewnętrznym \ni zapewnił przysporzenie jednostce wartości dodanej?"]
[]
[null,{"$f":"$B$15","v":"III.B.1."},10,"Czy w celu zapewnienia odpowiedniego zakresu audytu i minimalizacji powielania wysiłków, kierownik komórki audytu wewnętrznego/audytor wewnętrzny wymieniał informacje, koordynował działania i brał pod uwagę możliwość polegania na pracy innych zarówno wewnętrznych, jak i zewnętrznych wykonawców usług doradczych?"]
[]
[null,{"$f":"$B$15","v":"III.B.1."},11,"Czy audytor wewnętrzny opracował i udokumentował program zadania, obejmujący cele \ni zakres czynności, czas potrzebny do jego realizacji oraz niezbędne zasoby? "]
[]
[null,{"$f":"$B$15","v":"III.B.1."},12,"Czy audytor wewnętrzny zbierał, analizował, oceniał i dokumentował informacje wystarczające do osiągnięcia celów czynności?"]
[]
[null,{"$f":"$B$15","v":"III.B.1."},13,"Czy informacje przekazane w wyniku czynności były dokładne, obiektywne, jasne, zwięzłe, konstruktywne, kompletne oraz dostarczone na czas?"]
[]
[null,{"$f":"$B$15","v":"III.B.1."},14,"Czy czynność została zrealizowana zgodnie z zakresem i celem, uzgodnionym z kierownikiem jednostki?"]
[]
[null,{"$f":"$B$15","v":"III.B.1."},15,"Czy kierownik komórki audytu wewnętrznego/audytor wewnętrzny poinformował kierownika jednostki, że przyjęło poziom ryzyka, który może być nie do zaakceptowania dla jednostki? \n(jeżeli była taka potrzeba, w przeciwnym razie należy zaznaczyć tak i w kolumnie dowód/potwierdzenie należy wpisać nie dotyczy)"]
[]
[null,{"$f":"$B$15","v":"III.B.1."},16,"Czy kierownik komórki audytu wewnętrznego/audytor wewnętrzny w wyniku przeprowadzonej czynności przedstawił propozycje dotyczące usprawnienia funkcjonowania jednostki?\n(jeżeli była taka potrzeba, w przeciwnym razie należy zaznaczyć tak i w kolumnie dowód/potwierdzenie należy wpisać nie dotyczy)"]

{"sheet":"III. Realizacja CD 7","index":22,"n_rows":48,"n_cols":25,"rows_kept":48,"cut":false,"hidden":true,"merged":[[41,3,41,8],[41,9,41,10],[41,11,41,12],[41,16,41,18],[47,3,47,8],[47,9,47,10],[47,11,47,12],[47,16,47,18],[43,3,43,8],[43,9,43,10],[43,11,43,12],[43,16,43,18],[45,3,45,8],[45,9,45,10],[45,11,45,12],[45,16,45,18],[37,3,37,8],[37,9,37,10],[37,11,37,12],[37,16,37,18],[39,3,39,8],[39,9,39,10],[39,11,39,12],[39,16,39,18],[33,3,33,8],[33,9,33,10],[33,11,33,12],[33,16,33,18],[35,3,35,8],[35,9,35,10],[35,11,35,12],[35,16,35,18],[29,3,29,8],[29,9,29,10],[29,11,29,12],[29,16,29,18],[31,3,31,8],[31,9,31,10],[31,11,31,12],[31,16,31,18],[25,3,25,8],[25,9,25,10],[25,11,25,12],[25,16,25,18],[27,3,27,8],[27,9,27,10],[27,11,27,12],[27,16,27,18],[21,3,21,8],[21,9,21,10],[21,11,21,12],[21,16,21,18],[23,3,23,8],[23,9,23,10],[23,11,23,12],[23,16,23,18],[16,16,16,18],[19,3,19,8],[19,9,19,10],[19,11,19,12],[19,16,19,18],[17,3,17,8],[17,9,17,10],[17,11,17,12],[17,16,17,18],[11,14,14,20],[12,3,12,8],[13,3,13,8],[13,11,13,12],[14,2,14,8],[14,11,14,12],[15,2,15,12],[15,14,15,20],[16,9,16,10],[16,11,16,12],[1,1,1,11],[3,1,6,21],[7,3,7,10],[7,14,7,20],[8,2,9,10],[8,11,9,11],[8,12,9,12],[8,14,10,20],[10,3,10,8],[10,11,10,12],[11,3,11,8],[11,11,11,12]]}
[]
[]
[]
[null,"Quality @w "]
[]
[]
[]
[null,null,null,null,null,null,null,null,null,null,null,null,null,"data rozpoczęcia wypełniania niniejszego arkusza","liczba uzyskanych punktów w bloku tematycznym"]
[null,null,{"$f":"'Strona tytułowa'!$H$16","v":0},null,null,null,null,null,null,null,null,{"$f":"'Strona tytułowa'!$F$16","v":0},{"$f":"'Strona tytułowa'!$B$2","v":"ver.2.0.2018"},null,{"$f":"J12","v":0}]
[null,null,null,null,null,null,null,null,null,null,null,null,null,null,null,null,null,null,null,null,null,null,null,null,{"$f":"J12+K12","v":0}]
[null,null,null,"blok tematyczny",null,null,null,null,null,"tak","nie","% udzielonych odpowiedzi"]
[null,null,"III.B","REALIZACJA ZADAŃ AUDYTOWYCH - CZYNNOŚĆ DORADCZA",null,null,null,null,null,{"$f":"J15","v":0},{"$f":"K15","v":0},{"$f":"(J12+K12)/16","v":0},null,{"$f":"COUNTIF(N18:N48,\"!\")","v":0},"0                                                                                                                                                                                                                                                                                                              16 "]
[null,null,null,"temat czynności",null,null,null,null,null,{"$f":"J12/(J12+K12)","v":{"$error":"#DIV/0!"}},{"$f":"K12/(K12+J12)","v":{"$error":"#DIV/0!"}}]
[null,null,null,null,null,null,null,null,null,"tak","nie","% udzielonych odpowiedzi",null,"niezgodność z przepisami"]
[null,"III.B.1.","Przygotowanie, realizacja i dokumentowanie czynności doradczej",null,null,null,null,null,null,{"$f":"COUNTIF(J18:J48,\"tak\")","v":0},{"$f":"COUNTIF(J18:J48,\"*\")-J15","v":0},{"$f":"COUNTIF(J18:J48,\"*\")/16","v":0}]
[null,null,"ustawa: art. 280; art. 282\nrozporządzenie: §22; §23; §24\nstandardy: 2000; 2050; 2240; 2300; 2400; 2600",null,null,null,null,null,null,null,null,null,null,null,"NALEŻY WSKAZAĆ ZAKRES ZIDENTYFIKOWANEJ NIEPRAWIDŁOWOŚCI ORAZ ZAPLANOWAĆ I ZREALIZOWAĆ \nDZIAŁANIA KORYGUJĄCE/NAPRAWCZE\nW tym celu proszę wypełnić poniższe komórki.\n"]
[null,null,null,null,null,null,null,null,null,"odpowiedź",null,"dowód/potwierdzenie dla pełnej \nlub częściowej zgodności/komentarz",null,null,"zakres zidentyfikowanej niezgodności\nw przypadku częściowej niezgodności należy wymienić i opisać te elementy, które wymagają działań korygujących/naprawczych",null,"planowane działania korygujące/naprawcze",null,null,null,"termin realizacji"]
[null,{"$f":"$B$15","v":"III.B.1."},1,"Czy zrealizowana czynność doradcza służyła wspieraniu kierownika jednostki w realizacji celów i zadań i była realizowana na jego wniosek lub z własnej inicjatywy audytora?",null,null,null,null,null,null,null,null,null,{"$f":"IF(J18=\"nie\",\"!\",\"\")","v":""}]
[]
[null,{"$f":"$B$15","v":"III.B.1."},2,"Czy cel i zakres czynności doradczej audytor wewnętrzny uzgodnił z kierownikiem jednostki?",null,null,null,null,null,null,null,null,null,{"$f":"IF(J20=\"nie\",\"!\",\"\")","v":""}]
[]
[null,{"$f":"$B$15","v":"III.B.1."},3,"Czy realizacja czynności nie prowadziła do przyjęcia przez audytora wewnętrznego obowiązków, odpowiedzialności lub uprawnień wchodzących w zakres zarządzania jednostką?",null,null,null,null,null,null,null,null,null,{"$f":"IF(J22=\"nie\",\"!\",\"\")","v":""}]
[null,null,null,null,null,null,null,null,null,null,null,null,null,null,"w"]
[null,{"$f":"$B$15","v":"III.B.1."},4,"Czy sposób wykonania i dokumentowania przebiegu oraz wyniku czynności doradczej był odpowiedni do rodzaju i charakteru działań audytora wewnętrznego?",null,null,null,null,null,null,null,null,null,{"$f":"IF(J24=\"nie\",\"!\",\"\")","v":""}]
[]
[null,{"$f":"$B$15","v":"III.B.1."},5,"Czy w trakcie realizacji czynności nie wystąpił przypadek ograniczenia audytorowi prawa wstępu do pomieszczeń jednostki lub prawa do wglądu do dokumentów, informacji \ni danych oraz do innych materiałów związanych z funkcjonowaniem jednostki?",null,null,null,null,null,null,null,null,null,{"$f":"IF(J26=\"nie\",\"!\",\"\")","v":""}]
[]
[null,{"$f":"$B$15","v":"III.B.1."},6,"Czy w trakcie realizacji czynności nie wystąpił przypadek by pracownicy jednostki nie udzielili informacji i wyjaśnień, a także by nie sporządzili i potwierdzili kopii, odpisów, wyciągów lub zestawień, na potrzeby realizacji zadań przez audytora wewnętrznego? ",null,null,null,null,null,null,null,null,null,{"$f":"IF(J28=\"nie\",\"!\",\"\")","v":""}]
[]
[null,{"$f":"$B$15","v":"III.B.1."},7,"Czy kierownik komórki audytu wewnętrznego/audytor wewnętrzny - w trakcie realizacji czynności miał bezpośredni dostęp do kierownika jednostki, a w urzędzie administracji rządowej, w którym tworzy się stanowisko dyrektora generalnego urzędu – dyrektora generalnego w zakresie określonym odrębnymi ustawami? \n(na każdym etapie realizacji czynności)",null,null,null,null,null,null,null,null,null,{"$f":"IF(J30=\"nie\",\"!\",\"\")","v":""}]
[]
[null,{"$f":"$B$15","v":"III.B.1."},8,"Czy w trakcie realizacji czynności zapewniono warunki niezbędne do niezależnego, obiektywnego i efektywnego prowadzenia audytu wewnętrznego?",null,null,null,null,null,null,null,null,null,{"$f":"IF(J32=\"nie\",\"!\",\"\")","v":""}]
[]
[null,{"$f":"$B$15","v":"III.B.1."},9,"Czy kierownik komórki audytu wewnętrznego skutecznie zarządzał audytem wewnętrznym \ni zapewnił przysporzenie jednostce wartości dodanej?"]
[]
[null,{"$f":"$B$15","v":"III.B.1."},10,"Czy w celu zapewnienia odpowiedniego zakresu audytu i minimalizacji powielania wysiłków, kierownik komórki audytu wewnętrznego/audytor wewnętrzny wymieniał informacje, koordynował działania i brał pod uwagę możliwość polegania na pracy innych zarówno wewnętrznych, jak i zewnętrznych wykonawców usług doradczych?"]
[]
[null,{"$f":"$B$15","v":"III.B.1."},11,"Czy audytor wewnętrzny opracował i udokumentował program zadania, obejmujący cele \ni zakres czynności, czas potrzebny do jego realizacji oraz niezbędne zasoby? "]
[]
[null,{"$f":"$B$15","v":"III.B.1."},12,"Czy audytor wewnętrzny zbierał, analizował, oceniał i dokumentował informacje wystarczające do osiągnięcia celów czynności?"]
[]
[null,{"$f":"$B$15","v":"III.B.1."},13,"Czy informacje przekazane w wyniku czynności były dokładne, obiektywne, jasne, zwięzłe, konstruktywne, kompletne oraz dostarczone na czas?"]
[]
[null,{"$f":"$B$15","v":"III.B.1."},14,"Czy czynność została zrealizowana zgodnie z zakresem i celem, uzgodnionym z kierownikiem jednostki?"]
[]
[null,{"$f":"$B$15","v":"III.B.1."},15,"Czy kierownik komórki audytu wewnętrznego/audytor wewnętrzny poinformował kierownika jednostki, że przyjęło poziom ryzyka, który może być nie do zaakceptowania dla jednostki? \n(jeżeli była taka potrzeba, w przeciwnym razie należy zaznaczyć tak i w kolumnie dowód/potwierdzenie należy wpisać nie dotyczy)"]
[]
[null,{"$f":"$B$15","v":"III.B.1."},16,"Czy kierownik komórki audytu wewnętrznego/audytor wewnętrzny w wyniku przeprowadzonej czynności przedstawił propozycje dotyczące usprawnienia funkcjonowania jednostki?\n(jeżeli była taka potrzeba, w przeciwnym razie należy zaznaczyć tak i w kolumnie dowód/potwierdzenie należy wpisać nie dotyczy)"]

{"sheet":"III. Realizacja CD 8","index":23,"n_rows":48,"n_cols":25,"rows_kept":48,"cut":false,"hidden":true,"merged":[[41,3,41,8],[41,9,41,10],[41,11,41,12],[41,16,41,18],[47,3,47,8],[47,9,47,10],[47,11,47,12],[47,16,47,18],[43,3,43,8],[43,9,43,10],[43,11,43,12],[43,16,43,18],[45,3,45,8],[45,9,45,10],[45,11,45,12],[45,16,45,18],[37,3,37,8],[37,9,37,10],[37,11,37,12],[37,16,37,18],[39,3,39,8],[39,9,39,10],[39,11,39,12],[39,16,39,18],[33,3,33,8],[33,9,33,10],[33,11,33,12],[33,16,33,18],[35,3,35,8],[35,9,35,10],[35,11,35,12],[35,16,35,18],[29,3,29,8],[29,9,29,10],[29,11,29,12],[29,16,29,18],[31,3,31,8],[31,9,31,10],[31,11,31,12],[31,16,31,18],[25,3,25,8],[25,9,25,10],[25,11,25,12],[25,16,25,18],[27,3,27,8],[27,9,27,10],[27,11,27,12],[27,16,27,18],[21,3,21,8],[21,9,21,10],[21,11,21,12],[21,16,21,18],[23,3,23,8],[23,9,23,10],[23,11,23,12],[23,16,23,18],[16,16,16,18],[19,3,19,8],[19,9,19,10],[19,11,19,12],[19,16,19,18],[17,3,17,8],[17,9,17,10],[17,11,17,12],[17,16,17,18],[11,14,14,20],[12,3,12,8],[13,3,13,8],[13,11,13,12],[14,2,14,8],[14,11,14,12],[15,2,15,12],[15,14,15,20],[16,9,16,10],[16,11,16,12],[1,1,1,11],[3,1,6,21],[7,3,7,10],[7,14,7,20],[8,2,9,10],[8,11,9,11],[8,12,9,12],[8,14,10,20],[10,3,10,8],[10,11,10,12],[11,3,11,8],[11,11,11,12]]}
[]
[]
[]
[null,"Quality @w "]
[]
[]
[]
[null,null,null,null,null,null,null,null,null,null,null,null,null,"data rozpoczęcia wypełniania niniejszego arkusza","liczba uzyskanych punktów w bloku tematycznym"]
[null,null,{"$f":"'Strona tytułowa'!$H$16","v":0},null,null,null,null,null,null,null,null,{"$f":"'Strona tytułowa'!$F$16","v":0},{"$f":"'Strona tytułowa'!$B$2","v":"ver.2.0.2018"},null,{"$f":"J12","v":0}]
[null,null,null,null,null,null,null,null,null,null,null,null,null,null,null,null,null,null,null,null,null,null,null,null,{"$f":"J12+K12","v":0}]
[null,null,null,"blok tematyczny",null,null,null,null,null,"tak","nie","% udzielonych odpowiedzi"]
[null,null,"III.B","REALIZACJA ZADAŃ AUDYTOWYCH - CZYNNOŚĆ DORADCZA",null,null,null,null,null,{"$f":"J15","v":0},{"$f":"K15","v":0},{"$f":"(J12+K12)/16","v":0},null,{"$f":"COUNTIF(N18:N48,\"!\")","v":0},"0                                                                                                                                                                                                                                                                                                              16 "]
[null,null,null,"temat czynności",null,null,null,null,null,{"$f":"J12/(J12+K12)","v":{"$error":"#DIV/0!"}},{"$f":"K12/(K12+J12)","v":{"$error":"#DIV/0!"}}]
[null,null,null,null,null,null,null,null,null,"tak","nie","% udzielonych odpowiedzi",null,"niezgodność z przepisami"]
[null,"III.B.1.","Przygotowanie, realizacja i dokumentowanie czynności doradczej",null,null,null,null,null,null,{"$f":"COUNTIF(J18:J48,\"tak\")","v":0},{"$f":"COUNTIF(J18:J48,\"*\")-J15","v":0},{"$f":"COUNTIF(J18:J48,\"*\")/16","v":0}]
[null,null,"ustawa: art. 280; art. 282\nrozporządzenie: §22; §23; §24\nstandardy: 2000; 2050; 2240; 2300; 2400; 2600",null,null,null,null,null,null,null,null,null,null,null,"NALEŻY WSKAZAĆ ZAKRES ZIDENTYFIKOWANEJ NIEPRAWIDŁOWOŚCI ORAZ ZAPLANOWAĆ I ZREALIZOWAĆ \nDZIAŁANIA KORYGUJĄCE/NAPRAWCZE\nW tym celu proszę wypełnić poniższe komórki.\n"]
[null,null,null,null,null,null,null,null,null,"odpowiedź",null,"dowód/potwierdzenie dla pełnej \nlub częściowej zgodności/komentarz",null,null,"zakres zidentyfikowanej niezgodności\nw przypadku częściowej niezgodności należy wymienić i opisać te elementy, które wymagają działań korygujących/naprawczych",null,"planowane działania korygujące/naprawcze",null,null,null,"termin realizacji"]
[null,{"$f":"$B$15","v":"III.B.1."},1,"Czy zrealizowana czynność doradcza służyła wspieraniu kierownika jednostki w realizacji celów i zadań i była realizowana na jego wniosek lub z własnej inicjatywy audytora?",null,null,null,null,null,null,null,null,null,{"$f":"IF(J18=\"nie\",\"!\",\"\")","v":""}]
[]
[null,{"$f":"$B$15","v":"III.B.1."},2,"Czy cel i zakres czynności doradczej audytor wewnętrzny uzgodnił z kierownikiem jednostki?",null,null,null,null,null,null,null,null,null,{"$f":"IF(J20=\"nie\",\"!\",\"\")","v":""}]
[]
[null,{"$f":"$B$15","v":"III.B.1."},3,"Czy realizacja czynności nie prowadziła do przyjęcia przez audytora wewnętrznego obowiązków, odpowiedzialności lub uprawnień wchodzących w zakres zarządzania jednostką?",null,null,null,null,null,null,null,null,null,{"$f":"IF(J22=\"nie\",\"!\",\"\")","v":""}]
[null,null,null,null,null,null,null,null,null,null,null,null,null,null,"w"]
[null,{"$f":"$B$15","v":"III.B.1."},4,"Czy sposób wykonania i dokumentowania przebiegu oraz wyniku czynności doradczej był odpowiedni do rodzaju i charakteru działań audytora wewnętrznego?",null,null,null,null,null,null,null,null,null,{"$f":"IF(J24=\"nie\",\"!\",\"\")","v":""}]
[]
[null,{"$f":"$B$15","v":"III.B.1."},5,"Czy w trakcie realizacji czynności nie wystąpił przypadek ograniczenia audytorowi prawa wstępu do pomieszczeń jednostki lub prawa do wglądu do dokumentów, informacji \ni danych oraz do innych materiałów związanych z funkcjonowaniem jednostki?",null,null,null,null,null,null,null,null,null,{"$f":"IF(J26=\"nie\",\"!\",\"\")","v":""}]
[]
[null,{"$f":"$B$15","v":"III.B.1."},6,"Czy w trakcie realizacji czynności nie wystąpił przypadek by pracownicy jednostki nie udzielili informacji i wyjaśnień, a także by nie sporządzili i potwierdzili kopii, odpisów, wyciągów lub zestawień, na potrzeby realizacji zadań przez audytora wewnętrznego? ",null,null,null,null,null,null,null,null,null,{"$f":"IF(J28=\"nie\",\"!\",\"\")","v":""}]
[]
[null,{"$f":"$B$15","v":"III.B.1."},7,"Czy kierownik komórki audytu wewnętrznego/audytor wewnętrzny - w trakcie realizacji czynności miał bezpośredni dostęp do kierownika jednostki, a w urzędzie administracji rządowej, w którym tworzy się stanowisko dyrektora generalnego urzędu – dyrektora generalnego w zakresie określonym odrębnymi ustawami? \n(na każdym etapie realizacji czynności)",null,null,null,null,null,null,null,null,null,{"$f":"IF(J30=\"nie\",\"!\",\"\")","v":""}]
[]
[null,{"$f":"$B$15","v":"III.B.1."},8,"Czy w trakcie realizacji czynności zapewniono warunki niezbędne do niezależnego, obiektywnego i efektywnego prowadzenia audytu wewnętrznego?",null,null,null,null,null,null,null,null,null,{"$f":"IF(J32=\"nie\",\"!\",\"\")","v":""}]
[]
[null,{"$f":"$B$15","v":"III.B.1."},9,"Czy kierownik komórki audytu wewnętrznego skutecznie zarządzał audytem wewnętrznym \ni zapewnił przysporzenie jednostce wartości dodanej?"]
[]
[null,{"$f":"$B$15","v":"III.B.1."},10,"Czy w celu zapewnienia odpowiedniego zakresu audytu i minimalizacji powielania wysiłków, kierownik komórki audytu wewnętrznego/audytor wewnętrzny wymieniał informacje, koordynował działania i brał pod uwagę możliwość polegania na pracy innych zarówno wewnętrznych, jak i zewnętrznych wykonawców usług doradczych?"]
[]
[null,{"$f":"$B$15","v":"III.B.1."},11,"Czy audytor wewnętrzny opracował i udokumentował program zadania, obejmujący cele \ni zakres czynności, czas potrzebny do jego realizacji oraz niezbędne zasoby? "]
[]
[null,{"$f":"$B$15","v":"III.B.1."},12,"Czy audytor wewnętrzny zbierał, analizował, oceniał i dokumentował informacje wystarczające do osiągnięcia celów czynności?"]
[]
[null,{"$f":"$B$15","v":"III.B.1."},13,"Czy informacje przekazane w wyniku czynności były dokładne, obiektywne, jasne, zwięzłe, konstruktywne, kompletne oraz dostarczone na czas?"]
[]
[null,{"$f":"$B$15","v":"III.B.1."},14,"Czy czynność została zrealizowana zgodnie z zakresem i celem, uzgodnionym z kierownikiem jednostki?"]
[]
[null,{"$f":"$B$15","v":"III.B.1."},15,"Czy kierownik komórki audytu wewnętrznego/audytor wewnętrzny poinformował kierownika jednostki, że przyjęło poziom ryzyka, który może być nie do zaakceptowania dla jednostki? \n(jeżeli była taka potrzeba, w przeciwnym razie należy zaznaczyć tak i w kolumnie dowód/potwierdzenie należy wpisać nie dotyczy)"]
[]
[null,{"$f":"$B$15","v":"III.B.1."},16,"Czy kierownik komórki audytu wewnętrznego/audytor wewnętrzny w wyniku przeprowadzonej czynności przedstawił propozycje dotyczące usprawnienia funkcjonowania jednostki?\n(jeżeli była taka potrzeba, w przeciwnym razie należy zaznaczyć tak i w kolumnie dowód/potwierdzenie należy wpisać nie dotyczy)"]

{"sheet":"III. Realizacja CD 9","index":24,"n_rows":48,"n_cols":25,"rows_kept":48,"cut":false,"hidden":true,"merged":[[41,3,41,8],[41,9,41,10],[41,11,41,12],[41,16,41,18],[47,3,47,8],[47,9,47,10],[47,11,47,12],[47,16,47,18],[43,3,43,8],[43,9,43,10],[43,11,43,12],[43,16,43,18],[45,3,45,8],[45,9,45,10],[45,11,45,12],[45,16,45,18],[37,3,37,8],[37,9,37,10],[37,11,37,12],[37,16,37,18],[39,3,39,8],[39,9,39,10],[39,11,39,12],[39,16,39,18],[33,3,33,8],[33,9,33,10],[33,11,33,12],[33,16,33,18],[35,3,35,8],[35,9,35,10],[35,11,35,12],[35,16,35,18],[29,3,29,8],[29,9,29,10],[29,11,29,12],[29,16,29,18],[31,3,31,8],[31,9,31,10],[31,11,31,12],[31,16,31,18],[25,3,25,8],[25,9,25,10],[25,11,25,12],[25,16,25,18],[27,3,27,8],[27,9,27,10],[27,11,27,12],[27,16,27,18],[21,3,21,8],[21,9,21,10],[21,11,21,12],[21,16,21,18],[23,3,23,8],[23,9,23,10],[23,11,23,12],[23,16,23,18],[16,16,16,18],[19,3,19,8],[19,9,19,10],[19,11,19,12],[19,16,19,18],[17,3,17,8],[17,9,17,10],[17,11,17,12],[17,16,17,18],[11,14,14,20],[12,3,12,8],[13,3,13,8],[13,11,13,12],[14,2,14,8],[14,11,14,12],[15,2,15,12],[15,14,15,20],[16,9,16,10],[16,11,16,12],[1,1,1,11],[3,1,6,21],[7,3,7,10],[7,14,7,20],[8,2,9,10],[8,11,9,11],[8,12,9,12],[8,14,10,20],[10,3,10,8],[10,11,10,12],[11,3,11,8],[11,11,11,12]]}
[]
[]
[]
[null,"Quality @w "]
[]
[]
[]
[null,null,null,null,null,null,null,null,null,null,null,null,null,"data rozpoczęcia wypełniania niniejszego arkusza","liczba uzyskanych punktów w bloku tematycznym"]
[null,null,{"$f":"'Strona tytułowa'!$H$16","v":0},null,null,null,null,null,null,null,null,{"$f":"'Strona tytułowa'!$F$16","v":0},{"$f":"'Strona tytułowa'!$B$2","v":"ver.2.0.2018"},null,{"$f":"J12","v":0}]
[null,null,null,null,null,null,null,null,null,null,null,null,null,null,null,null,null,null,null,null,null,null,null,null,{"$f":"J12+K12","v":0}]
[null,null,null,"blok tematyczny",null,null,null,null,null,"tak","nie","% udzielonych odpowiedzi"]
[null,null,"III.B","REALIZACJA ZADAŃ AUDYTOWYCH - CZYNNOŚĆ DORADCZA",null,null,null,null,null,{"$f":"J15","v":0},{"$f":"K15","v":0},{"$f":"(J12+K12)/16","v":0},null,{"$f":"COUNTIF(N18:N48,\"!\")","v":0},"0                                                                                                                                                                                                                                                                                                              16 "]
[null,null,null,"temat czynności",null,null,null,null,null,{"$f":"J12/(J12+K12)","v":{"$error":"#DIV/0!"}},{"$f":"K12/(K12+J12)","v":{"$error":"#DIV/0!"}}]
[null,null,null,null,null,null,null,null,null,"tak","nie","% udzielonych odpowiedzi",null,"niezgodność z przepisami"]
[null,"III.B.1.","Przygotowanie, realizacja i dokumentowanie czynności doradczej",null,null,null,null,null,null,{"$f":"COUNTIF(J18:J48,\"tak\")","v":0},{"$f":"COUNTIF(J18:J48,\"*\")-J15","v":0},{"$f":"COUNTIF(J18:J48,\"*\")/16","v":0}]
[null,null,"ustawa: art. 280; art. 282\nrozporządzenie: §22; §23; §24\nstandardy: 2000; 2050; 2240; 2300; 2400; 2600",null,null,null,null,null,null,null,null,null,null,null,"NALEŻY WSKAZAĆ ZAKRES ZIDENTYFIKOWANEJ NIEPRAWIDŁOWOŚCI ORAZ ZAPLANOWAĆ I ZREALIZOWAĆ \nDZIAŁANIA KORYGUJĄCE/NAPRAWCZE\nW tym celu proszę wypełnić poniższe komórki.\n"]
[null,null,null,null,null,null,null,null,null,"odpowiedź",null,"dowód/potwierdzenie dla pełnej \nlub częściowej zgodności/komentarz",null,null,"zakres zidentyfikowanej niezgodności\nw przypadku częściowej niezgodności należy wymienić i opisać te elementy, które wymagają działań korygujących/naprawczych",null,"planowane działania korygujące/naprawcze",null,null,null,"termin realizacji"]
[null,{"$f":"$B$15","v":"III.B.1."},1,"Czy zrealizowana czynność doradcza służyła wspieraniu kierownika jednostki w realizacji celów i zadań i była realizowana na jego wniosek lub z własnej inicjatywy audytora?",null,null,null,null,null,null,null,null,null,{"$f":"IF(J18=\"nie\",\"!\",\"\")","v":""}]
[]
[null,{"$f":"$B$15","v":"III.B.1."},2,"Czy cel i zakres czynności doradczej audytor wewnętrzny uzgodnił z kierownikiem jednostki?",null,null,null,null,null,null,null,null,null,{"$f":"IF(J20=\"nie\",\"!\",\"\")","v":""}]
[]
[null,{"$f":"$B$15","v":"III.B.1."},3,"Czy realizacja czynności nie prowadziła do przyjęcia przez audytora wewnętrznego obowiązków, odpowiedzialności lub uprawnień wchodzących w zakres zarządzania jednostką?",null,null,null,null,null,null,null,null,null,{"$f":"IF(J22=\"nie\",\"!\",\"\")","v":""}]
[null,null,null,null,null,null,null,null,null,null,null,null,null,null,"w"]
[null,{"$f":"$B$15","v":"III.B.1."},4,"Czy sposób wykonania i dokumentowania przebiegu oraz wyniku czynności doradczej był odpowiedni do rodzaju i charakteru działań audytora wewnętrznego?",null,null,null,null,null,null,null,null,null,{"$f":"IF(J24=\"nie\",\"!\",\"\")","v":""}]
[]
[null,{"$f":"$B$15","v":"III.B.1."},5,"Czy w trakcie realizacji czynności nie wystąpił przypadek ograniczenia audytorowi prawa wstępu do pomieszczeń jednostki lub prawa do wglądu do dokumentów, informacji \ni danych oraz do innych materiałów związanych z funkcjonowaniem jednostki?",null,null,null,null,null,null,null,null,null,{"$f":"IF(J26=\"nie\",\"!\",\"\")","v":""}]
[]
[null,{"$f":"$B$15","v":"III.B.1."},6,"Czy w trakcie realizacji czynności nie wystąpił przypadek by pracownicy jednostki nie udzielili informacji i wyjaśnień, a także by nie sporządzili i potwierdzili kopii, odpisów, wyciągów lub zestawień, na potrzeby realizacji zadań przez audytora wewnętrznego? ",null,null,null,null,null,null,null,null,null,{"$f":"IF(J28=\"nie\",\"!\",\"\")","v":""}]
[]
[null,{"$f":"$B$15","v":"III.B.1."},7,"Czy kierownik komórki audytu wewnętrznego/audytor wewnętrzny - w trakcie realizacji czynności miał bezpośredni dostęp do kierownika jednostki, a w urzędzie administracji rządowej, w którym tworzy się stanowisko dyrektora generalnego urzędu – dyrektora generalnego w zakresie określonym odrębnymi ustawami? \n(na każdym etapie realizacji czynności)",null,null,null,null,null,null,null,null,null,{"$f":"IF(J30=\"nie\",\"!\",\"\")","v":""}]
[]
[null,{"$f":"$B$15","v":"III.B.1."},8,"Czy w trakcie realizacji czynności zapewniono warunki niezbędne do niezależnego, obiektywnego i efektywnego prowadzenia audytu wewnętrznego?",null,null,null,null,null,null,null,null,null,{"$f":"IF(J32=\"nie\",\"!\",\"\")","v":""}]
[]
[null,{"$f":"$B$15","v":"III.B.1."},9,"Czy kierownik komórki audytu wewnętrznego skutecznie zarządzał audytem wewnętrznym \ni zapewnił przysporzenie jednostce wartości dodanej?"]
[]
[null,{"$f":"$B$15","v":"III.B.1."},10,"Czy w celu zapewnienia odpowiedniego zakresu audytu i minimalizacji powielania wysiłków, kierownik komórki audytu wewnętrznego/audytor wewnętrzny wymieniał informacje, koordynował działania i brał pod uwagę możliwość polegania na pracy innych zarówno wewnętrznych, jak i zewnętrznych wykonawców usług doradczych?"]
[]
[null,{"$f":"$B$15","v":"III.B.1."},11,"Czy audytor wewnętrzny opracował i udokumentował program zadania, obejmujący cele \ni zakres czynności, czas potrzebny do jego realizacji oraz niezbędne zasoby? "]
[]
[null,{"$f":"$B$15","v":"III.B.1."},12,"Czy audytor wewnętrzny zbierał, analizował, oceniał i dokumentował informacje wystarczające do osiągnięcia celów czynności?"]
[]
[null,{"$f":"$B$15","v":"III.B.1."},13,"Czy informacje przekazane w wyniku czynności były dokładne, obiektywne, jasne, zwięzłe, konstruktywne, kompletne oraz dostarczone na czas?"]
[]
[null,{"$f":"$B$15","v":"III.B.1."},14,"Czy czynność została zrealizowana zgodnie z zakresem i celem, uzgodnionym z kierownikiem jednostki?"]
[]
[null,{"$f":"$B$15","v":"III.B.1."},15,"Czy kierownik komórki audytu wewnętrznego/audytor wewnętrzny poinformował kierownika jednostki, że przyjęło poziom ryzyka, który może być nie do zaakceptowania dla jednostki? \n(jeżeli była taka potrzeba, w przeciwnym razie należy zaznaczyć tak i w kolumnie dowód/potwierdzenie należy wpisać nie dotyczy)"]
[]
[null,{"$f":"$B$15","v":"III.B.1."},16,"Czy kierownik komórki audytu wewnętrznego/audytor wewnętrzny w wyniku przeprowadzonej czynności przedstawił propozycje dotyczące usprawnienia funkcjonowania jednostki?\n(jeżeli była taka potrzeba, w przeciwnym razie należy zaznaczyć tak i w kolumnie dowód/potwierdzenie należy wpisać nie dotyczy)"]

{"sheet":"III. Realizacja CD 10","index":25,"n_rows":48,"n_cols":25,"rows_kept":48,"cut":false,"hidden":true,"merged":[[41,3,41,8],[41,9,41,10],[41,11,41,12],[41,16,41,18],[47,3,47,8],[47,9,47,10],[47,11,47,12],[47,16,47,18],[43,3,43,8],[43,9,43,10],[43,11,43,12],[43,16,43,18],[45,3,45,8],[45,9,45,10],[45,11,45,12],[45,16,45,18],[37,3,37,8],[37,9,37,10],[37,11,37,12],[37,16,37,18],[39,3,39,8],[39,9,39,10],[39,11,39,12],[39,16,39,18],[33,3,33,8],[33,9,33,10],[33,11,33,12],[33,16,33,18],[35,3,35,8],[35,9,35,10],[35,11,35,12],[35,16,35,18],[29,3,29,8],[29,9,29,10],[29,11,29,12],[29,16,29,18],[31,3,31,8],[31,9,31,10],[31,11,31,12],[31,16,31,18],[25,3,25,8],[25,9,25,10],[25,11,25,12],[25,16,25,18],[27,3,27,8],[27,9,27,10],[27,11,27,12],[27,16,27,18],[21,3,21,8],[21,9,21,10],[21,11,21,12],[21,16,21,18],[23,3,23,8],[23,9,23,10],[23,11,23,12],[23,16,23,18],[16,16,16,18],[19,3,19,8],[19,9,19,10],[19,11,19,12],[19,16,19,18],[17,3,17,8],[17,9,17,10],[17,11,17,12],[17,16,17,18],[11,14,14,20],[12,3,12,8],[13,3,13,8],[13,11,13,12],[14,2,14,8],[14,11,14,12],[15,2,15,12],[15,14,15,20],[16,9,16,10],[16,11,16,12],[1,1,1,11],[3,1,6,21],[7,3,7,10],[7,14,7,20],[8,2,9,10],[8,11,9,11],[8,12,9,12],[8,14,10,20],[10,3,10,8],[10,11,10,12],[11,3,11,8],[11,11,11,12]]}
[]
[]
[]
[null,"Quality @w "]
[]
[]
[]
[null,null,null,null,null,null,null,null,null,null,null,null,null,"data rozpoczęcia wypełniania niniejszego arkusza","liczba uzyskanych punktów w bloku tematycznym"]
[null,null,{"$f":"'Strona tytułowa'!$H$16","v":0},null,null,null,null,null,null,null,null,{"$f":"'Strona tytułowa'!$F$16","v":0},{"$f":"'Strona tytułowa'!$B$2","v":"ver.2.0.2018"},null,{"$f":"J12","v":0}]
[null,null,null,null,null,null,null,null,null,null,null,null,null,null,null,null,null,null,null,null,null,null,null,null,{"$f":"J12+K12","v":0}]
[null,null,null,"blok tematyczny",null,null,null,null,null,"tak","nie","% udzielonych odpowiedzi"]
[null,null,"III.B","REALIZACJA ZADAŃ AUDYTOWYCH - CZYNNOŚĆ DORADCZA",null,null,null,null,null,{"$f":"J15","v":0},{"$f":"K15","v":0},{"$f":"(J12+K12)/16","v":0},null,{"$f":"COUNTIF(N18:N48,\"!\")","v":0},"0                                                                                                                                                                                                                                                                                                              16 "]
[null,null,null,"temat czynności",null,null,null,null,null,{"$f":"J12/(J12+K12)","v":{"$error":"#DIV/0!"}},{"$f":"K12/(K12+J12)","v":{"$error":"#DIV/0!"}}]
[null,null,null,null,null,null,null,null,null,"tak","nie","% udzielonych odpowiedzi",null,"niezgodność z przepisami"]
[null,"III.B.1.","Przygotowanie, realizacja i dokumentowanie czynności doradczej",null,null,null,null,null,null,{"$f":"COUNTIF(J18:J48,\"tak\")","v":0},{"$f":"COUNTIF(J18:J48,\"*\")-J15","v":0},{"$f":"COUNTIF(J18:J48,\"*\")/16","v":0}]
[null,null,"ustawa: art. 280; art. 282\nrozporządzenie: §22; §23; §24\nstandardy: 2000; 2050; 2240; 2300; 2400; 2600",null,null,null,null,null,null,null,null,null,null,null,"NALEŻY WSKAZAĆ ZAKRES ZIDENTYFIKOWANEJ NIEPRAWIDŁOWOŚCI ORAZ ZAPLANOWAĆ I ZREALIZOWAĆ \nDZIAŁANIA KORYGUJĄCE/NAPRAWCZE\nW tym celu proszę wypełnić poniższe komórki.\n"]
[null,null,null,null,null,null,null,null,null,"odpowiedź",null,"dowód/potwierdzenie dla pełnej \nlub częściowej zgodności/komentarz",null,null,"zakres zidentyfikowanej niezgodności\nw przypadku częściowej niezgodności należy wymienić i opisać te elementy, które wymagają działań korygujących/naprawczych",null,"planowane działania korygujące/naprawcze",null,null,null,"termin realizacji"]
[null,{"$f":"$B$15","v":"III.B.1."},1,"Czy zrealizowana czynność doradcza służyła wspieraniu kierownika jednostki w realizacji celów i zadań i była realizowana na jego wniosek lub z własnej inicjatywy audytora?",null,null,null,null,null,null,null,null,null,{"$f":"IF(J18=\"nie\",\"!\",\"\")","v":""}]
[]
[null,{"$f":"$B$15","v":"III.B.1."},2,"Czy cel i zakres czynności doradczej audytor wewnętrzny uzgodnił z kierownikiem jednostki?",null,null,null,null,null,null,null,null,null,{"$f":"IF(J20=\"nie\",\"!\",\"\")","v":""}]
[]
[null,{"$f":"$B$15","v":"III.B.1."},3,"Czy realizacja czynności nie prowadziła do przyjęcia przez audytora wewnętrznego obowiązków, odpowiedzialności lub uprawnień wchodzących w zakres zarządzania jednostką?",null,null,null,null,null,null,null,null,null,{"$f":"IF(J22=\"nie\",\"!\",\"\")","v":""}]
[null,null,null,null,null,null,null,null,null,null,null,null,null,null,"w"]
[null,{"$f":"$B$15","v":"III.B.1."},4,"Czy sposób wykonania i dokumentowania przebiegu oraz wyniku czynności doradczej był odpowiedni do rodzaju i charakteru działań audytora wewnętrznego?",null,null,null,null,null,null,null,null,null,{"$f":"IF(J24=\"nie\",\"!\",\"\")","v":""}]
[]
[null,{"$f":"$B$15","v":"III.B.1."},5,"Czy w trakcie realizacji czynności nie wystąpił przypadek ograniczenia audytorowi prawa wstępu do pomieszczeń jednostki lub prawa do wglądu do dokumentów, informacji \ni danych oraz do innych materiałów związanych z funkcjonowaniem jednostki?",null,null,null,null,null,null,null,null,null,{"$f":"IF(J26=\"nie\",\"!\",\"\")","v":""}]
[]
[null,{"$f":"$B$15","v":"III.B.1."},6,"Czy w trakcie realizacji czynności nie wystąpił przypadek by pracownicy jednostki nie udzielili informacji i wyjaśnień, a także by nie sporządzili i potwierdzili kopii, odpisów, wyciągów lub zestawień, na potrzeby realizacji zadań przez audytora wewnętrznego? ",null,null,null,null,null,null,null,null,null,{"$f":"IF(J28=\"nie\",\"!\",\"\")","v":""}]
[]
[null,{"$f":"$B$15","v":"III.B.1."},7,"Czy kierownik komórki audytu wewnętrznego/audytor wewnętrzny - w trakcie realizacji czynności miał bezpośredni dostęp do kierownika jednostki, a w urzędzie administracji rządowej, w którym tworzy się stanowisko dyrektora generalnego urzędu – dyrektora generalnego w zakresie określonym odrębnymi ustawami? \n(na każdym etapie realizacji czynności)",null,null,null,null,null,null,null,null,null,{"$f":"IF(J30=\"nie\",\"!\",\"\")","v":""}]
[]
[null,{"$f":"$B$15","v":"III.B.1."},8,"Czy w trakcie realizacji czynności zapewniono warunki niezbędne do niezależnego, obiektywnego i efektywnego prowadzenia audytu wewnętrznego?",null,null,null,null,null,null,null,null,null,{"$f":"IF(J32=\"nie\",\"!\",\"\")","v":""}]
[]
[null,{"$f":"$B$15","v":"III.B.1."},9,"Czy kierownik komórki audytu wewnętrznego skutecznie zarządzał audytem wewnętrznym \ni zapewnił przysporzenie jednostce wartości dodanej?"]
[]
[null,{"$f":"$B$15","v":"III.B.1."},10,"Czy w celu zapewnienia odpowiedniego zakresu audytu i minimalizacji powielania wysiłków, kierownik komórki audytu wewnętrznego/audytor wewnętrzny wymieniał informacje, koordynował działania i brał pod uwagę możliwość polegania na pracy innych zarówno wewnętrznych, jak i zewnętrznych wykonawców usług doradczych?"]
[]
[null,{"$f":"$B$15","v":"III.B.1."},11,"Czy audytor wewnętrzny opracował i udokumentował program zadania, obejmujący cele \ni zakres czynności, czas potrzebny do jego realizacji oraz niezbędne zasoby? "]
[]
[null,{"$f":"$B$15","v":"III.B.1."},12,"Czy audytor wewnętrzny zbierał, analizował, oceniał i dokumentował informacje wystarczające do osiągnięcia celów czynności?"]
[]
[null,{"$f":"$B$15","v":"III.B.1."},13,"Czy informacje przekazane w wyniku czynności były dokładne, obiektywne, jasne, zwięzłe, konstruktywne, kompletne oraz dostarczone na czas?"]
[]
[null,{"$f":"$B$15","v":"III.B.1."},14,"Czy czynność została zrealizowana zgodnie z zakresem i celem, uzgodnionym z kierownikiem jednostki?"]
[]
[null,{"$f":"$B$15","v":"III.B.1."},15,"Czy kierownik komórki audytu wewnętrznego/audytor wewnętrzny poinformował kierownika jednostki, że przyjęło poziom ryzyka, który może być nie do zaakceptowania dla jednostki? \n(jeżeli była taka potrzeba, w przeciwnym razie należy zaznaczyć tak i w kolumnie dowód/potwierdzenie należy wpisać nie dotyczy)"]
[]
[null,{"$f":"$B$15","v":"III.B.1."},16,"Czy kierownik komórki audytu wewnętrznego/audytor wewnętrzny w wyniku przeprowadzonej czynności przedstawił propozycje dotyczące usprawnienia funkcjonowania jednostki?\n(jeżeli była taka potrzeba, w przeciwnym razie należy zaznaczyć tak i w kolumnie dowód/potwierdzenie należy wpisać nie dotyczy)"]

{"sheet":"Informacja 1","index":26,"n_rows":14,"n_cols":3,"rows_kept":14,"cut":false,"hidden":false,"merged":[[14,0,14,2],[15,0,15,2],[16,0,16,2]]}
["3. Analiza zasobów osobowych"]
[null,"Suma osobodni ujętych w planie audytu opracowanym na koniec roku poprzedzającego rok sprawozdawczy a w przypadku planu audytu sporządzonego na podstawie § 11 rozporządzenia, na dzień sporządzenia planu audytu albo uzgodnienia zadań z kierownikiem jednostki\n(audytorów wewnętrznych i osób na pozostałych stanowiskach2))","Suma osobodni  wykorzystanych w roku sprawozdawczym\n(audytorów wewnętrznych \ni osób na pozostałych stanowiskach)"]
[1,2,6]
["3.1. Planowanie i sprawozdawczość (tj. przygotowanie: rocznego planu, uzgodnienie z kierownikiem jednostki zakresu realizacji planu audytu, opracowanie sprawozdania z wykonania planu, informacji o realizacji zadań z zakresu audytu)"]
["3.2. Planowanie, wykonanie i dokumentowanie zadań zapewniających \n(tj. wszystkie czynności związane z przeprowadzaniem\ni dokumentowaniem zadań zapewniających)"]
["3.3. Planowanie, wykonanie i dokumentowanie czynności doradczych\n(tj. wszystkie czynności związane z przeprowadzaniem\ni dokumentowaniem czynności doradczych, w tym: uczestnictwo \nw zespołach, posiedzeniach kierownictwa jednostki, opiniowanie dokumentów, prowadzenie szkoleń itp.)"]
["3.4. Monitorowanie wykonania zaleceń oraz przeprowadzanie czynności sprawdzających (tj. monitorowanie, o którym mowa w § 20 rozporządzenia, oraz czynności sprawdzające, o których mowa w § 21 rozporządzenia)"]
["3.5. Czynności związane z obsługą komitetu audytu (tj. czynności,\no których mowa w art. 291 ustawy)"]
["3.6. Szkolenia i rozwój zawodowy (w tym samodoskonalenie zawodowe)3)"]
["3.7. Urlopy i inne nieobecności3)"]
["3.8. Inne czynności niż wymienione w pkt 3.1. - 3.7. (np. aktualizacja księgi procedur)"]
["3.9. Rezerwa3)"]
["3.9.1. w tym rezerwa na audyt zlecony"]
["3.10. Suma",{"$f":"SUM(B4:B12)","v":0},{"$f":"SUM(C4:C11)","v":0}]

{"sheet":"Informacja 2","index":27,"n_rows":33,"n_cols":5,"rows_kept":33,"cut":false,"hidden":false,"merged":[[31,1,31,2],[31,3,31,4],[32,1,32,2],[32,3,32,4],[27,1,27,2],[27,3,27,4],[28,0,28,4],[29,1,29,2],[29,3,29,4],[30,1,30,2],[30,3,30,4],[26,1,26,2],[26,3,26,4],[19,0,19,4],[20,1,20,2],[20,3,20,4],[21,0,21,4],[22,1,22,2],[22,3,22,4],[23,1,23,2],[23,3,23,4],[24,0,24,4],[25,1,25,2],[25,3,25,4],[14,0,14,4],[0,0,0,4],[2,0,2,4],[3,0,3,4],[7,0,7,4],[11,0,11,4]]}
["6. Realizacja zadań zapewniających\n(w przypadku planu audytu uwzględniającego zmiany wprowadzone na podstawie §10 rozporządzenia należy rozliczyć liczbę zadań z pkt 5 kol. 3)"]
[null,"Liczba zadań ","Suma osobodni wykorzystanych w roku sprawozdawczym na zadania zapewniające (audytorów wewnętrznych i osób na pozostałych stanowiskach)","Liczba wydanych zaleceń zawartych \nw sprawozdaniach","Liczba zaleceń uznanych za zasadne przez kierownika komórki audytowanej lub kierownika jednostki"]
["6.1. Zadania zapewniające z wyłączeniem audytu zleconego"]
["6.1.1. Zadania planowane (zadania, o których mowa w pkt 5.3.)"]
["a) zakończone"]
["b) rozpoczęte i niezakończone"]
["c) niezrealizowane"]
["6.1.2. Zadania kontynuowane z lat poprzednich (zadania, o których mowa w pkt 5.2.)"]
["a) zakończone"]
["b) niezakończone"]
["c) niezrealizowane"]
["6.1.3. Zadania, które nie zostały ujęte w planie audytu na rok sprawozdawczy"]
["a) zakończone"]
["b) rozpoczęte i niezakończone"]
["6.2. Audyt zlecony"]
["6.2.1. Zadania zakończone"]
["6.2.2. Zadania rozpoczęte i niezakończone"]
["6.2.3. Zadania niezrealizowane"]
["6.3. Suma zadań zapewniających",{"$f":"SUM(B5:B7,B9:B11,B13:B14,B16:B18)","v":0},{"$f":"SUM(C5:C6,C9:C10,C13:C14,C16:C18)","v":0},{"$f":"SUM(D5,D9,D13,D16)","v":0},{"$f":"SUM(E5,E9,E13,E16)","v":0}]
["7. Realizacja czynności doradczych"]
[null,"Liczba czynności doradczych",null,"Suma osobodni wykorzystanych na czynności doradcze (audytorów wewnętrznych i osób na pozostałych stanowiskach)"]
["7.1. Czynności doradcze z wyłączeniem audytu zleconego"]
["7.1.1. Czynności zakończone"]
["7.1.2. Czynności rozpoczęte i niezakończone"]
["7.2. Audyt zlecony"]
["7.2.1. Czynności zakończone"]
["7.2.2. Czynności rozpoczęte i niezakończone"]
["7.3. Suma czynności doradczych",{"$f":"SUM(B23:C24,B26:C27)","v":0},null,{"$f":"SUM(D23:E24,D26:E27)","v":0}]
["8. Realizacja czynności sprawdzających"]
[null,"Liczba czynności sprawdzających",null,"Suma osobodni wykorzystanych na  czynności sprawdzające (audytorów wewnętrznych i osób na pozostałych stanowiskach)"]
["8.1. Zakończone"]
["8.2. Rozpoczęte i niezakończone"]
["8.3. Suma czynności sprawdzających",{"$f":"SUM(B31:C32)","v":0},null,{"$f":"SUM(D31:E32)","v":0}]

{"sheet":"Wskaźniki benchmarkingowe","index":28,"n_rows":26,"n_cols":9,"rows_kept":26,"cut":false,"hidden":false,"merged":[[5,4,5,6],[1,1,1,8]]}
[]
[null,"Wybrane wskaźniki dotyczące funkcjonowania audytu wewnętrznego obliczone według zasad przyjętych w raporcie opracowanym przez Departament Polityki Wydatkowej \nBenchmarking Audytu Wewnętrznego w Jednostkach Sektora Finansów Publicznych"]
[]
[]
[]
[null,"nazwa wskaźnika","poziom wskaźnika",null,"numery wykresów w raporcie benchmarkingowym",null,null,null,"uwagi po dokonaniu porównań do danych zawartych w raporcie benchmarkingowym"]
[]
[null,"Liczba zakończonych zadań zapewniających",{"$f":"'Informacja 2'!B5+'Informacja 2'!B9+'Informacja 2'!B13+'Informacja 2'!B16","v":0},null,null,"7 - 12"]
[]
[null,"Procent wykorzystanych osobodni naszkolenia i rozwój zawodowy w odniesieniu dołącznego budżetu czasu KAW",{"$f":"'Informacja 1'!C9/'Informacja 1'!C14","v":{"$error":"#DIV/0!"}},null,null,"37 - 42"]
[]
[null,"Pracochłonność zadań zapewniających",{"$f":"('Informacja 2'!C5+'Informacja 2'!C13+'Informacja 2'!C16)/SUM('Informacja 2'!B5+'Informacja 2'!B13+'Informacja 2'!B16)","v":{"$error":"#DIV/0!"}},null,null,"43 - 48"]
[]
[null,"Pracochłonność czynności sprawdzających",{"$f":"'Informacja 2'!D31/'Informacja 2'!B31","v":{"$error":"#DIV/0!"}},null,null,"49 - 54"]
[]
[null,"Średni czas przeznaczony na czynności doradcze",{"$f":"'Informacja 2'!D23+'Informacja 2'!D26","v":0},null,null,"55 - 60"]
[]
[null,"Stopień realizacji planu audytu",{"$f":"'Informacja 2'!B5/('Informacja 2'!B5+'Informacja 2'!B6+'Informacja 2'!B7)","v":{"$error":"#DIV/0!"}},null,null,"61 - 66"]
[]
[null,"Wydajny czas audytu 1",{"$f":"('Informacja 2'!C19+'Informacja 2'!D28+'Informacja 2'!D31)/'Informacja 1'!C14","v":{"$error":"#DIV/0!"}},null,null,"67 - 72"]
[]
[null,"Wydajny czas audytu 2",{"$f":"('Informacja 2'!C19+'Informacja 2'!D28+'Informacja 2'!D33)/('Informacja 1'!C14-'Informacja 1'!C10)","v":{"$error":"#DIV/0!"}},null,null,"73 - 78"]
[]
[null,"Wydajny czas audytu 3",{"$f":"('Informacja 1'!C4+'Informacja 1'!C5+'Informacja 1'!C6+'Informacja 1'!C7)/'Informacja 1'!C14","v":{"$error":"#DIV/0!"}},null,null,"79 - 84"]
[]
[null,"Procent zaleceń uznanych za zasadne",{"$f":"'Informacja 2'!E19/'Informacja 2'!D19","v":{"$error":"#DIV/0!"}},null,null,"85 - 90"]

{"sheet":"Analiza budżetu czasu","index":29,"n_rows":23,"n_cols":31,"rows_kept":23,"cut":false,"hidden":false,"merged":[[21,2,21,3],[22,1,22,3],[18,2,18,3],[18,25,18,28],[19,2,19,3],[20,2,20,3],[15,2,15,3],[15,25,15,28],[16,2,16,3],[16,25,16,28],[17,2,17,3],[17,25,17,28],[12,1,12,3],[12,25,12,28],[13,2,13,3],[13,25,13,28],[14,2,14,3],[14,25,14,28],[9,21,9,22],[9,23,9,24],[10,25,10,28],[11,1,11,3],[11,4,11,5],[11,6,11,7],[11,25,11,28],[0,0,0,7],[2,0,5,20],[6,2,6,6],[7,1,8,6],[7,7,8,7],[7,8,8,8]]}
[]
[]
["Quality @w "]
[]
[]
[]
[]
[null,{"$f":"'Strona tytułowa'!$H$16","v":0},null,null,null,null,null,{"$f":"'Strona tytułowa'!$F$16","v":0},{"$f":"'Strona tytułowa'!$B$2","v":"ver.2.0.2018"}]
[]
[null,null,null,null,null,null,null,null,null,null,null,null,null,null,null,null,null,null,null,null,null,"wykonanie",null,"plan"]
[null,null,null,null,null,null,null,null,null,null,null,null,null,null,null,null,null,null,null,null,null,{"$f":"W11/$W$20","v":{"$error":"#DIV/0!"}},{"$f":"G14","v":0},{"$f":"Y11/$Y$20","v":{"$error":"#DIV/0!"}},{"$f":"E14","v":0},"Planowanie i sprawozdawczość ",null,null,null,{"$f":"F14","v":{"$error":"#DIV/0!"}},{"$f":"H14","v":{"$error":"#DIV/0!"}}]
[null,"DANE ŹRÓDŁOWE:",null,null,"Plan ",null,"Wykonanie",null,null,null,null,null,null,null,null,null,null,null,null,null,null,{"$f":"W12/$W$20","v":{"$error":"#DIV/0!"}},0,{"$f":"Y12/$Y$20","v":{"$error":"#DIV/0!"}},0,"Planowanie, wykonanie i dokumentowanie zadań zapewniających ",null,null,null,{"$error":"#DIV/0!"},{"$error":"#DIV/0!"}]
[null,null,null,null,"l. osobodni","udział %","l. osobodni","udział %","zmiana %",null,null,null,null,null,null,null,null,null,null,null,null,{"$error":"#DIV/0!"},0,{"$error":"#DIV/0!"},0,"Planowanie, wykonanie i dokumentowanie czynności doradczych",null,null,null,{"$error":"#DIV/0!"},{"$error":"#DIV/0!"}]
[null,1,"Planowanie i sprawozdawczość \n(tj. przygotowanie: rocznego planu, uzgodnienie z kierownikiem jednostki zakresu realizacji planu audytu, opracowanie sprawozdania z wykonania planu, informacji o realizacji zadań z zakresu audytu)",null,{"$f":"'Informacja 1'!B4","v":0},{"$f":"E14/$E$23","v":{"$error":"#DIV/0!"}},{"$f":"'Informacja 1'!C4","v":0},{"$f":"G14/$G$23","v":{"$error":"#DIV/0!"}},{"$f":"H14-F14","v":{"$error":"#DIV/0!"}},null,null,null,null,null,null,null,null,null,null,null,null,{"$error":"#DIV/0!"},0,{"$error":"#DIV/0!"},0,"Monitorowanie wykonania zaleceń i czynności sprawdzające ",null,null,null,{"$error":"#DIV/0!"},{"$error":"#DIV/0!"}]
[null,2,"Planowanie, wykonanie i dokumentowanie \nzadań zapewniających \n(tj. wszystkie czynności związane z przeprowadzaniem\ni dokumentowaniem zadań zapewniających)",null,{"$f":"'Informacja 1'!B5","v":0},{"$f":"E15/$E$23","v":{"$error":"#DIV/0!"}},{"$f":"'Informacja 1'!C5","v":0},{"$f":"G15/$G$23","v":{"$error":"#DIV/0!"}},{"$f":"H15-F15","v":{"$error":"#DIV/0!"}},null,null,null,null,null,null,null,null,null,null,null,null,{"$error":"#DIV/0!"},0,{"$error":"#DIV/0!"},0,"Czynności związane z obsługą Komitetu audytu",null,null,null,{"$error":"#DIV/0!"},{"$error":"#DIV/0!"}]
[null,3,"Planowanie, wykonanie i dokumentowanie \nczynności doradczych\n(tj. wszystkie czynności związane z przeprowadzaniem\ni dokumentowaniem czynności doradczych, w tym: uczestnictwo w zespołach, posiedzeniach kierownictwa jednostki, opiniowanie dokumentów, prowadzenie szkoleń itp.)",null,{"$f":"'Informacja 1'!B6","v":0},{"$error":"#DIV/0!"},{"$f":"'Informacja 1'!C6","v":0},{"$error":"#DIV/0!"},{"$error":"#DIV/0!"},null,null,null,null,null,null,null,null,null,null,null,null,{"$error":"#DIV/0!"},0,{"$error":"#DIV/0!"},0,"Szkolenia i rozwój zawodowy ",null,null,null,{"$error":"#DIV/0!"},{"$error":"#DIV/0!"}]
[null,4,"Monitorowanie wykonania zaleceń oraz przeprowadzanie czynności sprawdzających \n(tj. monitorowanie, o którym mowa w § 20 rozporządzenia, oraz czynności sprawdzające, o których mowa w § 21 rozporządzenia)",null,{"$f":"'Informacja 1'!B7","v":0},{"$error":"#DIV/0!"},{"$f":"'Informacja 1'!C7","v":0},{"$error":"#DIV/0!"},{"$error":"#DIV/0!"},null,null,null,null,null,null,null,null,null,null,null,null,null,null,{"$error":"#DIV/0!"},null,"Urlopy i inne nieobecności",null,null,null,{"$error":"#DIV/0!"},{"$error":"#DIV/0!"}]
[null,5,"Czynności związane z obsługą Komitetu audytu \n(tj. czynności, o których mowa w art. 291 ustawy)",null,{"$f":"'Informacja 1'!B8","v":0},{"$error":"#DIV/0!"},{"$f":"'Informacja 1'!C8","v":0},{"$error":"#DIV/0!"},{"$error":"#DIV/0!"},null,null,null,null,null,null,null,null,null,null,null,null,{"$error":"#DIV/0!"},0,{"$error":"#DIV/0!"},0,"Inne czynności ",null,null,null,{"$error":"#DIV/0!"},{"$error":"#DIV/0!"}]
[null,6,"Szkolenia i rozwój zawodowy \n(w tym samodoskonalenie zawodowe)",null,{"$f":"'Informacja 1'!B9","v":0},{"$error":"#DIV/0!"},{"$f":"'Informacja 1'!C9","v":0},{"$error":"#DIV/0!"},{"$error":"#DIV/0!"},null,null,null,null,null,null,null,null,null,null,null,null,null,null,{"$error":"#DIV/0!"},0,"Rezerwa",null,null,null,{"$error":"#DIV/0!"}]
[null,7,"Urlopy i inne nieobecności",null,{"$f":"'Informacja 1'!B10","v":0},{"$error":"#DIV/0!"},{"$f":"'Informacja 1'!C10","v":0},{"$error":"#DIV/0!"},{"$error":"#DIV/0!"},null,null,null,null,null,null,null,null,null,null,null,null,null,{"$f":"SUM(W11:W19)","v":0},{"$f":"SUM(X11:X19)","v":{"$error":"#DIV/0!"}},{"$f":"SUM(Y11:Y19)","v":0},null,null,null,null,{"$f":"SUM(AD11:AD19)","v":{"$error":"#DIV/0!"}},{"$f":"SUM(AE11:AE19)","v":{"$error":"#DIV/0!"}}]
[null,8,"Inne czynności niż wymienione w pkt 1 - 7 \n(np. aktualizacja księgi procedur)",null,{"$f":"'Informacja 1'!B11","v":0},{"$error":"#DIV/0!"},{"$f":"'Informacja 1'!C11","v":0},{"$error":"#DIV/0!"},{"$error":"#DIV/0!"}]
[null,9,"Rezerwa, na audyt zlecony",null,{"$f":"'Informacja 1'!B12","v":0},{"$error":"#DIV/0!"}]
[null,"SUMA:",null,null,{"$f":"SUM(E14:E22)","v":0},{"$f":"SUM(F14:F22)","v":{"$error":"#DIV/0!"}},{"$f":"SUM(G14:G22)","v":0},{"$f":"SUM(H14:H22)","v":{"$error":"#DIV/0!"}}]

{"sheet":"listy","index":30,"n_rows":19,"n_cols":3,"rows_kept":19,"cut":false,"hidden":true,"merged":[]}
[2018,null,"tak"]
[2019,null,"nie"]
[2020]
[2021]
[2022]
[2023]
[2024]
[2025]
[2026]
[2027]
[2028]
[2029]
[2030]
[2031]
[2032]
[]
[]
[]
["szczegółowe informacje w zakładkach poszczegółnych zadań"]